Back to Multiple platform build/check report for BioC 3.13
ABCDEFGHIJKLMN[O]PQRSTUVWXYZ

This page was generated on 2021-06-17 02:38:04 -0400 (Thu, 17 Jun 2021).

All results for package OncoSimulR

To the developers/maintainers of the OncoSimulR package:
- Please allow up to 24 hours (and sometimes 48 hours) for your latest push to git@git.bioconductor.org:packages/OncoSimulR.git to
reflect on this report. See How and When does the builder pull? When will my changes propagate? here for more information.
- Make sure to use the following settings in order to reproduce any error or warning you see on this page.

raw results

Package 1308/2041HostnameOS / ArchINSTALLBUILDCHECKBUILD BIN
OncoSimulR 3.0.0  (landing page)
Ramon Diaz-Uriarte
Snapshot Date: 2021-06-15 06:50:12 -0400 (Tue, 15 Jun 2021)
URL: https://git.bioconductor.org/packages/OncoSimulR
Branch: RELEASE_3_13
Last Commit: 3add541
Last Changed Date: 2021-05-19 12:06:18 -0400 (Wed, 19 May 2021)
nebbiolo1Linux (Ubuntu 20.04.2 LTS) / x86_64  OK    OK    OK  UNNEEDED, same version is already published
tokay2Windows Server 2012 R2 Standard / x64  OK    OK    OK    OK  UNNEEDED, same version is already published
machv2macOS 10.14.6 Mojave / x86_64  OK    OK    OK    OK  UNNEEDED, same version is already published