Back to Multiple platform build/check report for BioC 3.13
ABCDEFGHIJKLM[N]OPQRSTUVWXYZ

This page was generated on 2021-08-02 15:05:21 -0400 (Mon, 02 Aug 2021).

BUILD results for NetSAM on tokay2

To the developers/maintainers of the NetSAM package:
- Please allow up to 24 hours (and sometimes 48 hours) for your latest push to git@git.bioconductor.org:packages/NetSAM.git to
reflect on this report. See How and When does the builder pull? When will my changes propagate? here for more information.
- Make sure to use the following settings in order to reproduce any error or warning you see on this page.

raw results

Package 1268/2041HostnameOS / ArchINSTALLBUILDCHECKBUILD BIN
NetSAM 1.32.0  (landing page)
Zhiao Shi
Snapshot Date: 2021-08-01 04:50:10 -0400 (Sun, 01 Aug 2021)
URL: https://git.bioconductor.org/packages/NetSAM
Branch: RELEASE_3_13
Last Commit: f04aab5
Last Changed Date: 2021-05-19 11:59:14 -0400 (Wed, 19 May 2021)
nebbiolo1Linux (Ubuntu 20.04.2 LTS) / x86_64  OK    OK    OK  UNNEEDED, same version is already published
tokay2Windows Server 2012 R2 Standard / x64  OK    OK    ERROR    OK  
machv2macOS 10.14.6 Mojave / x86_64  OK    OK    OK    OK  UNNEEDED, same version is already published

Summary

Package: NetSAM
Version: 1.32.0
Command: chmod a+r NetSAM -R && C:\Users\biocbuild\bbs-3.13-bioc\R\bin\R.exe CMD build --keep-empty-dirs --no-resave-data NetSAM
StartedAt: 2021-08-01 16:24:43 -0400 (Sun, 01 Aug 2021)
EndedAt: 2021-08-01 16:25:20 -0400 (Sun, 01 Aug 2021)
EllapsedTime: 37.0 seconds
RetCode: 0
Status:   OK  
PackageFile: NetSAM_1.32.0.tar.gz
PackageFileSize: 1.029 MiB

Command output

##############################################################################
##############################################################################
###
### Running command:
###
###   chmod a+r NetSAM -R && C:\Users\biocbuild\bbs-3.13-bioc\R\bin\R.exe CMD build --keep-empty-dirs --no-resave-data NetSAM
###
##############################################################################
##############################################################################


* checking for file 'NetSAM/DESCRIPTION' ... OK
* preparing 'NetSAM':
* checking DESCRIPTION meta-information ... OK
* installing the package to build vignettes
* creating vignettes ... OK
* checking for LF line-endings in source and make files and shell scripts
* checking for empty or unneeded directories
* looking to see if a 'data/datalist' file should be added
* building 'NetSAM_1.32.0.tar.gz'