Back to Multiple platform build/check report for BioC 3.13
ABCDEFGHIJKLM[N]OPQRSTUVWXYZ

BUILD BIN results for NetSAM on machv2

This page was generated on 2021-06-14 14:05:48 -0400 (Mon, 14 Jun 2021).

Package 1268/2041HostnameOS / ArchINSTALLBUILDCHECKBUILD BIN
NetSAM 1.32.0  (landing page)
Zhiao Shi
Snapshot Date: 2021-06-13 06:50:09 -0400 (Sun, 13 Jun 2021)
URL: https://git.bioconductor.org/packages/NetSAM
Branch: RELEASE_3_13
Last Commit: f04aab5
Last Changed Date: 2021-05-19 11:59:14 -0400 (Wed, 19 May 2021)
nebbiolo1Linux (Ubuntu 20.04.2 LTS) / x86_64  OK    OK    OK  UNNEEDED, same version is already published
tokay2Windows Server 2012 R2 Standard / x64  OK    OK    ERROR    OK  
machv2macOS 10.14.6 Mojave / x86_64  OK    OK    OK    OK  UNNEEDED, same version is already published
To the developers/maintainers of the NetSAM package:
- Please allow up to 24 hours (and sometimes 48 hours) for your latest push to git@git.bioconductor.org:packages/NetSAM.git to
reflect on this report. See How and When does the builder pull? When will my changes propagate? here for more information.
- Make sure to use the following settings in order to reproduce any error or warning you see on this page.

Summary

Package: NetSAM
Version: 1.32.0
Command: rm -rf NetSAM.buildbin-libdir && mkdir NetSAM.buildbin-libdir && /Users/biocbuild/BBS/utils/build-universal.sh NetSAM_1.32.0.tar.gz /Library/Frameworks/R.framework/Versions/Current/Resources/bin/R NetSAM.buildbin-libdir
StartedAt: 2021-06-14 02:35:02 -0400 (Mon, 14 Jun 2021)
EndedAt: 2021-06-14 02:35:40 -0400 (Mon, 14 Jun 2021)
EllapsedTime: 37.7 seconds
RetCode: 0
Status:   OK  
PackageFile: NetSAM_1.32.0.tgz
PackageFileSize: 1.225 MiB

Command output

##############################################################################
##############################################################################
###
### Running command:
###
###   rm -rf NetSAM.buildbin-libdir && mkdir NetSAM.buildbin-libdir && /Users/biocbuild/BBS/utils/build-universal.sh NetSAM_1.32.0.tar.gz /Library/Frameworks/R.framework/Versions/Current/Resources/bin/R NetSAM.buildbin-libdir
###
##############################################################################
##############################################################################


>>>>>>> 
>>>>>>> INSTALLATION WITH 'R CMD INSTALL --preclean --no-multiarch --library=NetSAM.buildbin-libdir NetSAM_1.32.0.tar.gz'
>>>>>>> 

* installing *source* package ‘NetSAM’ ...
** using staged installation
** R
** data
** inst
** byte-compile and prepare package for lazy loading
** help
*** installing help indices
** building package indices
** installing vignettes
** testing if installed package can be loaded from temporary location
** testing if installed package can be loaded from final location
** testing if installed package keeps a record of temporary installation path
* DONE (NetSAM)