Back to Multiple platform build/check report for BioC 3.13
ABCDEFGHIJKLM[N]OPQRSTUVWXYZ

This page was generated on 2021-07-21 15:05:29 -0400 (Wed, 21 Jul 2021).

BUILD BIN results for NeighborNet on tokay2

To the developers/maintainers of the NeighborNet package:
- Please allow up to 24 hours (and sometimes 48 hours) for your latest push to git@git.bioconductor.org:packages/NeighborNet.git to
reflect on this report. See How and When does the builder pull? When will my changes propagate? here for more information.
- Make sure to use the following settings in order to reproduce any error or warning you see on this page.

raw results

Package 1258/2041HostnameOS / ArchINSTALLBUILDCHECKBUILD BIN
NeighborNet 1.10.0  (landing page)
Sahar Ansari
Snapshot Date: 2021-07-20 04:50:13 -0400 (Tue, 20 Jul 2021)
URL: https://git.bioconductor.org/packages/NeighborNet
Branch: RELEASE_3_13
Last Commit: 9ca22cb
Last Changed Date: 2021-05-19 12:38:31 -0400 (Wed, 19 May 2021)
nebbiolo1Linux (Ubuntu 20.04.2 LTS) / x86_64  OK    OK    OK  UNNEEDED, same version is already published
tokay2Windows Server 2012 R2 Standard / x64  OK    OK    OK    OK  UNNEEDED, same version is already published
machv2macOS 10.14.6 Mojave / x86_64  OK    OK    OK    OK  UNNEEDED, same version is already published

Summary

Package: NeighborNet
Version: 1.10.0
Command: rm -rf NeighborNet.buildbin-libdir && mkdir NeighborNet.buildbin-libdir && C:\Users\biocbuild\bbs-3.13-bioc\R\bin\R.exe CMD INSTALL --merge-multiarch --build --library=NeighborNet.buildbin-libdir NeighborNet_1.10.0.tar.gz
StartedAt: 2021-07-21 11:13:32 -0400 (Wed, 21 Jul 2021)
EndedAt: 2021-07-21 11:14:14 -0400 (Wed, 21 Jul 2021)
EllapsedTime: 42.5 seconds
RetCode: 0
Status:   OK  
PackageFile: NeighborNet_1.10.0.zip
PackageFileSize: 3.586 MiB

Command output

##############################################################################
##############################################################################
###
### Running command:
###
###   rm -rf NeighborNet.buildbin-libdir && mkdir NeighborNet.buildbin-libdir && C:\Users\biocbuild\bbs-3.13-bioc\R\bin\R.exe CMD INSTALL --merge-multiarch --build --library=NeighborNet.buildbin-libdir NeighborNet_1.10.0.tar.gz
###
##############################################################################
##############################################################################



install for i386

* installing *source* package 'NeighborNet' ...
** using staged installation
** R
** inst
** byte-compile and prepare package for lazy loading
** help
*** installing help indices
  converting help for package 'NeighborNet'
    finding HTML links ... done
    neighborNet                             html  
    finding level-2 HTML links ... done

** building package indices
** installing vignettes
** testing if installed package can be loaded from temporary location
** testing if installed package can be loaded from final location
** testing if installed package keeps a record of temporary installation path

install for x64

* installing *source* package 'NeighborNet' ...
** testing if installed package can be loaded
* MD5 sums
packaged installation of 'NeighborNet' as NeighborNet_1.10.0.zip
* DONE (NeighborNet)