Index of /checkResults/3.13/bioc-LATEST/NeighborNet/raw-results

[ICO]NameLast modifiedSizeDescription

[DIR]Parent Directory  -  
[DIR]machv2/05-Aug-2021 04:06 -  
[DIR]nebbiolo1/05-Aug-2021 04:05 -  
[DIR]tokay2/05-Aug-2021 04:05 -