Back to Multiple platform build/check report for BioC 3.13
ABCDEFGHIJKLM[N]OPQRSTUVWXYZ

This page was generated on 2021-06-17 02:39:17 -0400 (Thu, 17 Jun 2021).

BUILD results for NeighborNet on machv2

To the developers/maintainers of the NeighborNet package:
- Please allow up to 24 hours (and sometimes 48 hours) for your latest push to git@git.bioconductor.org:packages/NeighborNet.git to
reflect on this report. See How and When does the builder pull? When will my changes propagate? here for more information.
- Make sure to use the following settings in order to reproduce any error or warning you see on this page.

raw results

Package 1258/2041HostnameOS / ArchINSTALLBUILDCHECKBUILD BIN
NeighborNet 1.10.0  (landing page)
Sahar Ansari
Snapshot Date: 2021-06-15 06:50:12 -0400 (Tue, 15 Jun 2021)
URL: https://git.bioconductor.org/packages/NeighborNet
Branch: RELEASE_3_13
Last Commit: 9ca22cb
Last Changed Date: 2021-05-19 12:38:31 -0400 (Wed, 19 May 2021)
nebbiolo1Linux (Ubuntu 20.04.2 LTS) / x86_64  OK    OK    OK  UNNEEDED, same version is already published
tokay2Windows Server 2012 R2 Standard / x64  OK    OK    OK    OK  UNNEEDED, same version is already published
machv2macOS 10.14.6 Mojave / x86_64  OK    OK    OK    OK  UNNEEDED, same version is already published

Summary

Package: NeighborNet
Version: 1.10.0
Command: /Library/Frameworks/R.framework/Versions/Current/Resources/bin/R CMD build --keep-empty-dirs --no-resave-data NeighborNet
StartedAt: 2021-06-15 13:22:20 -0400 (Tue, 15 Jun 2021)
EndedAt: 2021-06-15 13:22:42 -0400 (Tue, 15 Jun 2021)
EllapsedTime: 22.1 seconds
RetCode: 0
Status:   OK  
PackageFile: NeighborNet_1.10.0.tar.gz
PackageFileSize: 3.617 MiB

Command output

##############################################################################
##############################################################################
###
### Running command:
###
###   /Library/Frameworks/R.framework/Versions/Current/Resources/bin/R CMD build --keep-empty-dirs --no-resave-data NeighborNet
###
##############################################################################
##############################################################################


* checking for file ‘NeighborNet/DESCRIPTION’ ... OK
* preparing ‘NeighborNet’:
* checking DESCRIPTION meta-information ... OK
* installing the package to build vignettes
* creating vignettes ... OK
* checking for LF line-endings in source and make files and shell scripts
* checking for empty or unneeded directories
Omitted ‘LazyData’ from DESCRIPTION
* building ‘NeighborNet_1.10.0.tar.gz’