Back to Multiple platform build/check report for BioC 3.13
ABCDEFGHIJKLM[N]OPQRSTUVWXYZ

This page was generated on 2021-06-18 14:05:53 -0400 (Fri, 18 Jun 2021).

BUILD results for NCIgraph on nebbiolo1

To the developers/maintainers of the NCIgraph package:
- Please allow up to 24 hours (and sometimes 48 hours) for your latest push to git@git.bioconductor.org:packages/NCIgraph.git to
reflect on this report. See How and When does the builder pull? When will my changes propagate? here for more information.
- Make sure to use the following settings in order to reproduce any error or warning you see on this page.

raw results

Package 1253/2041HostnameOS / ArchINSTALLBUILDCHECKBUILD BIN
NCIgraph 1.40.0  (landing page)
Laurent Jacob
Snapshot Date: 2021-06-17 06:50:12 -0400 (Thu, 17 Jun 2021)
URL: https://git.bioconductor.org/packages/NCIgraph
Branch: RELEASE_3_13
Last Commit: b75cc38
Last Changed Date: 2021-05-19 11:48:14 -0400 (Wed, 19 May 2021)
nebbiolo1Linux (Ubuntu 20.04.2 LTS) / x86_64  OK    OK    OK  UNNEEDED, same version is already published
tokay2Windows Server 2012 R2 Standard / x64... NOT SUPPORTED ...
machv2macOS 10.14.6 Mojave / x86_64... NOT SUPPORTED ...

Summary

Package: NCIgraph
Version: 1.40.0
Command: /home/biocbuild/bbs-3.13-bioc/R/bin/R CMD build --keep-empty-dirs --no-resave-data NCIgraph
StartedAt: 2021-06-17 09:50:40 -0400 (Thu, 17 Jun 2021)
EndedAt: 2021-06-17 09:50:56 -0400 (Thu, 17 Jun 2021)
EllapsedTime: 16.6 seconds
RetCode: 0
Status:   OK  
PackageFile: NCIgraph_1.40.0.tar.gz
PackageFileSize: 250.8 KiB

Command output

##############################################################################
##############################################################################
###
### Running command:
###
###   /home/biocbuild/bbs-3.13-bioc/R/bin/R CMD build --keep-empty-dirs --no-resave-data NCIgraph
###
##############################################################################
##############################################################################


* checking for file ‘NCIgraph/DESCRIPTION’ ... OK
* preparing ‘NCIgraph’:
* checking DESCRIPTION meta-information ... OK
* installing the package to build vignettes
* creating vignettes ... OK
* checking for LF line-endings in source and make files and shell scripts
* checking for empty or unneeded directories
* looking to see if a ‘data/datalist’ file should be added
* building ‘NCIgraph_1.40.0.tar.gz’