Back to Multiple platform build/check report for BioC 3.13
ABCDEFGHIJKLM[N]OPQRSTUVWXYZ

This page was generated on 2021-09-20 15:05:21 -0400 (Mon, 20 Sep 2021).

INSTALL results for NADfinder on tokay2

To the developers/maintainers of the NADfinder package:
- Please allow up to 24 hours (and sometimes 48 hours) for your latest push to git@git.bioconductor.org:packages/NADfinder.git to
reflect on this report. See How and When does the builder pull? When will my changes propagate? here for more information.
- Make sure to use the following settings in order to reproduce any error or warning you see on this page.

raw results

Package 1243/2041HostnameOS / ArchINSTALLBUILDCHECKBUILD BIN
NADfinder 1.16.0  (landing page)
Jianhong Ou
Snapshot Date: 2021-09-19 04:50:10 -0400 (Sun, 19 Sep 2021)
git_url: https://git.bioconductor.org/packages/NADfinder
git_branch: RELEASE_3_13
git_last_commit: e592a6b
git_last_commit_date: 2021-05-19 12:26:57 -0400 (Wed, 19 May 2021)
nebbiolo1Linux (Ubuntu 20.04.2 LTS) / x86_64  OK    OK    OK  UNNEEDED, same version is already published
tokay2Windows Server 2012 R2 Standard / x64  OK    OK    OK    OK  UNNEEDED, same version is already published
machv2macOS 10.14.6 Mojave / x86_64  OK    OK    OK    OK  UNNEEDED, same version is already published

Summary

Package: NADfinder
Version: 1.16.0
Command: C:\cygwin\bin\curl.exe -O http://155.52.207.165/BBS/3.13/bioc/src/contrib/NADfinder_1.16.0.tar.gz && rm -rf NADfinder.buildbin-libdir && mkdir NADfinder.buildbin-libdir && C:\Users\biocbuild\bbs-3.13-bioc\R\bin\R.exe CMD INSTALL --merge-multiarch --build --library=NADfinder.buildbin-libdir NADfinder_1.16.0.tar.gz && C:\Users\biocbuild\bbs-3.13-bioc\R\bin\R.exe CMD INSTALL NADfinder_1.16.0.zip && rm NADfinder_1.16.0.tar.gz NADfinder_1.16.0.zip
StartedAt: 2021-09-19 10:29:55 -0400 (Sun, 19 Sep 2021)
EndedAt: 2021-09-19 10:31:48 -0400 (Sun, 19 Sep 2021)
EllapsedTime: 112.5 seconds
RetCode: 0
Status:   OK  

Command output

##############################################################################
##############################################################################
###
### Running command:
###
###   C:\cygwin\bin\curl.exe -O http://155.52.207.165/BBS/3.13/bioc/src/contrib/NADfinder_1.16.0.tar.gz && rm -rf NADfinder.buildbin-libdir && mkdir NADfinder.buildbin-libdir && C:\Users\biocbuild\bbs-3.13-bioc\R\bin\R.exe CMD INSTALL --merge-multiarch --build --library=NADfinder.buildbin-libdir NADfinder_1.16.0.tar.gz && C:\Users\biocbuild\bbs-3.13-bioc\R\bin\R.exe CMD INSTALL NADfinder_1.16.0.zip && rm NADfinder_1.16.0.tar.gz NADfinder_1.16.0.zip
###
##############################################################################
##############################################################################


  % Total    % Received % Xferd  Average Speed   Time    Time     Time  Current
                                 Dload  Upload   Total   Spent    Left  Speed

  0     0    0     0    0     0      0      0 --:--:-- --:--:-- --:--:--     0
 25 5400k   25 1377k    0     0  1853k      0  0:00:02 --:--:--  0:00:02 1853k
 82 5400k   82 4442k    0     0  2550k      0  0:00:02  0:00:01  0:00:01 2550k
100 5400k  100 5400k    0     0  2697k      0  0:00:02  0:00:02 --:--:-- 2699k

install for i386

* installing *source* package 'NADfinder' ...
** using staged installation
** R
** data
*** moving datasets to lazyload DB
** inst
** byte-compile and prepare package for lazy loading
** help
*** installing help indices
  converting help for package 'NADfinder'
    finding HTML links ... done
    IntersectionNotStrict                   html  
    NADfinder-package                       html  
    backgroundCorrection                    html  
    butterFilter                            html  
    callPeaks                               html  
    computeLibSizeChrom                     html  
    cumulativePercentage                    html  
    exportSignals                           html  
    getCorrelations                         html  
    groupZscores                            html  
    log2se                                  html  
    peakdet                                 html  
    plotSig                                 html  
    single.count                            html  
    smoothRatiosByChromosome                html  
    tileCount                               html  
    tileCount2                              html  
    transformData                           html  
    trimPeaks                               html  
    triplicate.count                        html  
    zscoreOverBck                           html  
** building package indices
** installing vignettes
** testing if installed package can be loaded from temporary location
** testing if installed package can be loaded from final location
** testing if installed package keeps a record of temporary installation path

install for x64

* installing *source* package 'NADfinder' ...
** testing if installed package can be loaded
* MD5 sums
packaged installation of 'NADfinder' as NADfinder_1.16.0.zip
* DONE (NADfinder)
* installing to library 'C:/Users/biocbuild/bbs-3.13-bioc/R/library'
package 'NADfinder' successfully unpacked and MD5 sums checked