Back to Multiple platform build/check report for BioC 3.13
ABCDEFGHIJKLM[N]OPQRSTUVWXYZ

This page was generated on 2021-09-20 15:04:55 -0400 (Mon, 20 Sep 2021).

BUILD results for NADfinder on nebbiolo1

To the developers/maintainers of the NADfinder package:
- Please allow up to 24 hours (and sometimes 48 hours) for your latest push to git@git.bioconductor.org:packages/NADfinder.git to
reflect on this report. See How and When does the builder pull? When will my changes propagate? here for more information.
- Make sure to use the following settings in order to reproduce any error or warning you see on this page.

raw results

Package 1243/2041HostnameOS / ArchINSTALLBUILDCHECKBUILD BIN
NADfinder 1.16.0  (landing page)
Jianhong Ou
Snapshot Date: 2021-09-19 04:50:10 -0400 (Sun, 19 Sep 2021)
git_url: https://git.bioconductor.org/packages/NADfinder
git_branch: RELEASE_3_13
git_last_commit: e592a6b
git_last_commit_date: 2021-05-19 12:26:57 -0400 (Wed, 19 May 2021)
nebbiolo1Linux (Ubuntu 20.04.2 LTS) / x86_64  OK    OK    OK  UNNEEDED, same version is already published
tokay2Windows Server 2012 R2 Standard / x64  OK    OK    OK    OK  UNNEEDED, same version is already published
machv2macOS 10.14.6 Mojave / x86_64  OK    OK    OK    OK  UNNEEDED, same version is already published

Summary

Package: NADfinder
Version: 1.16.0
Command: /home/biocbuild/bbs-3.13-bioc/R/bin/R CMD build --keep-empty-dirs --no-resave-data NADfinder
StartedAt: 2021-09-19 07:47:57 -0400 (Sun, 19 Sep 2021)
EndedAt: 2021-09-19 07:51:06 -0400 (Sun, 19 Sep 2021)
EllapsedTime: 189.0 seconds
RetCode: 0
Status:   OK  
PackageFile: NADfinder_1.16.0.tar.gz
PackageFileSize: 5.972 MiB

Command output

##############################################################################
##############################################################################
###
### Running command:
###
###   /home/biocbuild/bbs-3.13-bioc/R/bin/R CMD build --keep-empty-dirs --no-resave-data NADfinder
###
##############################################################################
##############################################################################


* checking for file ‘NADfinder/DESCRIPTION’ ... OK
* preparing ‘NADfinder’:
* checking DESCRIPTION meta-information ... OK
* installing the package to build vignettes
* creating vignettes ... OK
* checking for LF line-endings in source and make files and shell scripts
* checking for empty or unneeded directories
* building ‘NADfinder_1.16.0.tar.gz’