Back to Multiple platform build/check report for BioC 3.13
ABCDEFGHIJKL[M]NOPQRSTUVWXYZ

This page was generated on 2021-06-18 14:06:50 -0400 (Fri, 18 Jun 2021).

BUILD results for MineICA on machv2

To the developers/maintainers of the MineICA package:
- Please allow up to 24 hours (and sometimes 48 hours) for your latest push to git@git.bioconductor.org:packages/MineICA.git to
reflect on this report. See How and When does the builder pull? When will my changes propagate? here for more information.
- Make sure to use the following settings in order to reproduce any error or warning you see on this page.

raw results

Package 1138/2041HostnameOS / ArchINSTALLBUILDCHECKBUILD BIN
MineICA 1.32.0  (landing page)
Anne Biton
Snapshot Date: 2021-06-17 06:50:12 -0400 (Thu, 17 Jun 2021)
URL: https://git.bioconductor.org/packages/MineICA
Branch: RELEASE_3_13
Last Commit: def84c7
Last Changed Date: 2021-05-19 11:57:33 -0400 (Wed, 19 May 2021)
nebbiolo1Linux (Ubuntu 20.04.2 LTS) / x86_64  OK    ERROR  skipped
tokay2Windows Server 2012 R2 Standard / x64  OK    OK    WARNINGS    OK  UNNEEDED, same version is already published
machv2macOS 10.14.6 Mojave / x86_64  OK    OK    WARNINGS    OK  UNNEEDED, same version is already published

Summary

Package: MineICA
Version: 1.32.0
Command: /Library/Frameworks/R.framework/Versions/Current/Resources/bin/R CMD build --keep-empty-dirs --no-resave-data MineICA
StartedAt: 2021-06-17 12:58:16 -0400 (Thu, 17 Jun 2021)
EndedAt: 2021-06-17 13:00:44 -0400 (Thu, 17 Jun 2021)
EllapsedTime: 148.4 seconds
RetCode: 0
Status:   OK  
PackageFile: MineICA_1.32.0.tar.gz
PackageFileSize: 1.491 MiB

Command output

##############################################################################
##############################################################################
###
### Running command:
###
###   /Library/Frameworks/R.framework/Versions/Current/Resources/bin/R CMD build --keep-empty-dirs --no-resave-data MineICA
###
##############################################################################
##############################################################################


* checking for file ‘MineICA/DESCRIPTION’ ... OK
* preparing ‘MineICA’:
* checking DESCRIPTION meta-information ... OK
* installing the package to build vignettes
* creating vignettes ... OK
* checking for LF line-endings in source and make files and shell scripts
* checking for empty or unneeded directories
* looking to see if a ‘data/datalist’ file should be added
* building ‘MineICA_1.32.0.tar.gz’