Back to Multiple platform build/check report for BioC 3.13
ABCDEFGHIJKL[M]NOPQRSTUVWXYZ

BUILD BIN results for MineICA on machv2

This page was generated on 2021-06-14 14:05:46 -0400 (Mon, 14 Jun 2021).

Package 1138/2041HostnameOS / ArchINSTALLBUILDCHECKBUILD BIN
MineICA 1.32.0  (landing page)
Anne Biton
Snapshot Date: 2021-06-13 06:50:09 -0400 (Sun, 13 Jun 2021)
URL: https://git.bioconductor.org/packages/MineICA
Branch: RELEASE_3_13
Last Commit: def84c7
Last Changed Date: 2021-05-19 11:57:33 -0400 (Wed, 19 May 2021)
nebbiolo1Linux (Ubuntu 20.04.2 LTS) / x86_64  OK    OK    WARNINGS  UNNEEDED, same version is already published
tokay2Windows Server 2012 R2 Standard / x64  OK    OK    WARNINGS    OK  UNNEEDED, same version is already published
machv2macOS 10.14.6 Mojave / x86_64  OK    OK    WARNINGS    OK  UNNEEDED, same version is already published
To the developers/maintainers of the MineICA package:
- Please allow up to 24 hours (and sometimes 48 hours) for your latest push to git@git.bioconductor.org:packages/MineICA.git to
reflect on this report. See How and When does the builder pull? When will my changes propagate? here for more information.
- Make sure to use the following settings in order to reproduce any error or warning you see on this page.

Summary

Package: MineICA
Version: 1.32.0
Command: rm -rf MineICA.buildbin-libdir && mkdir MineICA.buildbin-libdir && /Users/biocbuild/BBS/utils/build-universal.sh MineICA_1.32.0.tar.gz /Library/Frameworks/R.framework/Versions/Current/Resources/bin/R MineICA.buildbin-libdir
StartedAt: 2021-06-14 02:26:25 -0400 (Mon, 14 Jun 2021)
EndedAt: 2021-06-14 02:27:21 -0400 (Mon, 14 Jun 2021)
EllapsedTime: 55.5 seconds
RetCode: 0
Status:   OK  
PackageFile: MineICA_1.32.0.tgz
PackageFileSize: 2.276 MiB

Command output

##############################################################################
##############################################################################
###
### Running command:
###
###   rm -rf MineICA.buildbin-libdir && mkdir MineICA.buildbin-libdir && /Users/biocbuild/BBS/utils/build-universal.sh MineICA_1.32.0.tar.gz /Library/Frameworks/R.framework/Versions/Current/Resources/bin/R MineICA.buildbin-libdir
###
##############################################################################
##############################################################################


>>>>>>> 
>>>>>>> INSTALLATION WITH 'R CMD INSTALL --preclean --no-multiarch --library=MineICA.buildbin-libdir MineICA_1.32.0.tar.gz'
>>>>>>> 

* installing *source* package ‘MineICA’ ...
** using staged installation
** R
** data
** inst
** byte-compile and prepare package for lazy loading
Creating a new generic function for ‘sampleNames<-’ in package ‘MineICA’
** help
*** installing help indices
** building package indices
** installing vignettes
** testing if installed package can be loaded from temporary location
** testing if installed package can be loaded from final location
** testing if installed package keeps a record of temporary installation path
* DONE (MineICA)