Index of /checkResults/3.13/bioc-LATEST/MIGSA/raw-results/tokay2

[ICO]NameLast modifiedSizeDescription

[DIR]Parent Directory  -  
[TXT]buildbin-out.txt16-Oct-2021 04:06 3.0K 
[   ]buildbin-summary.dcf16-Oct-2021 04:06 527  
[TXT]buildsrc-out.txt16-Oct-2021 04:06 895  
[   ]buildsrc-summary.dcf16-Oct-2021 04:06 451  
[TXT]checksrc-out.txt16-Oct-2021 04:06 5.6K 
[   ]checksrc-summary.dcf16-Oct-2021 04:06 458  
[TXT]install-out.txt16-Oct-2021 04:06 3.7K 
[   ]install-summary.dcf16-Oct-2021 04:06 622