Back to Multiple platform build/check report for BioC 3.13
ABCDEFGHIJKL[M]NOPQRSTUVWXYZ

This page was generated on 2021-09-15 15:04:46 -0400 (Wed, 15 Sep 2021).

All results for package MIGSA

To the developers/maintainers of the MIGSA package:
- Please allow up to 24 hours (and sometimes 48 hours) for your latest push to git@git.bioconductor.org:packages/MIGSA.git to
reflect on this report. See How and When does the builder pull? When will my changes propagate? here for more information.
- Make sure to use the following settings in order to reproduce any error or warning you see on this page.

raw results

Package 1133/2041HostnameOS / ArchINSTALLBUILDCHECKBUILD BIN
MIGSA 1.16.0  (landing page)
Juan C. Rodriguez
Snapshot Date: 2021-09-14 04:50:06 -0400 (Tue, 14 Sep 2021)
git_url: https://git.bioconductor.org/packages/MIGSA
git_branch: RELEASE_3_13
git_last_commit: 021bffb
git_last_commit_date: 2021-05-19 12:26:14 -0400 (Wed, 19 May 2021)
nebbiolo1Linux (Ubuntu 20.04.2 LTS) / x86_64  OK    OK    OK  UNNEEDED, same version is already published
tokay2Windows Server 2012 R2 Standard / x64  OK    OK    ERROR    OK  
machv2macOS 10.14.6 Mojave / x86_64  OK    OK    OK    OK  UNNEEDED, same version is already published