Back to Multiple platform build/check report for BioC 3.13
ABCDEFGHIJKL[M]NOPQRSTUVWXYZ

This page was generated on 2021-07-23 15:06:09 -0400 (Fri, 23 Jul 2021).

BUILD results for MAIT on tokay2

To the developers/maintainers of the MAIT package:
- Please allow up to 24 hours (and sometimes 48 hours) for your latest push to git@git.bioconductor.org:packages/MAIT.git to
reflect on this report. See How and When does the builder pull? When will my changes propagate? here for more information.
- Make sure to use the following settings in order to reproduce any error or warning you see on this page.

raw results

Package 1025/2041HostnameOS / ArchINSTALLBUILDCHECKBUILD BIN
MAIT 1.26.0  (landing page)
Pol Sola-Santos
Snapshot Date: 2021-07-22 04:50:13 -0400 (Thu, 22 Jul 2021)
URL: https://git.bioconductor.org/packages/MAIT
Branch: RELEASE_3_13
Last Commit: 5d0e003
Last Changed Date: 2021-05-19 12:08:43 -0400 (Wed, 19 May 2021)
nebbiolo1Linux (Ubuntu 20.04.2 LTS) / x86_64  OK    OK    OK  UNNEEDED, same version is already published
tokay2Windows Server 2012 R2 Standard / x64  OK    OK    OK    OK  UNNEEDED, same version is already published
machv2macOS 10.14.6 Mojave / x86_64  OK    OK    OK    OK  UNNEEDED, same version is already published

Summary

Package: MAIT
Version: 1.26.0
Command: chmod a+r MAIT -R && C:\Users\biocbuild\bbs-3.13-bioc\R\bin\R.exe CMD build --keep-empty-dirs --no-resave-data MAIT
StartedAt: 2021-07-22 15:39:09 -0400 (Thu, 22 Jul 2021)
EndedAt: 2021-07-22 15:42:46 -0400 (Thu, 22 Jul 2021)
EllapsedTime: 216.7 seconds
RetCode: 0
Status:   OK  
PackageFile: MAIT_1.26.0.tar.gz
PackageFileSize: 2.292 MiB

Command output

##############################################################################
##############################################################################
###
### Running command:
###
###   chmod a+r MAIT -R && C:\Users\biocbuild\bbs-3.13-bioc\R\bin\R.exe CMD build --keep-empty-dirs --no-resave-data MAIT
###
##############################################################################
##############################################################################


* checking for file 'MAIT/DESCRIPTION' ... OK
* preparing 'MAIT':
* checking DESCRIPTION meta-information ... OK
* installing the package to build vignettes
* creating vignettes ... OK
* checking for LF line-endings in source and make files and shell scripts
* checking for empty or unneeded directories
* looking to see if a 'data/datalist' file should be added
* building 'MAIT_1.26.0.tar.gz'