Back to Multiple platform build/check report for BioC 3.13
ABCDEFGHIJK[L]MNOPQRSTUVWXYZ

This page was generated on 2021-07-23 15:06:08 -0400 (Fri, 23 Jul 2021).

BUILD BIN results for LOBSTAHS on tokay2

To the developers/maintainers of the LOBSTAHS package:
- Please allow up to 24 hours (and sometimes 48 hours) for your latest push to git@git.bioconductor.org:packages/LOBSTAHS.git to
reflect on this report. See How and When does the builder pull? When will my changes propagate? here for more information.
- Make sure to use the following settings in order to reproduce any error or warning you see on this page.

raw results

Package 995/2041HostnameOS / ArchINSTALLBUILDCHECKBUILD BIN
LOBSTAHS 1.18.0  (landing page)
James Collins
Snapshot Date: 2021-07-22 04:50:13 -0400 (Thu, 22 Jul 2021)
URL: https://git.bioconductor.org/packages/LOBSTAHS
Branch: RELEASE_3_13
Last Commit: 3b23292
Last Changed Date: 2021-05-19 12:21:39 -0400 (Wed, 19 May 2021)
nebbiolo1Linux (Ubuntu 20.04.2 LTS) / x86_64  OK    OK    WARNINGS  UNNEEDED, same version is already published
tokay2Windows Server 2012 R2 Standard / x64  OK    OK    WARNINGS    OK  UNNEEDED, same version is already published
machv2macOS 10.14.6 Mojave / x86_64  OK    OK    WARNINGS    OK  UNNEEDED, same version is already published

Summary

Package: LOBSTAHS
Version: 1.18.0
Command: rm -rf LOBSTAHS.buildbin-libdir && mkdir LOBSTAHS.buildbin-libdir && C:\Users\biocbuild\bbs-3.13-bioc\R\bin\R.exe CMD INSTALL --merge-multiarch --build --library=LOBSTAHS.buildbin-libdir LOBSTAHS_1.18.0.tar.gz
StartedAt: 2021-07-23 10:14:50 -0400 (Fri, 23 Jul 2021)
EndedAt: 2021-07-23 10:16:09 -0400 (Fri, 23 Jul 2021)
EllapsedTime: 79.3 seconds
RetCode: 0
Status:   OK  
PackageFile: LOBSTAHS_1.18.0.zip
PackageFileSize: 2.473 MiB

Command output

##############################################################################
##############################################################################
###
### Running command:
###
###   rm -rf LOBSTAHS.buildbin-libdir && mkdir LOBSTAHS.buildbin-libdir && C:\Users\biocbuild\bbs-3.13-bioc\R\bin\R.exe CMD INSTALL --merge-multiarch --build --library=LOBSTAHS.buildbin-libdir LOBSTAHS_1.18.0.tar.gz
###
##############################################################################
##############################################################################



install for i386

* installing *source* package 'LOBSTAHS' ...
** using staged installation
** R
** data
** inst
** byte-compile and prepare package for lazy loading
Creating a new generic function for 'polarity<-' in package 'LOBSTAHS'
** help
*** installing help indices
  converting help for package 'LOBSTAHS'
    finding HTML links ... done
    LOBSet-class                            html  
REDIRECT:topic	 LOBisoID_diagnostics<-,LOBSet-method -> LOBSet-class.html [ FAIL ]
REDIRECT:topic	 LOBisoID_diagnostics<- -> LOBSet-class.html [ FAIL ]
REDIRECT:topic	 peakdata<-,LOBSet-method -> LOBSet-class.html [ FAIL ]
REDIRECT:topic	 peakdata<- -> LOBSet-class.html [ FAIL ]
REDIRECT:topic	 polarity<-,LOBSet-method -> LOBSet-class.html [ FAIL ]
REDIRECT:topic	 polarity<- -> LOBSet-class.html [ FAIL ]
REDIRECT:topic	 sampnames<-,LOBSet-method -> LOBSet-class.html [ FAIL ]
REDIRECT:topic	 sampnames<- -> LOBSet-class.html [ FAIL ]
REDIRECT:topic	 LOBscreen_settings<-,LOBSet-method -> LOBSet-class.html [ FAIL ]
REDIRECT:topic	 LOBscreen_settings<- -> LOBSet-class.html [ FAIL ]
REDIRECT:topic	 LOBscreen_diagnostics<-,LOBSet-method -> LOBSet-class.html [ FAIL ]
REDIRECT:topic	 LOBscreen_diagnostics<- -> LOBSet-class.html [ FAIL ]
    finding level-2 HTML links ... done

    LOBSet                                  html  
    LOBdbase-class                          html  
REDIRECT:topic	 frag_ID<-,LOBdbase-method -> LOBdbase-class.html [ FAIL ]
REDIRECT:topic	 frag_ID<- -> LOBdbase-class.html [ FAIL ]
REDIRECT:topic	 mz<-,LOBdbase-method -> LOBdbase-class.html [ FAIL ]
REDIRECT:topic	 mz<- -> LOBdbase-class.html [ FAIL ]
REDIRECT:topic	 exact_parent_neutral_mass<-,LOBdbase-method -> LOBdbase-class.html [ FAIL ]
REDIRECT:topic	 exact_parent_neutral_mass<- -> LOBdbase-class.html [ FAIL ]
REDIRECT:topic	 lipid_class<-,LOBdbase-method -> LOBdbase-class.html [ FAIL ]
REDIRECT:topic	 lipid_class<- -> LOBdbase-class.html [ FAIL ]
REDIRECT:topic	 species<-,LOBdbase-method -> LOBdbase-class.html [ FAIL ]
REDIRECT:topic	 species<- -> LOBdbase-class.html [ FAIL ]
REDIRECT:topic	 adduct<-,LOBdbase-method -> LOBdbase-class.html [ FAIL ]
REDIRECT:topic	 adduct<- -> LOBdbase-class.html [ FAIL ]
REDIRECT:topic	 adduct_rank<-,LOBdbase-method -> LOBdbase-class.html [ FAIL ]
REDIRECT:topic	 adduct_rank<- -> LOBdbase-class.html [ FAIL ]
REDIRECT:topic	 FA_total_no_C<-,LOBdbase-method -> LOBdbase-class.html [ FAIL ]
REDIRECT:topic	 FA_total_no_C<- -> LOBdbase-class.html [ FAIL ]
REDIRECT:topic	 FA_total_no_DB<-,LOBdbase-method -> LOBdbase-class.html [ FAIL ]
REDIRECT:topic	 FA_total_no_DB<- -> LOBdbase-class.html [ FAIL ]
REDIRECT:topic	 degree_oxidation<-,LOBdbase-method -> LOBdbase-class.html [ FAIL ]
REDIRECT:topic	 degree_oxidation<- -> LOBdbase-class.html [ FAIL ]
REDIRECT:topic	 parent_elem_formula<-,LOBdbase-method -> LOBdbase-class.html [ FAIL ]
REDIRECT:topic	 parent_elem_formula<- -> LOBdbase-class.html [ FAIL ]
REDIRECT:topic	 parent_compound_name<-,LOBdbase-method -> LOBdbase-class.html [ FAIL ]
REDIRECT:topic	 parent_compound_name<- -> LOBdbase-class.html [ FAIL ]
REDIRECT:topic	 polarity<-,LOBdbase-method -> LOBdbase-class.html [ FAIL ]
REDIRECT:topic	 num_entries<-,LOBdbase-method -> LOBdbase-class.html [ FAIL ]
REDIRECT:topic	 num_entries<- -> LOBdbase-class.html [ FAIL ]
REDIRECT:topic	 num_compounds<-,LOBdbase-method -> LOBdbase-class.html [ FAIL ]
REDIRECT:topic	 num_compounds<- -> LOBdbase-class.html [ FAIL ]
    LOBdbase                                html  
    LOBdefaults                             html  
    doLOBscreen                             html  
    exportDBtoCSV                           html  
    extractLOBdbasedata                     html  
    generateLOBdbase                        html  
    getLOBpeaklist                          html  
    loadLOBdbase                            html  
** building package indices
** installing vignettes
** testing if installed package can be loaded from temporary location
Warning: multiple methods tables found for 'polarity<-'
** testing if installed package can be loaded from final location
Warning: multiple methods tables found for 'polarity<-'
** testing if installed package keeps a record of temporary installation path

install for x64

* installing *source* package 'LOBSTAHS' ...
** testing if installed package can be loaded
Warning: multiple methods tables found for 'polarity<-'
* MD5 sums
packaged installation of 'LOBSTAHS' as LOBSTAHS_1.18.0.zip
* DONE (LOBSTAHS)