Back to Multiple platform build/check report for BioC 3.13
ABCDEFGHIJ[K]LMNOPQRSTUVWXYZ

Multiple platform build/check report for BioC 3.13

All results for package KEGGgraph

This page was generated on 2021-05-08 12:13:07 -0400 (Sat, 08 May 2021).

Package 955/2016HostnameOS / ArchINSTALLBUILDCHECKBUILD BIN
KEGGgraph 1.51.2  (landing page)
Jitao David Zhang
Snapshot Date: 2021-05-07 14:50:11 -0400 (Fri, 07 May 2021)
URL: https://git.bioconductor.org/packages/KEGGgraph
Branch: master
Last Commit: af8ea64
Last Changed Date: 2021-02-01 13:39:22 -0400 (Mon, 01 Feb 2021)
nebbiolo1Linux (Ubuntu 20.04.2 LTS) / x86_64  OK    OK    OK  UNNEEDED, same version exists in internal repository
riesling1Windows Server 2019 Standard / x64  OK    OK    OK    OK  UNNEEDED, same version exists in internal repository
machv2macOS 10.14.6 Mojave / x86_64  OK    OK    OK    OK  UNNEEDED, same version exists in internal repository

Results for Bioconductor software packages that depend directly on package KEGGgraph

QUICK STATSOS / ArchINSTALLBUILDCHECKBUILD BIN
nebbiolo1Linux (Ubuntu 20.04.2 LTS) / x86_64
0011
0011
0029
riesling1Windows Server 2019 Standard / x64
009
009
0027
009
machv2macOS 10.14.6 Mojave / x86_64
009
009
0027
009
Package 1/11HostnameOS / ArchINSTALLBUILDCHECKBUILD BIN
clipper 1.31.0  (landing page)
Paolo Martini
Last Commit: a71eeb2
Last Changed Date: 2020-10-27 10:48:58 -0400
nebbiolo1Linux (Ubuntu 20.04.2 LTS) / x86_64  OK    OK    OK  UNNEEDED, same version exists in internal repository
riesling1Windows Server 2019 Standard / x64  OK    OK    OK    OK  UNNEEDED, same version exists in internal repository
machv2macOS 10.14.6 Mojave / x86_64  OK    OK    OK    OK  UNNEEDED, same version exists in internal repository
Package 2/11HostnameOS / ArchINSTALLBUILDCHECKBUILD BIN
DEGraph 1.43.0  (landing page)
Laurent Jacob
Last Commit: 25d2d6f
Last Changed Date: 2020-10-27 10:39:35 -0400
nebbiolo1Linux (Ubuntu 20.04.2 LTS) / x86_64  OK    OK    OK  UNNEEDED, same version exists in internal repository
riesling1Windows Server 2019 Standard / x64... NOT SUPPORTED ...
machv2macOS 10.14.6 Mojave / x86_64... NOT SUPPORTED ...
Package 3/11HostnameOS / ArchINSTALLBUILDCHECKBUILD BIN
EnrichmentBrowser 2.21.11  (landing page)
Ludwig Geistlinger
Last Commit: 1224a8c
Last Changed Date: 2021-04-29 20:36:51 -0400
nebbiolo1Linux (Ubuntu 20.04.2 LTS) / x86_64  OK    OK    WARNINGS  UNNEEDED, same version exists in internal repository
riesling1Windows Server 2019 Standard / x64  OK    OK    WARNINGS    OK  UNNEEDED, same version exists in internal repository
machv2macOS 10.14.6 Mojave / x86_64  OK    OK    WARNINGS    OK  UNNEEDED, same version exists in internal repository
Package 4/11HostnameOS / ArchINSTALLBUILDCHECKBUILD BIN
KEGGlincs 1.17.0  (landing page)
Shana White , Mario Medvedovic
Last Commit: aa775cc
Last Changed Date: 2020-10-27 11:18:22 -0400
nebbiolo1Linux (Ubuntu 20.04.2 LTS) / x86_64  OK    OK    OK  UNNEEDED, same version exists in internal repository
riesling1Windows Server 2019 Standard / x64  OK    OK    OK    OK  UNNEEDED, same version exists in internal repository
machv2macOS 10.14.6 Mojave / x86_64  OK    OK    OK    OK  UNNEEDED, same version exists in internal repository
Package 5/11HostnameOS / ArchINSTALLBUILDCHECKBUILD BIN
MetaboSignal 1.21.0  (landing page)
Andrea Rodriguez-Martinez
Last Commit: 21df4a1
Last Changed Date: 2021-03-14 17:02:43 -0400
nebbiolo1Linux (Ubuntu 20.04.2 LTS) / x86_64  OK    OK    OK  UNNEEDED, same version exists in internal repository
riesling1Windows Server 2019 Standard / x64  OK    OK    OK    OK  UNNEEDED, same version exists in internal repository
machv2macOS 10.14.6 Mojave / x86_64  OK    OK    OK    OK  UNNEEDED, same version exists in internal repository
Package 6/11HostnameOS / ArchINSTALLBUILDCHECKBUILD BIN
MWASTools 1.15.0  (landing page)
Andrea Rodriguez-Martinez , Rafael Ayala
Last Commit: ab11fee
Last Changed Date: 2021-03-14 17:04:44 -0400
nebbiolo1Linux (Ubuntu 20.04.2 LTS) / x86_64  OK    OK    OK  UNNEEDED, same version exists in internal repository
riesling1Windows Server 2019 Standard / x64  OK    OK    OK    OK  UNNEEDED, same version exists in internal repository
machv2macOS 10.14.6 Mojave / x86_64  OK    OK    OK    OK  UNNEEDED, same version exists in internal repository
Package 7/11HostnameOS / ArchINSTALLBUILDCHECKBUILD BIN
NCIgraph 1.39.0  (landing page)
Laurent Jacob
Last Commit: 7d08b91
Last Changed Date: 2020-10-27 10:41:10 -0400
nebbiolo1Linux (Ubuntu 20.04.2 LTS) / x86_64  OK    OK    OK  UNNEEDED, same version exists in internal repository
riesling1Windows Server 2019 Standard / x64... NOT SUPPORTED ...
machv2macOS 10.14.6 Mojave / x86_64... NOT SUPPORTED ...
Package 8/11HostnameOS / ArchINSTALLBUILDCHECKBUILD BIN
pathview 1.31.3  (landing page)
Weijun Luo
Last Commit: 8f6b66d
Last Changed Date: 2021-05-04 16:41:19 -0400
nebbiolo1Linux (Ubuntu 20.04.2 LTS) / x86_64  OK    OK    WARNINGS  UNNEEDED, same version exists in internal repository
riesling1Windows Server 2019 Standard / x64  OK    OK    WARNINGS    OK  UNNEEDED, same version exists in internal repository
machv2macOS 10.14.6 Mojave / x86_64  OK    OK    WARNINGS    OK  UNNEEDED, same version exists in internal repository
Package 9/11HostnameOS / ArchINSTALLBUILDCHECKBUILD BIN
PFP 0.99.12  (landing page)
XC Zhang
Last Commit: 237bf44
Last Changed Date: 2020-12-25 11:33:20 -0400
nebbiolo1Linux (Ubuntu 20.04.2 LTS) / x86_64  OK    OK    OK  UNNEEDED, same version exists in internal repository
riesling1Windows Server 2019 Standard / x64  OK    OK    OK    OK  UNNEEDED, same version exists in internal repository
machv2macOS 10.14.6 Mojave / x86_64  OK    OK    OK    OK  UNNEEDED, same version exists in internal repository
Package 10/11HostnameOS / ArchINSTALLBUILDCHECKBUILD BIN
ROntoTools 2.19.0  (landing page)
Calin Voichita
Last Commit: 0e3c521
Last Changed Date: 2020-10-27 10:50:03 -0400
nebbiolo1Linux (Ubuntu 20.04.2 LTS) / x86_64  OK    OK    OK  UNNEEDED, same version exists in internal repository
riesling1Windows Server 2019 Standard / x64  OK    OK    OK    OK  UNNEEDED, same version exists in internal repository
machv2macOS 10.14.6 Mojave / x86_64  OK    OK    OK    OK  UNNEEDED, same version exists in internal repository
Package 11/11HostnameOS / ArchINSTALLBUILDCHECKBUILD BIN
SPIA 2.43.0  (landing page)
Adi Laurentiu Tarca
Last Commit: 082a4d5
Last Changed Date: 2020-10-27 10:35:14 -0400
nebbiolo1Linux (Ubuntu 20.04.2 LTS) / x86_64  OK    OK    OK  UNNEEDED, same version exists in internal repository
riesling1Windows Server 2019 Standard / x64  OK    OK    OK    OK  UNNEEDED, same version exists in internal repository
machv2macOS 10.14.6 Mojave / x86_64  OK    OK    OK    OK  UNNEEDED, same version exists in internal repository