Back to Multiple platform build/check report for BioC 3.13
ABCDEFGH[I]JKLMNOPQRSTUVWXYZ

This page was generated on 2021-07-23 15:06:07 -0400 (Fri, 23 Jul 2021).

BUILD BIN results for IPO on tokay2

To the developers/maintainers of the IPO package:
- Please allow up to 24 hours (and sometimes 48 hours) for your latest push to git@git.bioconductor.org:packages/IPO.git to
reflect on this report. See How and When does the builder pull? When will my changes propagate? here for more information.
- Make sure to use the following settings in order to reproduce any error or warning you see on this page.

raw results

Package 941/2041HostnameOS / ArchINSTALLBUILDCHECKBUILD BIN
IPO 1.18.0  (landing page)
Thomas Riebenbauer
Snapshot Date: 2021-07-22 04:50:13 -0400 (Thu, 22 Jul 2021)
URL: https://git.bioconductor.org/packages/IPO
Branch: RELEASE_3_13
Last Commit: f29adc9
Last Changed Date: 2021-05-19 12:22:15 -0400 (Wed, 19 May 2021)
nebbiolo1Linux (Ubuntu 20.04.2 LTS) / x86_64  OK    OK    OK  UNNEEDED, same version is already published
tokay2Windows Server 2012 R2 Standard / x64  OK    OK    OK    OK  UNNEEDED, same version is already published
machv2macOS 10.14.6 Mojave / x86_64  OK    OK    OK    OK  UNNEEDED, same version is already published

Summary

Package: IPO
Version: 1.18.0
Command: rm -rf IPO.buildbin-libdir && mkdir IPO.buildbin-libdir && C:\Users\biocbuild\bbs-3.13-bioc\R\bin\R.exe CMD INSTALL --merge-multiarch --build --library=IPO.buildbin-libdir IPO_1.18.0.tar.gz
StartedAt: 2021-07-23 10:08:28 -0400 (Fri, 23 Jul 2021)
EndedAt: 2021-07-23 10:09:49 -0400 (Fri, 23 Jul 2021)
EllapsedTime: 80.5 seconds
RetCode: 0
Status:   OK  
PackageFile: IPO_1.18.0.zip
PackageFileSize: 535.4 KiB

Command output

##############################################################################
##############################################################################
###
### Running command:
###
###   rm -rf IPO.buildbin-libdir && mkdir IPO.buildbin-libdir && C:\Users\biocbuild\bbs-3.13-bioc\R\bin\R.exe CMD INSTALL --merge-multiarch --build --library=IPO.buildbin-libdir IPO_1.18.0.tar.gz
###
##############################################################################
##############################################################################



install for i386

* installing *source* package 'IPO' ...
** using staged installation
** R
** inst
** byte-compile and prepare package for lazy loading
** help
*** installing help indices
  converting help for package 'IPO'
    finding HTML links ... done
    IPO-package                             html  
    attachList                              html  
    calcPPS                                 html  
    calculateXcmsSet                        html  
    combineParams                           html  
    createModel                             html  
    decode                                  html  
    findIsotopes.CAMERA                     html  
    findIsotopes.IPO                        html  
    getBbdParameter                         html  
    getCcdParameter                         html  
    getDefaultRetCorCenterSample            html  
    getDefaultRetGroupStartingParams        html  
    getDefaultXcmsSetStartingParams         html  
    getNormalizedResponse                   html  
    getRGTVValues                           html  
    optimizeRetGroup                        html  
    optimizeXcmsSet                         html  
    toMatrix                                html  
    typeCastParams                          html  
    writeParamsTable                        html  
    writeRScript                            html  
** building package indices
** installing vignettes
** testing if installed package can be loaded from temporary location
** testing if installed package can be loaded from final location
** testing if installed package keeps a record of temporary installation path

install for x64

* installing *source* package 'IPO' ...
** testing if installed package can be loaded
* MD5 sums
packaged installation of 'IPO' as IPO_1.18.0.zip
* DONE (IPO)