Index of /checkResults/3.13/bioc-LATEST/IPO/raw-results

[ICO]NameLast modifiedSizeDescription

[DIR]Parent Directory  -  
[   ]info.dcf23-Sep-2021 04:05 279  
[DIR]machv2/23-Sep-2021 04:05 -  
[DIR]nebbiolo1/23-Sep-2021 04:04 -  
[DIR]tokay2/23-Sep-2021 04:05 -