Back to Multiple platform build/check report for BioC 3.13
ABCDEFGH[I]JKLMNOPQRSTUVWXYZ

This page was generated on 2021-08-02 15:05:46 -0400 (Mon, 02 Aug 2021).

BUILD BIN results for IPO on machv2

To the developers/maintainers of the IPO package:
- Please allow up to 24 hours (and sometimes 48 hours) for your latest push to git@git.bioconductor.org:packages/IPO.git to
reflect on this report. See How and When does the builder pull? When will my changes propagate? here for more information.
- Make sure to use the following settings in order to reproduce any error or warning you see on this page.

raw results

Package 941/2041HostnameOS / ArchINSTALLBUILDCHECKBUILD BIN
IPO 1.18.0  (landing page)
Thomas Riebenbauer
Snapshot Date: 2021-08-01 04:50:10 -0400 (Sun, 01 Aug 2021)
URL: https://git.bioconductor.org/packages/IPO
Branch: RELEASE_3_13
Last Commit: f29adc9
Last Changed Date: 2021-05-19 12:22:15 -0400 (Wed, 19 May 2021)
nebbiolo1Linux (Ubuntu 20.04.2 LTS) / x86_64  OK    OK    OK  UNNEEDED, same version is already published
tokay2Windows Server 2012 R2 Standard / x64  OK    OK    OK    OK  UNNEEDED, same version is already published
machv2macOS 10.14.6 Mojave / x86_64  OK    OK    OK    OK  UNNEEDED, same version is already published

Summary

Package: IPO
Version: 1.18.0
Command: rm -rf IPO.buildbin-libdir && mkdir IPO.buildbin-libdir && /Users/biocbuild/BBS/utils/build-universal.sh IPO_1.18.0.tar.gz /Library/Frameworks/R.framework/Versions/Current/Resources/bin/R IPO.buildbin-libdir
StartedAt: 2021-08-02 02:11:09 -0400 (Mon, 02 Aug 2021)
EndedAt: 2021-08-02 02:11:55 -0400 (Mon, 02 Aug 2021)
EllapsedTime: 45.8 seconds
RetCode: 0
Status:   OK  
PackageFile: IPO_1.18.0.tgz
PackageFileSize: 679.8 KiB

Command output

##############################################################################
##############################################################################
###
### Running command:
###
###   rm -rf IPO.buildbin-libdir && mkdir IPO.buildbin-libdir && /Users/biocbuild/BBS/utils/build-universal.sh IPO_1.18.0.tar.gz /Library/Frameworks/R.framework/Versions/Current/Resources/bin/R IPO.buildbin-libdir
###
##############################################################################
##############################################################################


>>>>>>> 
>>>>>>> INSTALLATION WITH 'R CMD INSTALL --preclean --no-multiarch --library=IPO.buildbin-libdir IPO_1.18.0.tar.gz'
>>>>>>> 

* installing *source* package ‘IPO’ ...
** using staged installation
** R
** inst
** byte-compile and prepare package for lazy loading
** help
*** installing help indices
** building package indices
** installing vignettes
** testing if installed package can be loaded from temporary location
** testing if installed package can be loaded from final location
** testing if installed package keeps a record of temporary installation path
* DONE (IPO)