Back to Multiple platform build/check report for BioC 3.13
ABCDEFG[H]IJKLMNOPQRSTUVWXYZ

INSTALL report for Heatplus on nebbiolo1

This page was generated on 2021-05-10 12:13:48 -0400 (Mon, 10 May 2021).

To the developers/maintainers of the Heatplus package:
Please make sure to use the following settings in order to reproduce any error or warning you see on this page.
Package 839/2016HostnameOS / ArchINSTALLBUILDCHECKBUILD BIN
Heatplus 2.37.0  (landing page)
Alexander Ploner
Snapshot Date: 2021-05-09 14:50:05 -0400 (Sun, 09 May 2021)
URL: https://git.bioconductor.org/packages/Heatplus
Branch: master
Last Commit: 8758c8c
Last Changed Date: 2020-10-27 10:28:24 -0400 (Tue, 27 Oct 2020)
nebbiolo1Linux (Ubuntu 20.04.2 LTS) / x86_64  OK    OK    OK  UNNEEDED, same version exists in internal repository
riesling1Windows Server 2019 Standard / x64  OK    OK    OK    OK  UNNEEDED, same version exists in internal repository
machv2macOS 10.14.6 Mojave / x86_64  OK    OK    OK    OK  UNNEEDED, same version exists in internal repository

Summary

Package: Heatplus
Version: 2.37.0
Command: /home/biocbuild/bbs-3.13-bioc/R/bin/R CMD INSTALL Heatplus
StartedAt: 2021-05-09 16:03:04 -0400 (Sun, 09 May 2021)
EndedAt: 2021-05-09 16:03:14 -0400 (Sun, 09 May 2021)
EllapsedTime: 9.8 seconds
RetCode: 0
Status:   OK  

Command output

##############################################################################
##############################################################################
###
### Running command:
###
###   /home/biocbuild/bbs-3.13-bioc/R/bin/R CMD INSTALL Heatplus
###
##############################################################################
##############################################################################


* installing to library ‘/home/biocbuild/bbs-3.13-bioc/R/library’
* installing *source* package ‘Heatplus’ ...
** using staged installation
** R
** byte-compile and prepare package for lazy loading
** help
*** installing help indices
** building package indices
** installing vignettes
** testing if installed package can be loaded from temporary location
** testing if installed package can be loaded from final location
** testing if installed package keeps a record of temporary installation path
* DONE (Heatplus)