Back to Multiple platform build/check report for BioC 3.13
ABCDEFG[H]IJKLMNOPQRSTUVWXYZ

BUILD report for Heatplus on machv2

This page was generated on 2021-05-14 12:41:54 -0400 (Fri, 14 May 2021).

To the developers/maintainers of the Heatplus package:
Please make sure to use the following settings in order to reproduce any error or warning you see on this page.
Package 849/2039HostnameOS / ArchINSTALLBUILDCHECKBUILD BIN
Heatplus 2.37.0  (landing page)
Alexander Ploner
Snapshot Date: 2021-05-13 14:50:11 -0400 (Thu, 13 May 2021)
URL: https://git.bioconductor.org/packages/Heatplus
Branch: master
Last Commit: 8758c8c
Last Changed Date: 2020-10-27 10:28:24 -0400 (Tue, 27 Oct 2020)
nebbiolo1Linux (Ubuntu 20.04.2 LTS) / x86_64  OK    OK    OK  UNNEEDED, same version exists in internal repository
riesling1Windows Server 2019 Standard / x64  OK    OK    OK    OK  UNNEEDED, same version exists in internal repository
machv2macOS 10.14.6 Mojave / x86_64  OK    OK    OK    OK  UNNEEDED, same version exists in internal repository

Summary

Package: Heatplus
Version: 2.37.0
Command: /Library/Frameworks/R.framework/Versions/Current/Resources/bin/R CMD build --keep-empty-dirs --no-resave-data Heatplus
StartedAt: 2021-05-13 20:20:43 -0400 (Thu, 13 May 2021)
EndedAt: 2021-05-13 20:21:29 -0400 (Thu, 13 May 2021)
EllapsedTime: 45.6 seconds
RetCode: 0
Status:   OK  
PackageFile: Heatplus_2.37.0.tar.gz
PackageFileSize: 868.6 KiB

Command output

##############################################################################
##############################################################################
###
### Running command:
###
###   /Library/Frameworks/R.framework/Versions/Current/Resources/bin/R CMD build --keep-empty-dirs --no-resave-data Heatplus
###
##############################################################################
##############################################################################


* checking for file ‘Heatplus/DESCRIPTION’ ... OK
* preparing ‘Heatplus’:
* checking DESCRIPTION meta-information ... OK
* installing the package to build vignettes
* creating vignettes ... OK
* checking for LF line-endings in source and make files and shell scripts
* checking for empty or unneeded directories
* building ‘Heatplus_2.37.0.tar.gz’