Back to Multiple platform build/check report for BioC 3.13
ABCDEFG[H]IJKLMNOPQRSTUVWXYZ

BUILD BIN report for Heatplus on machv2

This page was generated on 2021-05-14 12:41:54 -0400 (Fri, 14 May 2021).

To the developers/maintainers of the Heatplus package:
Please make sure to use the following settings in order to reproduce any error or warning you see on this page.
Package 849/2039HostnameOS / ArchINSTALLBUILDCHECKBUILD BIN
Heatplus 2.37.0  (landing page)
Alexander Ploner
Snapshot Date: 2021-05-13 14:50:11 -0400 (Thu, 13 May 2021)
URL: https://git.bioconductor.org/packages/Heatplus
Branch: master
Last Commit: 8758c8c
Last Changed Date: 2020-10-27 10:28:24 -0400 (Tue, 27 Oct 2020)
nebbiolo1Linux (Ubuntu 20.04.2 LTS) / x86_64  OK    OK    OK  UNNEEDED, same version exists in internal repository
riesling1Windows Server 2019 Standard / x64  OK    OK    OK    OK  UNNEEDED, same version exists in internal repository
machv2macOS 10.14.6 Mojave / x86_64  OK    OK    OK    OK  UNNEEDED, same version exists in internal repository

Summary

Package: Heatplus
Version: 2.37.0
Command: rm -rf Heatplus.buildbin-libdir && mkdir Heatplus.buildbin-libdir && /Users/biocbuild/BBS/utils/build-universal.sh Heatplus_2.37.0.tar.gz /Library/Frameworks/R.framework/Versions/Current/Resources/bin/R Heatplus.buildbin-libdir
StartedAt: 2021-05-14 10:10:06 -0400 (Fri, 14 May 2021)
EndedAt: 2021-05-14 10:11:03 -0400 (Fri, 14 May 2021)
EllapsedTime: 56.9 seconds
RetCode: 0
Status:   OK  
PackageFile: Heatplus_2.37.0.tgz
PackageFileSize: 959.8 KiB

Command output

##############################################################################
##############################################################################
###
### Running command:
###
###   rm -rf Heatplus.buildbin-libdir && mkdir Heatplus.buildbin-libdir && /Users/biocbuild/BBS/utils/build-universal.sh Heatplus_2.37.0.tar.gz /Library/Frameworks/R.framework/Versions/Current/Resources/bin/R Heatplus.buildbin-libdir
###
##############################################################################
##############################################################################


>>>>>>> 
>>>>>>> INSTALLATION WITH 'R CMD INSTALL --preclean --no-multiarch --library=Heatplus.buildbin-libdir Heatplus_2.37.0.tar.gz'
>>>>>>> 

* installing *source* package ‘Heatplus’ ...
** using staged installation
** R
** inst
** byte-compile and prepare package for lazy loading
** help
*** installing help indices
** building package indices
** installing vignettes
** testing if installed package can be loaded from temporary location
** testing if installed package can be loaded from final location
** testing if installed package keeps a record of temporary installation path
* DONE (Heatplus)