Back to Multiple platform build/check report for BioC 3.13
ABCDEF[G]HIJKLMNOPQRSTUVWXYZ

INSTALL results for GraphAT on nebbiolo1

This page was generated on 2021-06-11 14:05:41 -0400 (Fri, 11 Jun 2021).

Package 807/2041HostnameOS / ArchINSTALLBUILDCHECKBUILD BIN
GraphAT 1.64.0  (landing page)
Thomas LaFramboise
Snapshot Date: 2021-06-10 06:50:12 -0400 (Thu, 10 Jun 2021)
URL: https://git.bioconductor.org/packages/GraphAT
Branch: RELEASE_3_13
Last Commit: cf236c4
Last Changed Date: 2021-05-19 11:34:36 -0400 (Wed, 19 May 2021)
nebbiolo1Linux (Ubuntu 20.04.2 LTS) / x86_64  OK    OK    OK  UNNEEDED, same version is already published
tokay2Windows Server 2012 R2 Standard / x64  OK    OK    OK    OK  UNNEEDED, same version is already published
machv2macOS 10.14.6 Mojave / x86_64  OK    OK    OK    OK  UNNEEDED, same version is already published
To the developers/maintainers of the GraphAT package:
- Please allow up to 24 hours (and sometimes 48 hours) for your latest push to git@git.bioconductor.org:packages/GraphAT.git to
reflect on this report. See How and When does the builder pull? When will my changes propagate? here for more information.
- Make sure to use the following settings in order to reproduce any error or warning you see on this page.

Summary

Package: GraphAT
Version: 1.64.0
Command: /home/biocbuild/bbs-3.13-bioc/R/bin/R CMD INSTALL GraphAT
StartedAt: 2021-06-10 08:16:08 -0400 (Thu, 10 Jun 2021)
EndedAt: 2021-06-10 08:16:16 -0400 (Thu, 10 Jun 2021)
EllapsedTime: 7.6 seconds
RetCode: 0
Status:   OK  

Command output

##############################################################################
##############################################################################
###
### Running command:
###
###   /home/biocbuild/bbs-3.13-bioc/R/bin/R CMD INSTALL GraphAT
###
##############################################################################
##############################################################################


* installing to library ‘/home/biocbuild/bbs-3.13-bioc/R/library’
* installing *source* package ‘GraphAT’ ...
** using staged installation
** R
** data
** byte-compile and prepare package for lazy loading
** help
*** installing help indices
** building package indices
** testing if installed package can be loaded from temporary location
** testing if installed package can be loaded from final location
** testing if installed package keeps a record of temporary installation path
* DONE (GraphAT)