Back to Multiple platform build/check report for BioC 3.13
ABCDEF[G]HIJKLMNOPQRSTUVWXYZ

This page was generated on 2021-09-27 15:06:57 -0400 (Mon, 27 Sep 2021).

BUILD BIN results for GraphAT on machv2

To the developers/maintainers of the GraphAT package:
- Please allow up to 24 hours (and sometimes 48 hours) for your latest push to git@git.bioconductor.org:packages/GraphAT.git to
reflect on this report. See How and When does the builder pull? When will my changes propagate? here for more information.
- Make sure to use the following settings in order to reproduce any error or warning you see on this page.

raw results

Package 807/2041HostnameOS / ArchINSTALLBUILDCHECKBUILD BIN
GraphAT 1.64.0  (landing page)
Thomas LaFramboise
Snapshot Date: 2021-09-26 04:50:10 -0400 (Sun, 26 Sep 2021)
git_url: https://git.bioconductor.org/packages/GraphAT
git_branch: RELEASE_3_13
git_last_commit: cf236c4
git_last_commit_date: 2021-05-19 11:34:36 -0400 (Wed, 19 May 2021)
nebbiolo1Linux (Ubuntu 20.04.2 LTS) / x86_64  OK    OK    OK  UNNEEDED, same version is already published
tokay2Windows Server 2012 R2 Standard / x64  OK    OK    OK    OK  UNNEEDED, same version is already published
machv2macOS 10.14.6 Mojave / x86_64  OK    OK    OK    OK  UNNEEDED, same version is already published

Summary

Package: GraphAT
Version: 1.64.0
Command: rm -rf GraphAT.buildbin-libdir && mkdir GraphAT.buildbin-libdir && /Users/biocbuild/BBS/utils/build-universal.sh GraphAT_1.64.0.tar.gz /Library/Frameworks/R.framework/Versions/Current/Resources/bin/R GraphAT.buildbin-libdir
StartedAt: 2021-09-27 02:35:17 -0400 (Mon, 27 Sep 2021)
EndedAt: 2021-09-27 02:36:15 -0400 (Mon, 27 Sep 2021)
EllapsedTime: 58.6 seconds
RetCode: 0
Status:   OK  
PackageFile: GraphAT_1.64.0.tgz
PackageFileSize: 1.917 MiB

Command output

##############################################################################
##############################################################################
###
### Running command:
###
###   rm -rf GraphAT.buildbin-libdir && mkdir GraphAT.buildbin-libdir && /Users/biocbuild/BBS/utils/build-universal.sh GraphAT_1.64.0.tar.gz /Library/Frameworks/R.framework/Versions/Current/Resources/bin/R GraphAT.buildbin-libdir
###
##############################################################################
##############################################################################


>>>>>>> 
>>>>>>> INSTALLATION WITH 'R CMD INSTALL --preclean --no-multiarch --library=GraphAT.buildbin-libdir GraphAT_1.64.0.tar.gz'
>>>>>>> 

* installing *source* package ‘GraphAT’ ...
** using staged installation
** R
** data
** byte-compile and prepare package for lazy loading
** help
*** installing help indices
** building package indices
** testing if installed package can be loaded from temporary location
** testing if installed package can be loaded from final location
** testing if installed package keeps a record of temporary installation path
* DONE (GraphAT)