Back to Multiple platform build/check report for BioC 3.13
ABCDEF[G]HIJKLMNOPQRSTUVWXYZ

Multiple platform build/check report for BioC 3.13

All results for package GenomicFeatures

This page was generated on 2021-05-05 12:13:02 -0400 (Wed, 05 May 2021).

Package 729/2003HostnameOS / ArchINSTALLBUILDCHECKBUILD BIN
GenomicFeatures 1.43.8  (landing page)
Bioconductor Package Maintainer
Snapshot Date: 2021-05-04 14:50:10 -0400 (Tue, 04 May 2021)
URL: https://git.bioconductor.org/packages/GenomicFeatures
Branch: master
Last Commit: 48f493a
Last Changed Date: 2021-04-23 01:04:43 -0400 (Fri, 23 Apr 2021)
nebbiolo1Linux (Ubuntu 20.04.2 LTS) / x86_64  OK    OK    ERROR  
riesling1Windows Server 2019 Standard / x64  OK    OK    ERROR    OK  
machv2macOS 10.14.6 Mojave / x86_64  OK    OK    ERROR    OK  

Results for Bioconductor software packages that depend directly on package GenomicFeatures

QUICK STATSOS / ArchINSTALLBUILDCHECKBUILD BIN
nebbiolo1Linux (Ubuntu 20.04.2 LTS) / x86_64
01110
01893
042465
riesling1Windows Server 2019 Standard / x64
01107
01791
032365
0091
machv2macOS 10.14.6 Mojave / x86_64
01109
01793
032367
0093
Package 1/111HostnameOS / ArchINSTALLBUILDCHECKBUILD BIN
AllelicImbalance 1.29.0  (landing page)
Jesper R Gadin
Last Commit: 9225809
Last Changed Date: 2020-10-27 10:53:07 -0400
nebbiolo1Linux (Ubuntu 20.04.2 LTS) / x86_64  ERROR    ERROR  skipped
riesling1Windows Server 2019 Standard / x64  ERROR    ERROR  skippedskipped
machv2macOS 10.14.6 Mojave / x86_64  ERROR    ERROR  skippedskipped
Package 2/111HostnameOS / ArchINSTALLBUILDCHECKBUILD BIN
alpine 1.17.1  (landing page)
Michael Love
Last Commit: 7761de0
Last Changed Date: 2020-11-03 00:48:03 -0400
nebbiolo1Linux (Ubuntu 20.04.2 LTS) / x86_64  OK    OK    OK  UNNEEDED, same version exists in internal repository
riesling1Windows Server 2019 Standard / x64  OK    OK    OK    OK  UNNEEDED, same version exists in internal repository
machv2macOS 10.14.6 Mojave / x86_64  OK    OK    OK    OK  UNNEEDED, same version exists in internal repository
Package 3/111HostnameOS / ArchINSTALLBUILDCHECKBUILD BIN
AnnotationHubData 1.21.9  (landing page)
Bioconductor Package Maintainer
Last Commit: acaf95c
Last Changed Date: 2021-04-21 12:48:05 -0400
nebbiolo1Linux (Ubuntu 20.04.2 LTS) / x86_64  OK    OK    WARNINGS  UNNEEDED, same version exists in internal repository
riesling1Windows Server 2019 Standard / x64  OK    OK    WARNINGS    OK  UNNEEDED, same version exists in internal repository
machv2macOS 10.14.6 Mojave / x86_64  OK    OK    WARNINGS    OK  UNNEEDED, same version exists in internal repository
Package 4/111HostnameOS / ArchINSTALLBUILDCHECKBUILD BIN
annotatr 1.17.0  (landing page)
Raymond G. Cavalcante
Last Commit: 9f2c3f9
Last Changed Date: 2020-10-27 11:18:54 -0400
nebbiolo1Linux (Ubuntu 20.04.2 LTS) / x86_64  OK    OK    WARNINGS  UNNEEDED, same version exists in internal repository
riesling1Windows Server 2019 Standard / x64  OK    OK    WARNINGS    OK  UNNEEDED, same version exists in internal repository
machv2macOS 10.14.6 Mojave / x86_64  OK    OK    WARNINGS    OK  UNNEEDED, same version exists in internal repository
Package 5/111HostnameOS / ArchINSTALLBUILDCHECKBUILD BIN
APAlyzer 1.5.5  (landing page)
Ruijia Wang
Last Commit: 4c269bc
Last Changed Date: 2021-02-08 00:31:30 -0400
nebbiolo1Linux (Ubuntu 20.04.2 LTS) / x86_64  OK    OK    OK  UNNEEDED, same version exists in internal repository
riesling1Windows Server 2019 Standard / x64  OK    OK    OK    OK  UNNEEDED, same version exists in internal repository
machv2macOS 10.14.6 Mojave / x86_64  OK    OK    OK    OK  UNNEEDED, same version exists in internal repository
Package 6/111HostnameOS / ArchINSTALLBUILDCHECKBUILD BIN
appreci8R 1.9.1  (landing page)
Sarah Sandmann
Last Commit: 501a440
Last Changed Date: 2020-12-02 08:18:34 -0400
nebbiolo1Linux (Ubuntu 20.04.2 LTS) / x86_64  OK    OK    OK  UNNEEDED, same version exists in internal repository
riesling1Windows Server 2019 Standard / x64  OK    OK    OK    OK  UNNEEDED, same version exists in internal repository
machv2macOS 10.14.6 Mojave / x86_64  OK    OK    OK    OK  UNNEEDED, same version exists in internal repository
Package 7/111HostnameOS / ArchINSTALLBUILDCHECKBUILD BIN
ASpediaFI 1.5.0  (landing page)
Doyeong Yu
Last Commit: 7705de1
Last Changed Date: 2020-10-27 11:50:40 -0400
nebbiolo1Linux (Ubuntu 20.04.2 LTS) / x86_64  OK    OK    OK  UNNEEDED, same version exists in internal repository
riesling1Windows Server 2019 Standard / x64  OK    OK    OK    OK  UNNEEDED, same version exists in internal repository
machv2macOS 10.14.6 Mojave / x86_64  OK    OK    OK    OK  UNNEEDED, same version exists in internal repository
Package 8/111HostnameOS / ArchINSTALLBUILDCHECKBUILD BIN
ASpli 2.1.1  (landing page)
Estefania Mancini
Last Commit: 39a5d3f
Last Changed Date: 2021-03-05 09:44:55 -0400
nebbiolo1Linux (Ubuntu 20.04.2 LTS) / x86_64  OK    OK    WARNINGS  UNNEEDED, same version exists in internal repository
riesling1Windows Server 2019 Standard / x64  OK    OK    WARNINGS    OK  UNNEEDED, same version exists in internal repository
machv2macOS 10.14.6 Mojave / x86_64  OK    OK    WARNINGS    OK  UNNEEDED, same version exists in internal repository
Package 9/111HostnameOS / ArchINSTALLBUILDCHECKBUILD BIN
bambu 1.1.3  (landing page)
Ying Chen
Last Commit: 87f7b9c
Last Changed Date: 2021-04-26 22:57:23 -0400
nebbiolo1Linux (Ubuntu 20.04.2 LTS) / x86_64  OK    OK    OK  UNNEEDED, same version exists in internal repository
riesling1Windows Server 2019 Standard / x64  OK    OK    OK    OK  UNNEEDED, same version exists in internal repository
machv2macOS 10.14.6 Mojave / x86_64  OK    OK    OK    OK  UNNEEDED, same version exists in internal repository
Package 10/111HostnameOS / ArchINSTALLBUILDCHECKBUILD BIN
BgeeCall 1.7.8  (landing page)
Julien Wollbrett
Last Commit: aeb8b4b
Last Changed Date: 2021-04-15 09:41:50 -0400
nebbiolo1Linux (Ubuntu 20.04.2 LTS) / x86_64  OK    OK    WARNINGS  UNNEEDED, same version exists in internal repository
riesling1Windows Server 2019 Standard / x64  OK    OK    WARNINGS    OK  UNNEEDED, same version exists in internal repository
machv2macOS 10.14.6 Mojave / x86_64  OK    OK    WARNINGS    OK  UNNEEDED, same version exists in internal repository
Package 11/111HostnameOS / ArchINSTALLBUILDCHECKBUILD BIN
BiocOncoTK 1.11.2  (landing page)
VJ Carey
Last Commit: 63f02a4
Last Changed Date: 2021-04-04 15:51:37 -0400
nebbiolo1Linux (Ubuntu 20.04.2 LTS) / x86_64  OK    OK    WARNINGS  UNNEEDED, same version exists in internal repository
riesling1Windows Server 2019 Standard / x64  OK    OK    WARNINGS    OK  UNNEEDED, same version exists in internal repository
machv2macOS 10.14.6 Mojave / x86_64  OK    OK    WARNINGS    OK  UNNEEDED, same version exists in internal repository
Package 12/111HostnameOS / ArchINSTALLBUILDCHECKBUILD BIN
biovizBase 1.39.0  (landing page)
Michael Lawrence
Last Commit: eba27b0
Last Changed Date: 2021-01-05 14:10:06 -0400
nebbiolo1Linux (Ubuntu 20.04.2 LTS) / x86_64  OK    OK    WARNINGS  UNNEEDED, same version exists in internal repository
riesling1Windows Server 2019 Standard / x64  OK    OK    WARNINGS    OK  UNNEEDED, same version exists in internal repository
machv2macOS 10.14.6 Mojave / x86_64  OK    OK    WARNINGS    OK  UNNEEDED, same version exists in internal repository
Package 13/111HostnameOS / ArchINSTALLBUILDCHECKBUILD BIN
bumphunter 1.33.0  (landing page)
Rafael A. Irizarry
Last Commit: 255eb38
Last Changed Date: 2020-12-15 07:41:44 -0400
nebbiolo1Linux (Ubuntu 20.04.2 LTS) / x86_64  OK    OK    OK  UNNEEDED, same version exists in internal repository
riesling1Windows Server 2019 Standard / x64  OK    OK    OK    OK  UNNEEDED, same version exists in internal repository
machv2macOS 10.14.6 Mojave / x86_64  OK    OK    OK    OK  UNNEEDED, same version exists in internal repository
Package 14/111HostnameOS / ArchINSTALLBUILDCHECKBUILD BIN
BUSpaRse 1.5.3  (landing page)
Lambda Moses
Last Commit: a9e02c3
Last Changed Date: 2021-03-01 14:52:48 -0400
nebbiolo1Linux (Ubuntu 20.04.2 LTS) / x86_64  OK    ERROR  skipped
riesling1Windows Server 2019 Standard / x64  OK    ERROR  skippedskipped
machv2macOS 10.14.6 Mojave / x86_64  OK    ERROR  skippedskipped
Package 15/111HostnameOS / ArchINSTALLBUILDCHECKBUILD BIN
CAGEfightR 1.11.0  (landing page)
Malte Thodberg
Last Commit: 97f44a1
Last Changed Date: 2020-10-27 11:35:28 -0400
nebbiolo1Linux (Ubuntu 20.04.2 LTS) / x86_64  OK    OK    OK  UNNEEDED, same version exists in internal repository
riesling1Windows Server 2019 Standard / x64  OK    OK    OK    OK  UNNEEDED, same version exists in internal repository
machv2macOS 10.14.6 Mojave / x86_64  OK    OK    OK    OK  UNNEEDED, same version exists in internal repository
Package 16/111HostnameOS / ArchINSTALLBUILDCHECKBUILD BIN
casper 2.25.1  (landing page)
David Rossell
Last Commit: bf6cf8b
Last Changed Date: 2020-12-09 04:51:05 -0400
nebbiolo1Linux (Ubuntu 20.04.2 LTS) / x86_64  OK    OK    WARNINGS  UNNEEDED, same version exists in internal repository
riesling1Windows Server 2019 Standard / x64  OK    OK    WARNINGS    OK  UNNEEDED, same version exists in internal repository
machv2macOS 10.14.6 Mojave / x86_64  OK    OK    WARNINGS    OK  UNNEEDED, same version exists in internal repository
Package 17/111HostnameOS / ArchINSTALLBUILDCHECKBUILD BIN
ChIPpeakAnno 3.25.4  (landing page)
Jianhong Ou
Last Commit: 488169a
Last Changed Date: 2021-03-29 22:11:50 -0400
nebbiolo1Linux (Ubuntu 20.04.2 LTS) / x86_64  OK    ERROR  skipped
riesling1Windows Server 2019 Standard / x64  OK    ERROR  skippedskipped
machv2macOS 10.14.6 Mojave / x86_64  OK    ERROR  skippedskipped
Package 18/111HostnameOS / ArchINSTALLBUILDCHECKBUILD BIN
ChIPQC 1.27.1  (landing page)
Tom Carroll , Rory Stark
Last Commit: f4e27d3
Last Changed Date: 2021-05-04 10:11:46 -0400
nebbiolo1Linux (Ubuntu 20.04.2 LTS) / x86_64  OK    OK    WARNINGS  YES, new version is higher than in internal repository
riesling1Windows Server 2019 Standard / x64  OK    OK    WARNINGS    OK  YES, new version is higher than in internal repository
machv2macOS 10.14.6 Mojave / x86_64  OK    OK    WARNINGS    OK  YES, new version is higher than in internal repository
Package 19/111HostnameOS / ArchINSTALLBUILDCHECKBUILD BIN
ChIPseeker 1.27.4  (landing page)
Guangchuang Yu
Last Commit: eaafbcc
Last Changed Date: 2021-04-27 03:59:33 -0400
nebbiolo1Linux (Ubuntu 20.04.2 LTS) / x86_64  OK    OK    OK  UNNEEDED, same version exists in internal repository
riesling1Windows Server 2019 Standard / x64  OK    OK    OK    OK  UNNEEDED, same version exists in internal repository
machv2macOS 10.14.6 Mojave / x86_64  OK    OK    OK    OK  UNNEEDED, same version exists in internal repository
Package 20/111HostnameOS / ArchINSTALLBUILDCHECKBUILD BIN
compEpiTools 1.25.0  (landing page)
Kamal Kishore
Last Commit: 73ba5d3
Last Changed Date: 2020-10-27 10:58:18 -0400
nebbiolo1Linux (Ubuntu 20.04.2 LTS) / x86_64  OK    OK    OK  UNNEEDED, same version exists in internal repository
riesling1Windows Server 2019 Standard / x64  OK    OK    OK    OK  UNNEEDED, same version exists in internal repository
machv2macOS 10.14.6 Mojave / x86_64  OK    OK    OK    OK  UNNEEDED, same version exists in internal repository
Package 21/111HostnameOS / ArchINSTALLBUILDCHECKBUILD BIN
CompGO 1.27.0  (landing page)
Ashley J. Waardenberg
Last Commit: c320564
Last Changed Date: 2020-10-27 10:55:50 -0400
nebbiolo1Linux (Ubuntu 20.04.2 LTS) / x86_64  OK    OK    WARNINGS  UNNEEDED, same version exists in internal repository
riesling1Windows Server 2019 Standard / x64  OK    OK    WARNINGS    OK  UNNEEDED, same version exists in internal repository
machv2macOS 10.14.6 Mojave / x86_64  OK    OK    WARNINGS    OK  UNNEEDED, same version exists in internal repository
Package 22/111HostnameOS / ArchINSTALLBUILDCHECKBUILD BIN
consensusDE 1.9.0  (landing page)
Ashley J. Waardenberg
Last Commit: bd1bbd2
Last Changed Date: 2020-10-27 11:40:12 -0400
nebbiolo1Linux (Ubuntu 20.04.2 LTS) / x86_64  OK    OK    OK  UNNEEDED, same version exists in internal repository
riesling1Windows Server 2019 Standard / x64  OK    OK    OK    OK  UNNEEDED, same version exists in internal repository
machv2macOS 10.14.6 Mojave / x86_64  OK    OK    OK    OK  UNNEEDED, same version exists in internal repository
Package 23/111HostnameOS / ArchINSTALLBUILDCHECKBUILD BIN
cpvSNP 1.23.0  (landing page)
Caitlin McHugh
Last Commit: a9b1fed
Last Changed Date: 2020-10-27 11:01:21 -0400
nebbiolo1Linux (Ubuntu 20.04.2 LTS) / x86_64  OK    OK    OK  UNNEEDED, same version exists in internal repository
riesling1Windows Server 2019 Standard / x64  OK    OK    OK    OK  UNNEEDED, same version exists in internal repository
machv2macOS 10.14.6 Mojave / x86_64  OK    OK    OK    OK  UNNEEDED, same version exists in internal repository
Package 24/111HostnameOS / ArchINSTALLBUILDCHECKBUILD BIN
crisprseekplus 1.17.0  (landing page)
Alper Kucukural
Last Commit: 7192bbb
Last Changed Date: 2020-10-27 11:18:51 -0400
nebbiolo1Linux (Ubuntu 20.04.2 LTS) / x86_64  OK    OK    OK  UNNEEDED, same version exists in internal repository
riesling1Windows Server 2019 Standard / x64  OK    OK    OK    OK  UNNEEDED, same version exists in internal repository
machv2macOS 10.14.6 Mojave / x86_64  OK    OK    OK    OK  UNNEEDED, same version exists in internal repository
Package 25/111HostnameOS / ArchINSTALLBUILDCHECKBUILD BIN
CSSQ 1.3.0  (landing page)
Fan Lab at Georgia Institute of Technology
Last Commit: e21abb6
Last Changed Date: 2020-10-27 11:52:14 -0400
nebbiolo1Linux (Ubuntu 20.04.2 LTS) / x86_64  OK    OK    OK  UNNEEDED, same version exists in internal repository
riesling1Windows Server 2019 Standard / x64  OK    OK    OK    OK  UNNEEDED, same version exists in internal repository
machv2macOS 10.14.6 Mojave / x86_64  OK    OK    OK    OK  UNNEEDED, same version exists in internal repository
Package 26/111HostnameOS / ArchINSTALLBUILDCHECKBUILD BIN
customProDB 1.31.1  (landing page)
Xiaojing Wang
Last Commit: 9835151
Last Changed Date: 2021-04-26 12:58:14 -0400
nebbiolo1Linux (Ubuntu 20.04.2 LTS) / x86_64  OK    OK    OK  UNNEEDED, same version exists in internal repository
riesling1Windows Server 2019 Standard / x64  OK    OK    OK    OK  UNNEEDED, same version exists in internal repository
machv2macOS 10.14.6 Mojave / x86_64  OK    OK    OK    OK  UNNEEDED, same version exists in internal repository
Package 27/111HostnameOS / ArchINSTALLBUILDCHECKBUILD BIN
dasper 1.1.0  (landing page)
David Zhang
Last Commit: ff8cf51
Last Changed Date: 2020-10-27 12:03:54 -0400
nebbiolo1Linux (Ubuntu 20.04.2 LTS) / x86_64  OK    OK    OK  UNNEEDED, same version exists in internal repository
riesling1Windows Server 2019 Standard / x64  OK    OK    OK    OK  UNNEEDED, same version exists in internal repository
machv2macOS 10.14.6 Mojave / x86_64  OK    OK    OK    OK  UNNEEDED, same version exists in internal repository
Package 28/111HostnameOS / ArchINSTALLBUILDCHECKBUILD BIN
decompTumor2Sig 2.7.3  (landing page)
Rosario M. Piro
Last Commit: f663dbd
Last Changed Date: 2021-04-01 10:33:01 -0400
nebbiolo1Linux (Ubuntu 20.04.2 LTS) / x86_64  OK    OK    OK  UNNEEDED, same version exists in internal repository
riesling1Windows Server 2019 Standard / x64  OK    OK    OK    OK  UNNEEDED, same version exists in internal repository
machv2macOS 10.14.6 Mojave / x86_64  OK    OK    OK    OK  UNNEEDED, same version exists in internal repository
Package 29/111HostnameOS / ArchINSTALLBUILDCHECKBUILD BIN
DegNorm 1.1.0  (landing page)
Ji-Ping Wang
Last Commit: 70ae444
Last Changed Date: 2020-10-27 11:57:52 -0400
nebbiolo1Linux (Ubuntu 20.04.2 LTS) / x86_64  OK    OK    OK  UNNEEDED, same version exists in internal repository
riesling1Windows Server 2019 Standard / x64  OK    OK    OK    OK  UNNEEDED, same version exists in internal repository
machv2macOS 10.14.6 Mojave / x86_64  OK    OK    OK    OK  UNNEEDED, same version exists in internal repository
Package 30/111HostnameOS / ArchINSTALLBUILDCHECKBUILD BIN
derfinder 1.25.3  (landing page)
Leonardo Collado-Torres
Last Commit: 4d96122
Last Changed Date: 2021-05-03 15:15:48 -0400
nebbiolo1Linux (Ubuntu 20.04.2 LTS) / x86_64  OK    OK    OK  UNNEEDED, same version exists in internal repository
riesling1Windows Server 2019 Standard / x64  OK    OK    OK    OK  UNNEEDED, same version exists in internal repository
machv2macOS 10.14.6 Mojave / x86_64  OK    OK    OK    OK  UNNEEDED, same version exists in internal repository
Package 31/111HostnameOS / ArchINSTALLBUILDCHECKBUILD BIN
derfinderPlot 1.25.1  (landing page)
Leonardo Collado-Torres
Last Commit: 36eede2
Last Changed Date: 2020-12-17 17:25:38 -0400
nebbiolo1Linux (Ubuntu 20.04.2 LTS) / x86_64  OK    OK    OK  UNNEEDED, same version exists in internal repository
riesling1Windows Server 2019 Standard / x64  OK    OK    OK    OK  UNNEEDED, same version exists in internal repository
machv2macOS 10.14.6 Mojave / x86_64  OK    OK    OK    OK  UNNEEDED, same version exists in internal repository
Package 32/111HostnameOS / ArchINSTALLBUILDCHECKBUILD BIN
EDASeq 2.25.0  (landing page)
Davide Risso
Last Commit: 69b0dce
Last Changed Date: 2020-10-27 10:42:52 -0400
nebbiolo1Linux (Ubuntu 20.04.2 LTS) / x86_64  OK    OK    OK  UNNEEDED, same version exists in internal repository
riesling1Windows Server 2019 Standard / x64  OK    OK    OK    OK  UNNEEDED, same version exists in internal repository
machv2macOS 10.14.6 Mojave / x86_64  OK    OK    OK    OK  UNNEEDED, same version exists in internal repository
Package 33/111HostnameOS / ArchINSTALLBUILDCHECKBUILD BIN
ELMER 2.15.0  (landing page)
Tiago Chedraoui Silva
Last Commit: 0df765f
Last Changed Date: 2020-10-27 11:05:43 -0400
nebbiolo1Linux (Ubuntu 20.04.2 LTS) / x86_64  OK    OK    OK  UNNEEDED, same version exists in internal repository
riesling1Windows Server 2019 Standard / x64  OK    OK    OK    OK  UNNEEDED, same version exists in internal repository
machv2macOS 10.14.6 Mojave / x86_64  OK    OK    OK    OK  UNNEEDED, same version exists in internal repository
Package 34/111HostnameOS / ArchINSTALLBUILDCHECKBUILD BIN
ensembldb 2.15.3  (landing page)
Johannes Rainer
Last Commit: 88c2f0a
Last Changed Date: 2021-04-19 02:02:33 -0400
nebbiolo1Linux (Ubuntu 20.04.2 LTS) / x86_64  OK    OK    OK  UNNEEDED, same version exists in internal repository
riesling1Windows Server 2019 Standard / x64  OK    OK    OK    OK  UNNEEDED, same version exists in internal repository
machv2macOS 10.14.6 Mojave / x86_64  OK    OK    OK    OK  UNNEEDED, same version exists in internal repository
Package 35/111HostnameOS / ArchINSTALLBUILDCHECKBUILD BIN
EpiTxDb 1.3.3  (landing page)
Felix G.M. Ernst
Last Commit: 24927e8
Last Changed Date: 2021-03-25 06:01:39 -0400
nebbiolo1Linux (Ubuntu 20.04.2 LTS) / x86_64  OK    OK    OK  UNNEEDED, same version exists in internal repository
riesling1Windows Server 2019 Standard / x64  OK    OK    OK    OK  UNNEEDED, same version exists in internal repository
machv2macOS 10.14.6 Mojave / x86_64  OK    OK    OK    OK  UNNEEDED, same version exists in internal repository
Package 36/111HostnameOS / ArchINSTALLBUILDCHECKBUILD BIN
epivizrData 1.19.1  (landing page)
Hector Corrada Bravo
Last Commit: e64b750
Last Changed Date: 2021-02-25 19:44:06 -0400
nebbiolo1Linux (Ubuntu 20.04.2 LTS) / x86_64  OK    OK    OK  UNNEEDED, same version exists in internal repository
riesling1Windows Server 2019 Standard / x64  OK    OK    OK    OK  UNNEEDED, same version exists in internal repository
machv2macOS 10.14.6 Mojave / x86_64  OK    OK    OK    OK  UNNEEDED, same version exists in internal repository
Package 37/111HostnameOS / ArchINSTALLBUILDCHECKBUILD BIN
epivizrStandalone 1.19.1  (landing page)
Hector Corrada Bravo
Last Commit: cc9326a
Last Changed Date: 2021-04-30 07:06:46 -0400
nebbiolo1Linux (Ubuntu 20.04.2 LTS) / x86_64  OK    OK    OK  UNNEEDED, same version exists in internal repository
riesling1Windows Server 2019 Standard / x64  OK    OK    OK    OK  UNNEEDED, same version exists in internal repository
machv2macOS 10.14.6 Mojave / x86_64  OK    OK    OK    OK  UNNEEDED, same version exists in internal repository
Package 38/111HostnameOS / ArchINSTALLBUILDCHECKBUILD BIN
esATAC 1.13.0  (landing page)
Zheng Wei
Last Commit: 1715254
Last Changed Date: 2020-10-27 11:29:55 -0400
nebbiolo1Linux (Ubuntu 20.04.2 LTS) / x86_64  OK    OK    WARNINGS  UNNEEDED, same version exists in internal repository
riesling1Windows Server 2019 Standard / x64  OK    OK    WARNINGS    OK  UNNEEDED, same version exists in internal repository
machv2macOS 10.14.6 Mojave / x86_64  OK    OK    WARNINGS    OK  UNNEEDED, same version exists in internal repository
Package 39/111HostnameOS / ArchINSTALLBUILDCHECKBUILD BIN
EventPointer 2.99.5  (landing page)
Juan A. Ferrer-Bonsoms
Last Commit: b42cf09
Last Changed Date: 2021-04-15 12:57:56 -0400
nebbiolo1Linux (Ubuntu 20.04.2 LTS) / x86_64  OK    OK    OK  UNNEEDED, same version exists in internal repository
riesling1Windows Server 2019 Standard / x64  OK    OK    OK    OK  UNNEEDED, same version exists in internal repository
machv2macOS 10.14.6 Mojave / x86_64  OK    OK    OK    OK  UNNEEDED, same version exists in internal repository
Package 40/111HostnameOS / ArchINSTALLBUILDCHECKBUILD BIN
exomePeak2 1.3.8  (landing page)
Zhen Wei
Last Commit: 5b0291e
Last Changed Date: 2021-04-07 02:18:22 -0400
nebbiolo1Linux (Ubuntu 20.04.2 LTS) / x86_64  OK    OK    WARNINGS  UNNEEDED, same version exists in internal repository
riesling1Windows Server 2019 Standard / x64  OK    OK    WARNINGS    OK  UNNEEDED, same version exists in internal repository
machv2macOS 10.14.6 Mojave / x86_64  OK    OK    WARNINGS    OK  UNNEEDED, same version exists in internal repository
Package 41/111HostnameOS / ArchINSTALLBUILDCHECKBUILD BIN
FRASER 1.3.1  (landing page)
Christian Mertes
Last Commit: 46b6e0b
Last Changed Date: 2021-01-27 16:52:05 -0400
nebbiolo1Linux (Ubuntu 20.04.2 LTS) / x86_64  OK    OK    OK  UNNEEDED, same version exists in internal repository
riesling1Windows Server 2019 Standard / x64  OK    OK    OK    OK  UNNEEDED, same version exists in internal repository
machv2macOS 10.14.6 Mojave / x86_64  OK    OK    OK    OK  UNNEEDED, same version exists in internal repository
Package 42/111HostnameOS / ArchINSTALLBUILDCHECKBUILD BIN
GA4GHshiny 1.13.0  (landing page)
Welliton Souza
Last Commit: e14623c
Last Changed Date: 2020-10-27 11:24:31 -0400
nebbiolo1Linux (Ubuntu 20.04.2 LTS) / x86_64  OK    OK    OK  UNNEEDED, same version exists in internal repository
riesling1Windows Server 2019 Standard / x64  OK    OK    OK    OK  UNNEEDED, same version exists in internal repository
machv2macOS 10.14.6 Mojave / x86_64  OK    OK    OK    OK  UNNEEDED, same version exists in internal repository
Package 43/111HostnameOS / ArchINSTALLBUILDCHECKBUILD BIN
genbankr 1.19.0  (landing page)
Gabriel Becker
Last Commit: 67ca828
Last Changed Date: 2020-10-27 11:14:04 -0400
nebbiolo1Linux (Ubuntu 20.04.2 LTS) / x86_64  OK    OK    OK  UNNEEDED, same version exists in internal repository
riesling1Windows Server 2019 Standard / x64  OK    OK    OK    OK  UNNEEDED, same version exists in internal repository
machv2macOS 10.14.6 Mojave / x86_64  OK    OK    OK    OK  UNNEEDED, same version exists in internal repository
Package 44/111HostnameOS / ArchINSTALLBUILDCHECKBUILD BIN
geneAttribution 1.17.0  (landing page)
Arthur Wuster
Last Commit: 8e20760
Last Changed Date: 2020-10-27 11:17:20 -0400
nebbiolo1Linux (Ubuntu 20.04.2 LTS) / x86_64  OK    OK    OK  UNNEEDED, same version exists in internal repository
riesling1Windows Server 2019 Standard / x64  OK    OK    OK    OK  UNNEEDED, same version exists in internal repository
machv2macOS 10.14.6 Mojave / x86_64  OK    OK    OK    OK  UNNEEDED, same version exists in internal repository
Package 45/111HostnameOS / ArchINSTALLBUILDCHECKBUILD BIN
GenVisR 1.23.1  (landing page)
Zachary Skidmore
Last Commit: 68b5533
Last Changed Date: 2020-12-14 17:44:09 -0400
nebbiolo1Linux (Ubuntu 20.04.2 LTS) / x86_64  OK    OK    OK  UNNEEDED, same version exists in internal repository
riesling1Windows Server 2019 Standard / x64  OK    OK    OK    OK  UNNEEDED, same version exists in internal repository
machv2macOS 10.14.6 Mojave / x86_64  OK    OK    OK    OK  UNNEEDED, same version exists in internal repository
Package 46/111HostnameOS / ArchINSTALLBUILDCHECKBUILD BIN
ggbio 1.39.0  (landing page)
Michael Lawrence
Last Commit: 8ba46c3
Last Changed Date: 2021-04-13 13:14:51 -0400
nebbiolo1Linux (Ubuntu 20.04.2 LTS) / x86_64  OK    ERROR  skipped
riesling1Windows Server 2019 Standard / x64  OK    ERROR  skippedskipped
machv2macOS 10.14.6 Mojave / x86_64  OK    ERROR  skippedskipped
Package 47/111HostnameOS / ArchINSTALLBUILDCHECKBUILD BIN
gmapR 1.33.0  (landing page)
Michael Lawrence
Last Commit: 38f36e1
Last Changed Date: 2021-01-05 14:14:02 -0400
nebbiolo1Linux (Ubuntu 20.04.2 LTS) / x86_64  OK    OK    WARNINGS  UNNEEDED, same version exists in internal repository
riesling1Windows Server 2019 Standard / x64... NOT SUPPORTED ...
machv2macOS 10.14.6 Mojave / x86_64  OK    OK    WARNINGS    OK  UNNEEDED, same version exists in internal repository
Package 48/111HostnameOS / ArchINSTALLBUILDCHECKBUILD BIN
gmoviz 1.3.0  (landing page)
Kathleen Zeglinski
Last Commit: 3a3993a
Last Changed Date: 2020-10-27 11:54:40 -0400
nebbiolo1Linux (Ubuntu 20.04.2 LTS) / x86_64  OK    OK    OK  UNNEEDED, same version exists in internal repository
riesling1Windows Server 2019 Standard / x64  OK    OK    OK    OK  UNNEEDED, same version exists in internal repository
machv2macOS 10.14.6 Mojave / x86_64  OK    OK    OK    OK  UNNEEDED, same version exists in internal repository
Package 49/111HostnameOS / ArchINSTALLBUILDCHECKBUILD BIN
GSReg 1.25.0  (landing page)
Bahman Afsari , Elana J. Fertig
Last Commit: aef8da6
Last Changed Date: 2020-10-27 10:57:36 -0400
nebbiolo1Linux (Ubuntu 20.04.2 LTS) / x86_64  OK    OK    WARNINGS  UNNEEDED, same version exists in internal repository
riesling1Windows Server 2019 Standard / x64  OK    OK    WARNINGS    OK  UNNEEDED, same version exists in internal repository
machv2macOS 10.14.6 Mojave / x86_64  OK    OK    WARNINGS    OK  UNNEEDED, same version exists in internal repository
Package 50/111HostnameOS / ArchINSTALLBUILDCHECKBUILD BIN
Guitar 2.7.0  (landing page)
Jia Meng
Last Commit: 3b8be5a
Last Changed Date: 2020-10-27 11:08:17 -0400
nebbiolo1Linux (Ubuntu 20.04.2 LTS) / x86_64  OK    OK    OK  UNNEEDED, same version exists in internal repository
riesling1Windows Server 2019 Standard / x64  OK    OK    OK    OK  UNNEEDED, same version exists in internal repository
machv2macOS 10.14.6 Mojave / x86_64  OK    OK    OK    OK  UNNEEDED, same version exists in internal repository
Package 51/111HostnameOS / ArchINSTALLBUILDCHECKBUILD BIN
Gviz 1.35.6  (landing page)
Robert Ivanek
Last Commit: 6a86bbf
Last Changed Date: 2021-04-19 16:26:06 -0400
nebbiolo1Linux (Ubuntu 20.04.2 LTS) / x86_64  OK    OK    ERROR  
riesling1Windows Server 2019 Standard / x64  OK    OK    OK    OK  UNNEEDED, same version exists in internal repository
machv2macOS 10.14.6 Mojave / x86_64  OK    OK    OK    OK  UNNEEDED, same version exists in internal repository
Package 52/111HostnameOS / ArchINSTALLBUILDCHECKBUILD BIN
gwascat 2.23.0  (landing page)
VJ Carey
Last Commit: 5034d6b
Last Changed Date: 2020-10-27 10:44:53 -0400
nebbiolo1Linux (Ubuntu 20.04.2 LTS) / x86_64  OK    OK    OK  UNNEEDED, same version exists in internal repository
riesling1Windows Server 2019 Standard / x64  OK    OK    OK    OK  UNNEEDED, same version exists in internal repository
machv2macOS 10.14.6 Mojave / x86_64  OK    OK    OK    OK  UNNEEDED, same version exists in internal repository
Package 53/111HostnameOS / ArchINSTALLBUILDCHECKBUILD BIN
HelloRanges 1.17.0  (landing page)
Michael Lawrence
Last Commit: 706dadb
Last Changed Date: 2020-10-27 11:18:48 -0400
nebbiolo1Linux (Ubuntu 20.04.2 LTS) / x86_64  OK    OK    ERROR  
riesling1Windows Server 2019 Standard / x64  OK    OK    ERROR    OK  
machv2macOS 10.14.6 Mojave / x86_64  OK    OK    ERROR    OK  
Package 54/111HostnameOS / ArchINSTALLBUILDCHECKBUILD BIN
HiLDA 1.5.0  (landing page)
Zhi Yang
Last Commit: 5e5bdbd
Last Changed Date: 2020-10-27 11:47:36 -0400
nebbiolo1Linux (Ubuntu 20.04.2 LTS) / x86_64  OK    OK    OK  UNNEEDED, same version exists in internal repository
riesling1Windows Server 2019 Standard / x64  OK    OK    OK    OK  UNNEEDED, same version exists in internal repository
machv2macOS 10.14.6 Mojave / x86_64  OK    OK    OK    OK  UNNEEDED, same version exists in internal repository
Package 55/111HostnameOS / ArchINSTALLBUILDCHECKBUILD BIN
HTSeqGenie 4.21.0  (landing page)
Jens Reeder
Last Commit: 14d3962
Last Changed Date: 2020-10-27 10:47:41 -0400
nebbiolo1Linux (Ubuntu 20.04.2 LTS) / x86_64  OK    OK    OK  UNNEEDED, same version exists in internal repository
riesling1Windows Server 2019 Standard / x64... NOT SUPPORTED ...
machv2macOS 10.14.6 Mojave / x86_64... NOT SUPPORTED ...
Package 56/111HostnameOS / ArchINSTALLBUILDCHECKBUILD BIN
icetea 1.9.0  (landing page)
Vivek Bhardwaj
Last Commit: a742d6a
Last Changed Date: 2020-10-27 11:36:17 -0400
nebbiolo1Linux (Ubuntu 20.04.2 LTS) / x86_64  OK    ERROR  skipped
riesling1Windows Server 2019 Standard / x64  OK    ERROR  skippedskipped
machv2macOS 10.14.6 Mojave / x86_64  OK    ERROR  skippedskipped
Package 57/111HostnameOS / ArchINSTALLBUILDCHECKBUILD BIN
IMAS 1.15.0  (landing page)
Seonggyun Han
Last Commit: 294dde5
Last Changed Date: 2020-10-27 11:23:28 -0400
nebbiolo1Linux (Ubuntu 20.04.2 LTS) / x86_64  OK    OK    OK  UNNEEDED, same version exists in internal repository
riesling1Windows Server 2019 Standard / x64  OK    OK    OK    OK  UNNEEDED, same version exists in internal repository
machv2macOS 10.14.6 Mojave / x86_64  OK    OK    OK    OK  UNNEEDED, same version exists in internal repository
Package 58/111HostnameOS / ArchINSTALLBUILDCHECKBUILD BIN
InPAS 1.99.3  (landing page)
Jianhong Ou
Last Commit: 5c5bbd1
Last Changed Date: 2021-04-15 18:16:37 -0400
nebbiolo1Linux (Ubuntu 20.04.2 LTS) / x86_64  OK    ERROR  skipped
riesling1Windows Server 2019 Standard / x64  OK    ERROR  skippedskipped
machv2macOS 10.14.6 Mojave / x86_64  OK    ERROR  skippedskipped
Package 59/111HostnameOS / ArchINSTALLBUILDCHECKBUILD BIN
INSPEcT 1.21.0  (landing page)
Stefano de Pretis
Last Commit: 9c876c8
Last Changed Date: 2020-10-27 11:06:18 -0400
nebbiolo1Linux (Ubuntu 20.04.2 LTS) / x86_64  OK    OK    OK  UNNEEDED, same version exists in internal repository
riesling1Windows Server 2019 Standard / x64  OK    OK    OK    OK  UNNEEDED, same version exists in internal repository
machv2macOS 10.14.6 Mojave / x86_64  OK    OK    OK    OK  UNNEEDED, same version exists in internal repository
Package 60/111HostnameOS / ArchINSTALLBUILDCHECKBUILD BIN
IntEREst 1.15.0  (landing page)
Ali Oghabian , Mikko Frilander
Last Commit: ee1900d
Last Changed Date: 2020-10-27 11:22:17 -0400
nebbiolo1Linux (Ubuntu 20.04.2 LTS) / x86_64  OK    OK    OK  UNNEEDED, same version exists in internal repository
riesling1Windows Server 2019 Standard / x64  OK    OK    OK    OK  UNNEEDED, same version exists in internal repository
machv2macOS 10.14.6 Mojave / x86_64  OK    OK    OK    OK  UNNEEDED, same version exists in internal repository
Package 61/111HostnameOS / ArchINSTALLBUILDCHECKBUILD BIN
IVAS 2.11.0  (landing page)
Seonggyun Han
Last Commit: a60cb45
Last Changed Date: 2020-10-27 11:02:14 -0400
nebbiolo1Linux (Ubuntu 20.04.2 LTS) / x86_64  OK    OK    WARNINGS  UNNEEDED, same version exists in internal repository
riesling1Windows Server 2019 Standard / x64  OK    OK    WARNINGS    OK  UNNEEDED, same version exists in internal repository
machv2macOS 10.14.6 Mojave / x86_64  OK    OK    WARNINGS    OK  UNNEEDED, same version exists in internal repository
Package 62/111HostnameOS / ArchINSTALLBUILDCHECKBUILD BIN
karyoploteR 1.17.0  (landing page)
Bernat Gel
Last Commit: 3bb80e9
Last Changed Date: 2020-10-27 11:21:06 -0400
nebbiolo1Linux (Ubuntu 20.04.2 LTS) / x86_64  OK    ERROR  skipped
riesling1Windows Server 2019 Standard / x64  OK    ERROR  skippedskipped
machv2macOS 10.14.6 Mojave / x86_64  OK    ERROR  skippedskipped
Package 63/111HostnameOS / ArchINSTALLBUILDCHECKBUILD BIN
lumi 2.43.0  (landing page)
Lei Huang
Last Commit: 54fddcf
Last Changed Date: 2020-10-27 10:30:06 -0400
nebbiolo1Linux (Ubuntu 20.04.2 LTS) / x86_64  OK    OK    WARNINGS  UNNEEDED, same version exists in internal repository
riesling1Windows Server 2019 Standard / x64  OK    OK    WARNINGS    OK  UNNEEDED, same version exists in internal repository
machv2macOS 10.14.6 Mojave / x86_64  OK    OK    WARNINGS    OK  UNNEEDED, same version exists in internal repository
Package 64/111HostnameOS / ArchINSTALLBUILDCHECKBUILD BIN
mCSEA 1.11.0  (landing page)
Jordi Martorell-Marugán
Last Commit: ce026ab
Last Changed Date: 2020-10-27 11:31:18 -0400
nebbiolo1Linux (Ubuntu 20.04.2 LTS) / x86_64  OK    OK    OK  UNNEEDED, same version exists in internal repository
riesling1Windows Server 2019 Standard / x64  OK    OK    OK    OK  UNNEEDED, same version exists in internal repository
machv2macOS 10.14.6 Mojave / x86_64  OK    OK    OK    OK  UNNEEDED, same version exists in internal repository
Package 65/111HostnameOS / ArchINSTALLBUILDCHECKBUILD BIN
metagene 2.23.1  (landing page)
Charles Joly Beauparlant
Last Commit: be83fca
Last Changed Date: 2020-12-15 08:34:33 -0400
nebbiolo1Linux (Ubuntu 20.04.2 LTS) / x86_64  OK    OK    OK  UNNEEDED, same version exists in internal repository
riesling1Windows Server 2019 Standard / x64  OK    OK    OK    OK  UNNEEDED, same version exists in internal repository
machv2macOS 10.14.6 Mojave / x86_64  OK    OK    OK    OK  UNNEEDED, same version exists in internal repository
Package 66/111HostnameOS / ArchINSTALLBUILDCHECKBUILD BIN
metaseqR2 1.3.14  (landing page)
Panagiotis Moulos
Last Commit: 34a3200
Last Changed Date: 2021-03-15 04:08:56 -0400
nebbiolo1Linux (Ubuntu 20.04.2 LTS) / x86_64  OK    OK    OK  UNNEEDED, same version exists in internal repository
riesling1Windows Server 2019 Standard / x64  OK    OK    OK    OK  UNNEEDED, same version exists in internal repository
machv2macOS 10.14.6 Mojave / x86_64  OK    OK    OK    OK  UNNEEDED, same version exists in internal repository
Package 67/111HostnameOS / ArchINSTALLBUILDCHECKBUILD BIN
methyAnalysis 1.33.1  (landing page)
Lei Huang
Last Commit: cd14e66
Last Changed Date: 2021-03-08 13:05:45 -0400
nebbiolo1Linux (Ubuntu 20.04.2 LTS) / x86_64  OK    OK    WARNINGS  UNNEEDED, same version exists in internal repository
riesling1Windows Server 2019 Standard / x64... NOT SUPPORTED ...
machv2macOS 10.14.6 Mojave / x86_64  OK    OK    WARNINGS    OK  UNNEEDED, same version exists in internal repository
Package 68/111HostnameOS / ArchINSTALLBUILDCHECKBUILD BIN
msgbsR 1.15.0  (landing page)
Benjamin Mayne
Last Commit: c09cf80
Last Changed Date: 2020-10-27 11:24:25 -0400
nebbiolo1Linux (Ubuntu 20.04.2 LTS) / x86_64  OK    OK    WARNINGS  UNNEEDED, same version exists in internal repository
riesling1Windows Server 2019 Standard / x64  OK    OK    WARNINGS    OK  UNNEEDED, same version exists in internal repository
machv2macOS 10.14.6 Mojave / x86_64  OK    OK    WARNINGS    OK  UNNEEDED, same version exists in internal repository
Package 69/111HostnameOS / ArchINSTALLBUILDCHECKBUILD BIN
multicrispr 1.1.0  (landing page)
Aditya Bhagwat
Last Commit: 3d0b0ec
Last Changed Date: 2020-10-27 11:57:55 -0400
nebbiolo1Linux (Ubuntu 20.04.2 LTS) / x86_64  OK    OK    OK  UNNEEDED, same version exists in internal repository
riesling1Windows Server 2019 Standard / x64  OK    OK    OK    OK  UNNEEDED, same version exists in internal repository
machv2macOS 10.14.6 Mojave / x86_64  OK    OK    OK    OK  UNNEEDED, same version exists in internal repository
Package 70/111HostnameOS / ArchINSTALLBUILDCHECKBUILD BIN
musicatk 1.1.2  (landing page)
Aaron Chevalier
Last Commit: 625c5d0
Last Changed Date: 2021-04-18 16:36:12 -0400
nebbiolo1Linux (Ubuntu 20.04.2 LTS) / x86_64  OK    OK    OK  UNNEEDED, same version exists in internal repository
riesling1Windows Server 2019 Standard / x64  OK    OK    OK    OK  UNNEEDED, same version exists in internal repository
machv2macOS 10.14.6 Mojave / x86_64  OK    OK    OK    OK  UNNEEDED, same version exists in internal repository
Package 71/111HostnameOS / ArchINSTALLBUILDCHECKBUILD BIN
mygene 1.27.0  (landing page)
Adam Mark, Cyrus Afrasiabi, Chunlei Wu
Last Commit: ab14a56
Last Changed Date: 2020-10-27 11:00:58 -0400
nebbiolo1Linux (Ubuntu 20.04.2 LTS) / x86_64  OK    OK    OK  UNNEEDED, same version exists in internal repository
riesling1Windows Server 2019 Standard / x64  OK    OK    OK    OK  UNNEEDED, same version exists in internal repository
machv2macOS 10.14.6 Mojave / x86_64  OK    OK    OK    OK  UNNEEDED, same version exists in internal repository
Package 72/111HostnameOS / ArchINSTALLBUILDCHECKBUILD BIN
NoRCE 1.3.0  (landing page)
Gulden Olgun
Last Commit: 80e5d77
Last Changed Date: 2020-10-27 11:54:30 -0400
nebbiolo1Linux (Ubuntu 20.04.2 LTS) / x86_64  OK    OK    OK  UNNEEDED, same version exists in internal repository
riesling1Windows Server 2019 Standard / x64  OK    OK    OK    OK  UNNEEDED, same version exists in internal repository
machv2macOS 10.14.6 Mojave / x86_64  OK    OK    OK    OK  UNNEEDED, same version exists in internal repository
Package 73/111HostnameOS / ArchINSTALLBUILDCHECKBUILD BIN
ORFik 1.11.23  (landing page)
Haakon Tjeldnes
Last Commit: 5427c38
Last Changed Date: 2021-03-26 10:13:36 -0400
nebbiolo1Linux (Ubuntu 20.04.2 LTS) / x86_64  OK    ERROR  skipped
riesling1Windows Server 2019 Standard / x64  OK    ERROR  skippedskipped
machv2macOS 10.14.6 Mojave / x86_64  OK    ERROR  skippedskipped
Package 74/111HostnameOS / ArchINSTALLBUILDCHECKBUILD BIN
Organism.dplyr 1.19.0  (landing page)
Martin Morgan
Last Commit: 2862f0c
Last Changed Date: 2020-10-27 11:21:57 -0400
nebbiolo1Linux (Ubuntu 20.04.2 LTS) / x86_64  OK    OK    OK  UNNEEDED, same version exists in internal repository
riesling1Windows Server 2019 Standard / x64  OK    OK    OK    OK  UNNEEDED, same version exists in internal repository
machv2macOS 10.14.6 Mojave / x86_64  OK    OK    OK    OK  UNNEEDED, same version exists in internal repository
Package 75/111HostnameOS / ArchINSTALLBUILDCHECKBUILD BIN
OrganismDbi 1.33.0  (landing page)
Bioconductor Package Maintainer
Last Commit: a436c4f
Last Changed Date: 2020-10-27 10:47:04 -0400
nebbiolo1Linux (Ubuntu 20.04.2 LTS) / x86_64  OK    OK    WARNINGS  UNNEEDED, same version exists in internal repository
riesling1Windows Server 2019 Standard / x64  OK    OK    WARNINGS    OK  UNNEEDED, same version exists in internal repository
machv2macOS 10.14.6 Mojave / x86_64  OK    OK    WARNINGS    OK  UNNEEDED, same version exists in internal repository
Package 76/111HostnameOS / ArchINSTALLBUILDCHECKBUILD BIN
OUTRIDER 1.9.0  (landing page)
Christian Mertes
Last Commit: 4e4630f
Last Changed Date: 2020-10-27 11:37:07 -0400
nebbiolo1Linux (Ubuntu 20.04.2 LTS) / x86_64  OK    OK    OK  UNNEEDED, same version exists in internal repository
riesling1Windows Server 2019 Standard / x64  OK    OK    OK    OK  UNNEEDED, same version exists in internal repository
machv2macOS 10.14.6 Mojave / x86_64  OK    OK    OK    OK  UNNEEDED, same version exists in internal repository
Package 77/111HostnameOS / ArchINSTALLBUILDCHECKBUILD BIN
proActiv 1.1.21  (landing page)
Joseph Lee
Last Commit: f0b1ebd
Last Changed Date: 2021-04-21 11:35:28 -0400
nebbiolo1Linux (Ubuntu 20.04.2 LTS) / x86_64  OK    ERROR  skipped
riesling1Windows Server 2019 Standard / x64  OK    ERROR  skippedskipped
machv2macOS 10.14.6 Mojave / x86_64  OK    ERROR  skippedskipped
Package 78/111HostnameOS / ArchINSTALLBUILDCHECKBUILD BIN
proBAMr 1.25.0  (landing page)
Xiaojing Wang
Last Commit: 26cea12
Last Changed Date: 2020-10-27 10:59:42 -0400
nebbiolo1Linux (Ubuntu 20.04.2 LTS) / x86_64  OK    OK    OK  UNNEEDED, same version exists in internal repository
riesling1Windows Server 2019 Standard / x64  OK    OK    OK    OK  UNNEEDED, same version exists in internal repository
machv2macOS 10.14.6 Mojave / x86_64  OK    OK    OK    OK  UNNEEDED, same version exists in internal repository
Package 79/111HostnameOS / ArchINSTALLBUILDCHECKBUILD BIN
profileplyr 1.7.2  (landing page)
Tom Carroll , Doug Barrows
Last Commit: a1dc2d7
Last Changed Date: 2020-10-30 14:10:23 -0400
nebbiolo1Linux (Ubuntu 20.04.2 LTS) / x86_64  OK    ERROR  skipped
riesling1Windows Server 2019 Standard / x64  OK    ERROR  skippedskipped
machv2macOS 10.14.6 Mojave / x86_64  OK    ERROR  skippedskipped
Package 80/111HostnameOS / ArchINSTALLBUILDCHECKBUILD BIN
PureCN 1.21.15  (landing page)
Markus Riester
Last Commit: a649e70
Last Changed Date: 2021-05-03 10:49:23 -0400
nebbiolo1Linux (Ubuntu 20.04.2 LTS) / x86_64  OK    ERROR  skipped
riesling1Windows Server 2019 Standard / x64  OK    ERROR  skippedskipped
machv2macOS 10.14.6 Mojave / x86_64  OK    ERROR  skippedskipped
Package 81/111HostnameOS / ArchINSTALLBUILDCHECKBUILD BIN
qpgraph 2.25.9  (landing page)
Robert Castelo
Last Commit: c13a157
Last Changed Date: 2021-03-30 13:45:35 -0400
nebbiolo1Linux (Ubuntu 20.04.2 LTS) / x86_64  OK    OK    WARNINGS  UNNEEDED, same version exists in internal repository
riesling1Windows Server 2019 Standard / x64  OK    OK    WARNINGS    OK  UNNEEDED, same version exists in internal repository
machv2macOS 10.14.6 Mojave / x86_64  OK    OK    WARNINGS    OK  UNNEEDED, same version exists in internal repository
Package 82/111HostnameOS / ArchINSTALLBUILDCHECKBUILD BIN
QuasR 1.31.2  (landing page)
Michael Stadler
Last Commit: 3fceef6
Last Changed Date: 2021-04-14 06:28:45 -0400
nebbiolo1Linux (Ubuntu 20.04.2 LTS) / x86_64  OK    OK    OK  UNNEEDED, same version exists in internal repository
riesling1Windows Server 2019 Standard / x64  OK    OK    OK    OK  UNNEEDED, same version exists in internal repository
machv2macOS 10.14.6 Mojave / x86_64  OK    OK    OK    OK  UNNEEDED, same version exists in internal repository
Package 83/111HostnameOS / ArchINSTALLBUILDCHECKBUILD BIN
RareVariantVis 2.19.0  (landing page)
Tomasz Stokowy
Last Commit: fb97f69
Last Changed Date: 2020-10-27 11:05:46 -0400
nebbiolo1Linux (Ubuntu 20.04.2 LTS) / x86_64  OK    OK    OK  UNNEEDED, same version exists in internal repository
riesling1Windows Server 2019 Standard / x64  OK    OK    OK    OK  UNNEEDED, same version exists in internal repository
machv2macOS 10.14.6 Mojave / x86_64  OK    OK    OK    OK  UNNEEDED, same version exists in internal repository
Package 84/111HostnameOS / ArchINSTALLBUILDCHECKBUILD BIN
RCAS 1.17.0  (landing page)
Bora Uyar
Last Commit: 3cc9d41
Last Changed Date: 2021-03-04 05:38:14 -0400
nebbiolo1Linux (Ubuntu 20.04.2 LTS) / x86_64  OK    ERROR  skipped
riesling1Windows Server 2019 Standard / x64  OK    ERROR  skippedskipped
machv2macOS 10.14.6 Mojave / x86_64  OK    ERROR  skippedskipped
Package 85/111HostnameOS / ArchINSTALLBUILDCHECKBUILD BIN
rCGH 1.21.0  (landing page)
Frederic Commo
Last Commit: 695a53f
Last Changed Date: 2020-10-27 11:06:33 -0400
nebbiolo1Linux (Ubuntu 20.04.2 LTS) / x86_64  OK    OK    OK  UNNEEDED, same version exists in internal repository
riesling1Windows Server 2019 Standard / x64  OK    OK    OK    OK  UNNEEDED, same version exists in internal repository
machv2macOS 10.14.6 Mojave / x86_64  OK    OK    OK    OK  UNNEEDED, same version exists in internal repository
Package 86/111HostnameOS / ArchINSTALLBUILDCHECKBUILD BIN
recoup 1.19.14  (landing page)
Panagiotis Moulos
Last Commit: e46916b
Last Changed Date: 2020-12-31 00:52:18 -0400
nebbiolo1Linux (Ubuntu 20.04.2 LTS) / x86_64  OK    OK    OK  UNNEEDED, same version exists in internal repository
riesling1Windows Server 2019 Standard / x64  OK    OK    OK    OK  UNNEEDED, same version exists in internal repository
machv2macOS 10.14.6 Mojave / x86_64  OK    OK    OK    OK  UNNEEDED, same version exists in internal repository
Package 87/111HostnameOS / ArchINSTALLBUILDCHECKBUILD BIN
Rhisat2 1.7.0  (landing page)
Charlotte Soneson
Last Commit: 12dbbf5
Last Changed Date: 2020-10-27 11:41:46 -0400
nebbiolo1Linux (Ubuntu 20.04.2 LTS) / x86_64  OK    OK    WARNINGS  UNNEEDED, same version exists in internal repository
riesling1Windows Server 2019 Standard / x64  OK    OK    WARNINGS    OK  UNNEEDED, same version exists in internal repository
machv2macOS 10.14.6 Mojave / x86_64  OK    OK    OK    OK  UNNEEDED, same version exists in internal repository
Package 88/111HostnameOS / ArchINSTALLBUILDCHECKBUILD BIN
RiboDiPA 0.99.19  (landing page)
Ji-Ping Wang
Last Commit: 93b588a
Last Changed Date: 2020-12-20 07:14:43 -0400
nebbiolo1Linux (Ubuntu 20.04.2 LTS) / x86_64  OK    OK    OK  UNNEEDED, same version exists in internal repository
riesling1Windows Server 2019 Standard / x64  OK    OK    OK    OK  UNNEEDED, same version exists in internal repository
machv2macOS 10.14.6 Mojave / x86_64  OK    OK    OK    OK  UNNEEDED, same version exists in internal repository
Package 89/111HostnameOS / ArchINSTALLBUILDCHECKBUILD BIN
RiboProfiling 1.21.0  (landing page)
A. Popa
Last Commit: 616e6ad
Last Changed Date: 2020-10-27 11:09:02 -0400
nebbiolo1Linux (Ubuntu 20.04.2 LTS) / x86_64  OK    OK    WARNINGS  UNNEEDED, same version exists in internal repository
riesling1Windows Server 2019 Standard / x64  OK    OK    WARNINGS    OK  UNNEEDED, same version exists in internal repository
machv2macOS 10.14.6 Mojave / x86_64  OK    OK    WARNINGS    OK  UNNEEDED, same version exists in internal repository
Package 90/111HostnameOS / ArchINSTALLBUILDCHECKBUILD BIN
ribosomeProfilingQC 1.3.4  (landing page)
Jianhong Ou
Last Commit: 372fa95
Last Changed Date: 2021-04-16 11:28:55 -0400
nebbiolo1Linux (Ubuntu 20.04.2 LTS) / x86_64  OK    ERROR  skipped
riesling1Windows Server 2019 Standard / x64  OK    ERROR  skippedskipped
machv2macOS 10.14.6 Mojave / x86_64  OK    ERROR  skippedskipped
Package 91/111HostnameOS / ArchINSTALLBUILDCHECKBUILD BIN
RNAmodR 1.5.6  (landing page)
Felix G.M. Ernst
Last Commit: 27775eb
Last Changed Date: 2021-04-23 06:29:38 -0400
nebbiolo1Linux (Ubuntu 20.04.2 LTS) / x86_64  OK    OK    OK  UNNEEDED, same version exists in internal repository
riesling1Windows Server 2019 Standard / x64  OK    OK    OK    OK  UNNEEDED, same version exists in internal repository
machv2macOS 10.14.6 Mojave / x86_64  OK    OK    OK    OK  UNNEEDED, same version exists in internal repository
Package 92/111HostnameOS / ArchINSTALLBUILDCHECKBUILD BIN
RNAprobR 1.23.1  (landing page)
Nikos Sidiropoulos
Last Commit: e76313b
Last Changed Date: 2021-01-25 13:01:17 -0400
nebbiolo1Linux (Ubuntu 20.04.2 LTS) / x86_64  OK    OK    ERROR  
riesling1Windows Server 2019 Standard / x64  OK    OK    ERROR    OK  
machv2macOS 10.14.6 Mojave / x86_64  OK    OK    ERROR    OK  
Package 93/111HostnameOS / ArchINSTALLBUILDCHECKBUILD BIN
scruff 1.9.3  (landing page)
Zhe Wang
Last Commit: e3e5fc2
Last Changed Date: 2021-02-11 12:09:08 -0400
nebbiolo1Linux (Ubuntu 20.04.2 LTS) / x86_64  OK    OK    OK  UNNEEDED, same version exists in internal repository
riesling1Windows Server 2019 Standard / x64  OK    OK    OK    OK  UNNEEDED, same version exists in internal repository
machv2macOS 10.14.6 Mojave / x86_64  OK    OK    OK    OK  UNNEEDED, same version exists in internal repository
Package 94/111HostnameOS / ArchINSTALLBUILDCHECKBUILD BIN
SGSeq 1.25.0  (landing page)
Leonard Goldstein
Last Commit: ecc85e0
Last Changed Date: 2020-10-27 11:00:12 -0400
nebbiolo1Linux (Ubuntu 20.04.2 LTS) / x86_64  OK    ERROR  skipped
riesling1Windows Server 2019 Standard / x64  OK    ERROR  skippedskipped
machv2macOS 10.14.6 Mojave / x86_64  OK    ERROR  skippedskipped
Package 95/111HostnameOS / ArchINSTALLBUILDCHECKBUILD BIN
sitadela 0.99.81  (landing page)
Panagiotis Moulos
Last Commit: 2a866b1
Last Changed Date: 2021-04-13 11:31:22 -0400
nebbiolo1Linux (Ubuntu 20.04.2 LTS) / x86_64  OK    OK    OK  UNNEEDED, same version exists in internal repository
riesling1Windows Server 2019 Standard / x64  OK    OK    OK    OK  UNNEEDED, same version exists in internal repository
machv2macOS 10.14.6 Mojave / x86_64  OK    OK    OK    OK  UNNEEDED, same version exists in internal repository
Package 96/111HostnameOS / ArchINSTALLBUILDCHECKBUILD BIN
SplicingGraphs 1.31.1  (landing page)
H. Pagès
Last Commit: 5a2e94d
Last Changed Date: 2021-04-23 01:31:32 -0400
nebbiolo1Linux (Ubuntu 20.04.2 LTS) / x86_64  OK    OK    WARNINGS  UNNEEDED, same version exists in internal repository
riesling1Windows Server 2019 Standard / x64  OK    OK    WARNINGS    OK  UNNEEDED, same version exists in internal repository
machv2macOS 10.14.6 Mojave / x86_64  OK    OK    WARNINGS    OK  UNNEEDED, same version exists in internal repository
Package 97/111HostnameOS / ArchINSTALLBUILDCHECKBUILD BIN
SPLINTER 1.17.0  (landing page)
Diana Low
Last Commit: b821cd0
Last Changed Date: 2020-10-27 11:18:03 -0400
nebbiolo1Linux (Ubuntu 20.04.2 LTS) / x86_64  OK    ERROR  skipped
riesling1Windows Server 2019 Standard / x64  OK    OK    WARNINGS    OK  UNNEEDED, same version exists in internal repository
machv2macOS 10.14.6 Mojave / x86_64  OK    OK    OK    OK  UNNEEDED, same version exists in internal repository
Package 98/111HostnameOS / ArchINSTALLBUILDCHECKBUILD BIN
srnadiff 1.11.0  (landing page)
Zytnicki Matthias
Last Commit: a75c0fe
Last Changed Date: 2020-10-27 11:31:35 -0400
nebbiolo1Linux (Ubuntu 20.04.2 LTS) / x86_64  OK    OK    OK  UNNEEDED, same version exists in internal repository
riesling1Windows Server 2019 Standard / x64  OK    OK    OK    OK  UNNEEDED, same version exists in internal repository
machv2macOS 10.14.6 Mojave / x86_64  OK    OK    OK    OK  UNNEEDED, same version exists in internal repository
Package 99/111HostnameOS / ArchINSTALLBUILDCHECKBUILD BIN
systemPipeR 1.25.13  (landing page)
Thomas Girke
Last Commit: 2e97634
Last Changed Date: 2021-04-27 05:12:03 -0400
nebbiolo1Linux (Ubuntu 20.04.2 LTS) / x86_64  OK    OK    OK  UNNEEDED, same version exists in internal repository
riesling1Windows Server 2019 Standard / x64  OK    OK    OK    OK  UNNEEDED, same version exists in internal repository
machv2macOS 10.14.6 Mojave / x86_64  OK    OK    OK    OK  UNNEEDED, same version exists in internal repository
Package 100/111HostnameOS / ArchINSTALLBUILDCHECKBUILD BIN
TAPseq 1.3.1  (landing page)
Andreas Gschwind
Last Commit: a1cdb3a
Last Changed Date: 2021-05-01 20:33:13 -0400
nebbiolo1Linux (Ubuntu 20.04.2 LTS) / x86_64  OK    OK    WARNINGS  UNNEEDED, same version exists in internal repository
riesling1Windows Server 2019 Standard / x64  OK    OK    WARNINGS    OK  UNNEEDED, same version exists in internal repository
machv2macOS 10.14.6 Mojave / x86_64  OK    OK    WARNINGS    OK  UNNEEDED, same version exists in internal repository
Package 101/111HostnameOS / ArchINSTALLBUILDCHECKBUILD BIN
TCGAutils 1.11.12  (landing page)
Marcel Ramos
Last Commit: d9ce49d
Last Changed Date: 2021-04-20 15:10:55 -0400
nebbiolo1Linux (Ubuntu 20.04.2 LTS) / x86_64  OK    ERROR  skipped
riesling1Windows Server 2019 Standard / x64  OK    ERROR  skippedskipped
machv2macOS 10.14.6 Mojave / x86_64  OK    ERROR  skippedskipped
Package 102/111HostnameOS / ArchINSTALLBUILDCHECKBUILD BIN
TFEA.ChIP 1.11.1  (landing page)
Laura Puente Santamaría
Last Commit: c145576
Last Changed Date: 2021-02-01 03:28:03 -0400
nebbiolo1Linux (Ubuntu 20.04.2 LTS) / x86_64  OK    OK    OK  UNNEEDED, same version exists in internal repository
riesling1Windows Server 2019 Standard / x64  OK    OK    OK    OK  UNNEEDED, same version exists in internal repository
machv2macOS 10.14.6 Mojave / x86_64  OK    OK    OK    OK  UNNEEDED, same version exists in internal repository
Package 103/111HostnameOS / ArchINSTALLBUILDCHECKBUILD BIN
trackViewer 1.27.15  (landing page)
Jianhong Ou
Last Commit: 731be07
Last Changed Date: 2021-04-18 09:57:19 -0400
nebbiolo1Linux (Ubuntu 20.04.2 LTS) / x86_64  OK    ERROR  skipped
riesling1Windows Server 2019 Standard / x64  OK    ERROR  skippedskipped
machv2macOS 10.14.6 Mojave / x86_64  OK    ERROR  skippedskipped
Package 104/111HostnameOS / ArchINSTALLBUILDCHECKBUILD BIN
transcriptR 1.19.0  (landing page)
Armen R. Karapetyan
Last Commit: 361fd1a
Last Changed Date: 2020-10-27 11:10:00 -0400
nebbiolo1Linux (Ubuntu 20.04.2 LTS) / x86_64  OK    OK    OK  UNNEEDED, same version exists in internal repository
riesling1Windows Server 2019 Standard / x64  OK    OK    OK    OK  UNNEEDED, same version exists in internal repository
machv2macOS 10.14.6 Mojave / x86_64  OK    OK    OK    OK  UNNEEDED, same version exists in internal repository
Package 105/111HostnameOS / ArchINSTALLBUILDCHECKBUILD BIN
tximeta 1.9.9  (landing page)
Michael Love
Last Commit: 688acbe
Last Changed Date: 2021-05-02 10:05:47 -0400
nebbiolo1Linux (Ubuntu 20.04.2 LTS) / x86_64  OK    OK    OK  UNNEEDED, same version exists in internal repository
riesling1Windows Server 2019 Standard / x64  OK    OK    OK    OK  UNNEEDED, same version exists in internal repository
machv2macOS 10.14.6 Mojave / x86_64  OK    OK    OK    OK  UNNEEDED, same version exists in internal repository
Package 106/111HostnameOS / ArchINSTALLBUILDCHECKBUILD BIN
Ularcirc 1.9.0  (landing page)
David Humphreys
Last Commit: afcd3d1
Last Changed Date: 2020-10-27 11:36:06 -0400
nebbiolo1Linux (Ubuntu 20.04.2 LTS) / x86_64  OK    OK    OK  UNNEEDED, same version exists in internal repository
riesling1Windows Server 2019 Standard / x64  OK    OK    OK    OK  UNNEEDED, same version exists in internal repository
machv2macOS 10.14.6 Mojave / x86_64  OK    OK    OK    OK  UNNEEDED, same version exists in internal repository
Package 107/111HostnameOS / ArchINSTALLBUILDCHECKBUILD BIN
UMI4Cats 1.1.10  (landing page)
Mireia Ramos-Rodriguez
Last Commit: 92025ea
Last Changed Date: 2021-04-30 05:56:05 -0400
nebbiolo1Linux (Ubuntu 20.04.2 LTS) / x86_64  OK    OK    OK  UNNEEDED, same version exists in internal repository
riesling1Windows Server 2019 Standard / x64  OK    OK    OK    OK  UNNEEDED, same version exists in internal repository
machv2macOS 10.14.6 Mojave / x86_64  OK    OK    OK    OK  UNNEEDED, same version exists in internal repository
Package 108/111HostnameOS / ArchINSTALLBUILDCHECKBUILD BIN
VariantAnnotation 1.37.1  (landing page)
Bioconductor Package Maintainer
Last Commit: 54d2de6
Last Changed Date: 2020-12-11 20:59:51 -0400
nebbiolo1Linux (Ubuntu 20.04.2 LTS) / x86_64  OK    OK    ERROR  
riesling1Windows Server 2019 Standard / x64  OK    OK    ERROR    OK  
machv2macOS 10.14.6 Mojave / x86_64  OK    OK    ERROR    OK  
Package 109/111HostnameOS / ArchINSTALLBUILDCHECKBUILD BIN
VariantFiltering 1.27.2  (landing page)
Robert Castelo
Last Commit: 6cbbb99
Last Changed Date: 2021-02-09 06:21:51 -0400
nebbiolo1Linux (Ubuntu 20.04.2 LTS) / x86_64  OK    ERROR  skipped
riesling1Windows Server 2019 Standard / x64  OK    ERROR  skippedskipped
machv2macOS 10.14.6 Mojave / x86_64  OK    ERROR  skippedskipped
Package 110/111HostnameOS / ArchINSTALLBUILDCHECKBUILD BIN
VariantTools 1.33.0  (landing page)
Michael Lawrence
Last Commit: 48c74c5
Last Changed Date: 2020-10-27 10:47:52 -0400
nebbiolo1Linux (Ubuntu 20.04.2 LTS) / x86_64  OK    OK    WARNINGS  UNNEEDED, same version exists in internal repository
riesling1Windows Server 2019 Standard / x64  OK    OK    WARNINGS    OK  UNNEEDED, same version exists in internal repository
machv2macOS 10.14.6 Mojave / x86_64  OK    OK    WARNINGS    OK  UNNEEDED, same version exists in internal repository
Package 111/111HostnameOS / ArchINSTALLBUILDCHECKBUILD BIN
wavClusteR 2.25.0  (landing page)
Federico Comoglio
Last Commit: 4d370da
Last Changed Date: 2020-10-27 10:57:03 -0400
nebbiolo1Linux (Ubuntu 20.04.2 LTS) / x86_64  OK    OK    OK  UNNEEDED, same version exists in internal repository
riesling1Windows Server 2019 Standard / x64  OK    OK    OK    OK  UNNEEDED, same version exists in internal repository
machv2macOS 10.14.6 Mojave / x86_64  OK    OK    OK    OK  UNNEEDED, same version exists in internal repository