Back to Multiple platform build/check report for BioC 3.13
ABCDEF[G]HIJKLMNOPQRSTUVWXYZ

BUILD report for GeneAnswers on nebbiolo1

This page was generated on 2021-05-10 12:13:47 -0400 (Mon, 10 May 2021).

To the developers/maintainers of the GeneAnswers package:
Please make sure to use the following settings in order to reproduce any error or warning you see on this page.
Package 700/2016HostnameOS / ArchINSTALLBUILDCHECKBUILD BIN
GeneAnswers 2.33.0  (landing page)
Lei Huang and Gang Feng
Snapshot Date: 2021-05-09 14:50:05 -0400 (Sun, 09 May 2021)
URL: https://git.bioconductor.org/packages/GeneAnswers
Branch: master
Last Commit: 02ac664
Last Changed Date: 2021-03-01 21:20:41 -0400 (Mon, 01 Mar 2021)
nebbiolo1Linux (Ubuntu 20.04.2 LTS) / x86_64  OK    OK    ERROR  
riesling1Windows Server 2019 Standard / x64  OK    OK    ERROR    OK  
machv2macOS 10.14.6 Mojave / x86_64  OK    OK    ERROR    OK  

Summary

Package: GeneAnswers
Version: 2.33.0
Command: /home/biocbuild/bbs-3.13-bioc/R/bin/R CMD build --keep-empty-dirs --no-resave-data GeneAnswers
StartedAt: 2021-05-09 17:18:15 -0400 (Sun, 09 May 2021)
EndedAt: 2021-05-09 17:18:41 -0400 (Sun, 09 May 2021)
EllapsedTime: 26.4 seconds
RetCode: 0
Status:   OK  
PackageFile: GeneAnswers_2.33.0.tar.gz
PackageFileSize: 32.96 MiB

Command output

##############################################################################
##############################################################################
###
### Running command:
###
###   /home/biocbuild/bbs-3.13-bioc/R/bin/R CMD build --keep-empty-dirs --no-resave-data GeneAnswers
###
##############################################################################
##############################################################################


* checking for file ‘GeneAnswers/DESCRIPTION’ ... OK
* preparing ‘GeneAnswers’:
* checking DESCRIPTION meta-information ... OK
* installing the package to build vignettes
* creating vignettes ... OK
* checking for LF line-endings in source and make files and shell scripts
* checking for empty or unneeded directories
* looking to see if a ‘data/datalist’ file should be added
* building ‘GeneAnswers_2.33.0.tar.gz’