Back to Multiple platform build/check report for BioC 3.13
ABCDEF[G]HIJKLMNOPQRSTUVWXYZ

BUILD BIN report for GeneAnswers on machv2

This page was generated on 2021-05-10 12:14:36 -0400 (Mon, 10 May 2021).

To the developers/maintainers of the GeneAnswers package:
Please make sure to use the following settings in order to reproduce any error or warning you see on this page.
Package 700/2016HostnameOS / ArchINSTALLBUILDCHECKBUILD BIN
GeneAnswers 2.33.0  (landing page)
Lei Huang and Gang Feng
Snapshot Date: 2021-05-09 14:50:05 -0400 (Sun, 09 May 2021)
URL: https://git.bioconductor.org/packages/GeneAnswers
Branch: master
Last Commit: 02ac664
Last Changed Date: 2021-03-01 21:20:41 -0400 (Mon, 01 Mar 2021)
nebbiolo1Linux (Ubuntu 20.04.2 LTS) / x86_64  OK    OK    ERROR  
riesling1Windows Server 2019 Standard / x64  OK    OK    ERROR    OK  
machv2macOS 10.14.6 Mojave / x86_64  OK    OK    ERROR    OK  

Summary

Package: GeneAnswers
Version: 2.33.0
Command: rm -rf GeneAnswers.buildbin-libdir && mkdir GeneAnswers.buildbin-libdir && /Users/biocbuild/BBS/utils/build-universal.sh GeneAnswers_2.33.0.tar.gz /Library/Frameworks/R.framework/Versions/Current/Resources/bin/R GeneAnswers.buildbin-libdir
StartedAt: 2021-05-10 09:25:41 -0400 (Mon, 10 May 2021)
EndedAt: 2021-05-10 09:26:20 -0400 (Mon, 10 May 2021)
EllapsedTime: 39.4 seconds
RetCode: 0
Status:   OK  
PackageFile: GeneAnswers_2.33.0.tgz
PackageFileSize: 32.29 MiB

Command output

##############################################################################
##############################################################################
###
### Running command:
###
###   rm -rf GeneAnswers.buildbin-libdir && mkdir GeneAnswers.buildbin-libdir && /Users/biocbuild/BBS/utils/build-universal.sh GeneAnswers_2.33.0.tar.gz /Library/Frameworks/R.framework/Versions/Current/Resources/bin/R GeneAnswers.buildbin-libdir
###
##############################################################################
##############################################################################


>>>>>>> 
>>>>>>> INSTALLATION WITH 'R CMD INSTALL --preclean --no-multiarch --library=GeneAnswers.buildbin-libdir GeneAnswers_2.33.0.tar.gz'
>>>>>>> 

* installing *source* package ‘GeneAnswers’ ...
** using staged installation
** R
** data
** inst
** byte-compile and prepare package for lazy loading
Warning: replacing previous import ‘stats::decompose’ by ‘igraph::decompose’ when loading ‘GeneAnswers’
Warning: replacing previous import ‘stats::spectrum’ by ‘igraph::spectrum’ when loading ‘GeneAnswers’
** help
*** installing help indices
** building package indices
** installing vignettes
** testing if installed package can be loaded from temporary location
Warning: replacing previous import ‘stats::decompose’ by ‘igraph::decompose’ when loading ‘GeneAnswers’
Warning: replacing previous import ‘stats::spectrum’ by ‘igraph::spectrum’ when loading ‘GeneAnswers’
** testing if installed package can be loaded from final location
Warning: replacing previous import ‘stats::decompose’ by ‘igraph::decompose’ when loading ‘GeneAnswers’
Warning: replacing previous import ‘stats::spectrum’ by ‘igraph::spectrum’ when loading ‘GeneAnswers’
** testing if installed package keeps a record of temporary installation path
* DONE (GeneAnswers)