Back to Multiple platform build/check report for BioC 3.13
ABCDEF[G]HIJKLMNOPQRSTUVWXYZ

Multiple platform build/check report for BioC 3.13

All results for package GeneAnswers

This page was generated on 2021-05-10 12:13:23 -0400 (Mon, 10 May 2021).

Package 700/2016HostnameOS / ArchINSTALLBUILDCHECKBUILD BIN
GeneAnswers 2.33.0  (landing page)
Lei Huang and Gang Feng
Snapshot Date: 2021-05-09 14:50:05 -0400 (Sun, 09 May 2021)
URL: https://git.bioconductor.org/packages/GeneAnswers
Branch: master
Last Commit: 02ac664
Last Changed Date: 2021-03-01 21:20:41 -0400 (Mon, 01 Mar 2021)
nebbiolo1Linux (Ubuntu 20.04.2 LTS) / x86_64  OK    OK    ERROR  
riesling1Windows Server 2019 Standard / x64  OK    OK    ERROR    OK  
machv2macOS 10.14.6 Mojave / x86_64  OK    OK    ERROR    OK