Back to Multiple platform build/check report for BioC 3.13
ABCDEF[G]HIJKLMNOPQRSTUVWXYZ

BUILD results for GRridge on machv2

This page was generated on 2021-06-11 14:06:35 -0400 (Fri, 11 Jun 2021).

Package 814/2041HostnameOS / ArchINSTALLBUILDCHECKBUILD BIN
GRridge 1.16.0  (landing page)
Mark A. van de Wiel
Snapshot Date: 2021-06-10 06:50:12 -0400 (Thu, 10 Jun 2021)
URL: https://git.bioconductor.org/packages/GRridge
Branch: RELEASE_3_13
Last Commit: 45dab71
Last Changed Date: 2021-05-19 12:24:38 -0400 (Wed, 19 May 2021)
nebbiolo1Linux (Ubuntu 20.04.2 LTS) / x86_64  OK    OK    WARNINGS  UNNEEDED, same version is already published
tokay2Windows Server 2012 R2 Standard / x64  OK    OK    WARNINGS    OK  UNNEEDED, same version is already published
machv2macOS 10.14.6 Mojave / x86_64  OK    OK    WARNINGS    OK  UNNEEDED, same version is already published
To the developers/maintainers of the GRridge package:
- Please allow up to 24 hours (and sometimes 48 hours) for your latest push to git@git.bioconductor.org:packages/GRridge.git to
reflect on this report. See How and When does the builder pull? When will my changes propagate? here for more information.
- Make sure to use the following settings in order to reproduce any error or warning you see on this page.

Summary

Package: GRridge
Version: 1.16.0
Command: /Library/Frameworks/R.framework/Versions/Current/Resources/bin/R CMD build --keep-empty-dirs --no-resave-data GRridge
StartedAt: 2021-06-10 12:11:27 -0400 (Thu, 10 Jun 2021)
EndedAt: 2021-06-10 12:11:52 -0400 (Thu, 10 Jun 2021)
EllapsedTime: 24.6 seconds
RetCode: 0
Status:   OK  
PackageFile: GRridge_1.16.0.tar.gz
PackageFileSize: 8.91 MiB

Command output

##############################################################################
##############################################################################
###
### Running command:
###
###   /Library/Frameworks/R.framework/Versions/Current/Resources/bin/R CMD build --keep-empty-dirs --no-resave-data GRridge
###
##############################################################################
##############################################################################


* checking for file ‘GRridge/DESCRIPTION’ ... OK
* preparing ‘GRridge’:
* checking DESCRIPTION meta-information ... OK
* installing the package to build vignettes
* creating vignettes ... OK
* checking for LF line-endings in source and make files and shell scripts
* checking for empty or unneeded directories
* looking to see if a ‘data/datalist’ file should be added
* building ‘GRridge_1.16.0.tar.gz’