Back to Multiple platform build/check report for BioC 3.13
ABCDEF[G]HIJKLMNOPQRSTUVWXYZ

This page was generated on 2021-08-04 15:05:40 -0400 (Wed, 04 Aug 2021).

INSTALL results for GOstats on tokay2

To the developers/maintainers of the GOstats package:
- Please allow up to 24 hours (and sometimes 48 hours) for your latest push to git@git.bioconductor.org:packages/GOstats.git to
reflect on this report. See How and When does the builder pull? When will my changes propagate? here for more information.
- Make sure to use the following settings in order to reproduce any error or warning you see on this page.

raw results

Package 793/2041HostnameOS / ArchINSTALLBUILDCHECKBUILD BIN
GOstats 2.58.0  (landing page)
Bioconductor Package Maintainer
Snapshot Date: 2021-08-03 04:50:12 -0400 (Tue, 03 Aug 2021)
URL: https://git.bioconductor.org/packages/GOstats
Branch: RELEASE_3_13
Last Commit: d3406a6
Last Changed Date: 2021-05-19 11:34:28 -0400 (Wed, 19 May 2021)
nebbiolo1Linux (Ubuntu 20.04.2 LTS) / x86_64  OK    OK    OK  UNNEEDED, same version is already published
tokay2Windows Server 2012 R2 Standard / x64  OK    OK    OK    OK  UNNEEDED, same version is already published
machv2macOS 10.14.6 Mojave / x86_64  OK    OK    OK    OK  UNNEEDED, same version is already published

Summary

Package: GOstats
Version: 2.58.0
Command: C:\cygwin\bin\curl.exe -O http://155.52.207.165/BBS/3.13/bioc/src/contrib/GOstats_2.58.0.tar.gz && rm -rf GOstats.buildbin-libdir && mkdir GOstats.buildbin-libdir && C:\Users\biocbuild\bbs-3.13-bioc\R\bin\R.exe CMD INSTALL --merge-multiarch --build --library=GOstats.buildbin-libdir GOstats_2.58.0.tar.gz && C:\Users\biocbuild\bbs-3.13-bioc\R\bin\R.exe CMD INSTALL GOstats_2.58.0.zip && rm GOstats_2.58.0.tar.gz GOstats_2.58.0.zip
StartedAt: 2021-08-03 09:44:59 -0400 (Tue, 03 Aug 2021)
EndedAt: 2021-08-03 09:45:58 -0400 (Tue, 03 Aug 2021)
EllapsedTime: 59.0 seconds
RetCode: 0
Status:   OK  

Command output

##############################################################################
##############################################################################
###
### Running command:
###
###   C:\cygwin\bin\curl.exe -O http://155.52.207.165/BBS/3.13/bioc/src/contrib/GOstats_2.58.0.tar.gz && rm -rf GOstats.buildbin-libdir && mkdir GOstats.buildbin-libdir && C:\Users\biocbuild\bbs-3.13-bioc\R\bin\R.exe CMD INSTALL --merge-multiarch --build --library=GOstats.buildbin-libdir GOstats_2.58.0.tar.gz && C:\Users\biocbuild\bbs-3.13-bioc\R\bin\R.exe CMD INSTALL GOstats_2.58.0.zip && rm GOstats_2.58.0.tar.gz GOstats_2.58.0.zip
###
##############################################################################
##############################################################################


  % Total    % Received % Xferd  Average Speed   Time    Time     Time  Current
                                 Dload  Upload   Total   Spent    Left  Speed

  0     0    0     0    0     0      0      0 --:--:-- --:--:-- --:--:--     0
 67 1570k   67 1066k    0     0  2031k      0 --:--:-- --:--:-- --:--:-- 2031k
100 1570k  100 1570k    0     0  2352k      0 --:--:-- --:--:-- --:--:-- 2353k

install for i386

* installing *source* package 'GOstats' ...
** using staged installation
** R
** data
** inst
** byte-compile and prepare package for lazy loading
** help
*** installing help indices
  converting help for package 'GOstats'
    finding HTML links ... done
    GOHyperGResult-class                    html  
    GOstats-defunct                         html  
    GOstats-package                         html  
    Ndists                                  html  
    OBOHyperGResult-class                   html  
    compCorrGraph                           html  
    compGdist                               html  
    hyperGTest                              html  
    idx2dimnames                            html  
    makeGOGraph                             html  
    notConn                                 html  
    oneGOGraph                              html  
    probeSetSummary                         html  
    shortestPath                            html  
    simLL                                   html  
    termGraphs                              html  
    triadCensus                             html  
** building package indices
** installing vignettes
** testing if installed package can be loaded from temporary location
** testing if installed package can be loaded from final location
** testing if installed package keeps a record of temporary installation path

install for x64

* installing *source* package 'GOstats' ...
** testing if installed package can be loaded
* MD5 sums
packaged installation of 'GOstats' as GOstats_2.58.0.zip
* DONE (GOstats)
* installing to library 'C:/Users/biocbuild/bbs-3.13-bioc/R/library'
package 'GOstats' successfully unpacked and MD5 sums checked