Back to Multiple platform build/check report for BioC 3.13
ABCDEF[G]HIJKLMNOPQRSTUVWXYZ

This page was generated on 2021-06-18 14:06:45 -0400 (Fri, 18 Jun 2021).

INSTALL results for GOstats on machv2

To the developers/maintainers of the GOstats package:
- Please allow up to 24 hours (and sometimes 48 hours) for your latest push to git@git.bioconductor.org:packages/GOstats.git to
reflect on this report. See How and When does the builder pull? When will my changes propagate? here for more information.
- Make sure to use the following settings in order to reproduce any error or warning you see on this page.

raw results

Package 793/2041HostnameOS / ArchINSTALLBUILDCHECKBUILD BIN
GOstats 2.58.0  (landing page)
Bioconductor Package Maintainer
Snapshot Date: 2021-06-17 06:50:12 -0400 (Thu, 17 Jun 2021)
URL: https://git.bioconductor.org/packages/GOstats
Branch: RELEASE_3_13
Last Commit: d3406a6
Last Changed Date: 2021-05-19 11:34:28 -0400 (Wed, 19 May 2021)
nebbiolo1Linux (Ubuntu 20.04.2 LTS) / x86_64  OK    OK    OK  UNNEEDED, same version is already published
tokay2Windows Server 2012 R2 Standard / x64  OK    OK    OK    OK  UNNEEDED, same version is already published
machv2macOS 10.14.6 Mojave / x86_64  OK    OK    OK    OK  UNNEEDED, same version is already published

Summary

Package: GOstats
Version: 2.58.0
Command: /Library/Frameworks/R.framework/Versions/Current/Resources/bin/R CMD INSTALL GOstats
StartedAt: 2021-06-17 09:12:39 -0400 (Thu, 17 Jun 2021)
EndedAt: 2021-06-17 09:13:16 -0400 (Thu, 17 Jun 2021)
EllapsedTime: 37.6 seconds
RetCode: 0
Status:   OK  

Command output

##############################################################################
##############################################################################
###
### Running command:
###
###   /Library/Frameworks/R.framework/Versions/Current/Resources/bin/R CMD INSTALL GOstats
###
##############################################################################
##############################################################################


* installing to library ‘/Library/Frameworks/R.framework/Versions/4.1/Resources/library’
* installing *source* package ‘GOstats’ ...
** using staged installation
** R
** data
** inst
** byte-compile and prepare package for lazy loading
** help
*** installing help indices
** building package indices
** installing vignettes
** testing if installed package can be loaded from temporary location
** testing if installed package can be loaded from final location
** testing if installed package keeps a record of temporary installation path
* DONE (GOstats)