Back to Multiple platform build/check report for BioC 3.13
ABCDEF[G]HIJKLMNOPQRSTUVWXYZ

This page was generated on 2021-06-21 14:04:53 -0400 (Mon, 21 Jun 2021).

BUILD results for GOSim on nebbiolo1

To the developers/maintainers of the GOSim package:
- Please allow up to 24 hours (and sometimes 48 hours) for your latest push to git@git.bioconductor.org:packages/GOSim.git to
reflect on this report. See How and When does the builder pull? When will my changes propagate? here for more information.
- Make sure to use the following settings in order to reproduce any error or warning you see on this page.

raw results

Package 791/2041HostnameOS / ArchINSTALLBUILDCHECKBUILD BIN
GOSim 1.30.0  (landing page)
Holger Froehlich
Snapshot Date: 2021-06-20 06:50:09 -0400 (Sun, 20 Jun 2021)
URL: https://git.bioconductor.org/packages/GOSim
Branch: RELEASE_3_13
Last Commit: cd2c2c0
Last Changed Date: 2021-05-19 12:00:43 -0400 (Wed, 19 May 2021)
nebbiolo1Linux (Ubuntu 20.04.2 LTS) / x86_64  OK    OK    OK  UNNEEDED, same version is already published
tokay2Windows Server 2012 R2 Standard / x64  OK    OK    OK    OK  UNNEEDED, same version is already published
machv2macOS 10.14.6 Mojave / x86_64  OK    OK    OK    OK  UNNEEDED, same version is already published

Summary

Package: GOSim
Version: 1.30.0
Command: /home/biocbuild/bbs-3.13-bioc/R/bin/R CMD build --keep-empty-dirs --no-resave-data GOSim
StartedAt: 2021-06-20 09:27:17 -0400 (Sun, 20 Jun 2021)
EndedAt: 2021-06-20 09:28:22 -0400 (Sun, 20 Jun 2021)
EllapsedTime: 65.2 seconds
RetCode: 0
Status:   OK  
PackageFile: GOSim_1.30.0.tar.gz
PackageFileSize: 428.6 KiB

Command output

##############################################################################
##############################################################################
###
### Running command:
###
###   /home/biocbuild/bbs-3.13-bioc/R/bin/R CMD build --keep-empty-dirs --no-resave-data GOSim
###
##############################################################################
##############################################################################


* checking for file ‘GOSim/DESCRIPTION’ ... OK
* preparing ‘GOSim’:
* checking DESCRIPTION meta-information ... OK
* cleaning src
* installing the package to build vignettes
* creating vignettes ... OK
* cleaning src
* checking for LF line-endings in source and make files and shell scripts
* checking for empty or unneeded directories
* looking to see if a ‘data/datalist’ file should be added
* building ‘GOSim_1.30.0.tar.gz’