Back to Multiple platform build/check report for BioC 3.13
ABCDE[F]GHIJKLMNOPQRSTUVWXYZ

This page was generated on 2021-06-18 14:06:43 -0400 (Fri, 18 Jun 2021).

BUILD BIN results for FoldGO on machv2

To the developers/maintainers of the FoldGO package:
- Please allow up to 24 hours (and sometimes 48 hours) for your latest push to git@git.bioconductor.org:packages/FoldGO.git to
reflect on this report. See How and When does the builder pull? When will my changes propagate? here for more information.
- Make sure to use the following settings in order to reproduce any error or warning you see on this page.

raw results

Package 673/2041HostnameOS / ArchINSTALLBUILDCHECKBUILD BIN
FoldGO 1.10.0  (landing page)
Daniil Wiebe
Snapshot Date: 2021-06-17 06:50:12 -0400 (Thu, 17 Jun 2021)
URL: https://git.bioconductor.org/packages/FoldGO
Branch: RELEASE_3_13
Last Commit: defd37f
Last Changed Date: 2021-05-19 12:37:57 -0400 (Wed, 19 May 2021)
nebbiolo1Linux (Ubuntu 20.04.2 LTS) / x86_64  OK    OK    OK  UNNEEDED, same version is already published
tokay2Windows Server 2012 R2 Standard / x64  OK    OK    OK    OK  UNNEEDED, same version is already published
machv2macOS 10.14.6 Mojave / x86_64  OK    OK    OK    OK  UNNEEDED, same version is already published

Summary

Package: FoldGO
Version: 1.10.0
Command: rm -rf FoldGO.buildbin-libdir && mkdir FoldGO.buildbin-libdir && /Users/biocbuild/BBS/utils/build-universal.sh FoldGO_1.10.0.tar.gz /Library/Frameworks/R.framework/Versions/Current/Resources/bin/R FoldGO.buildbin-libdir
StartedAt: 2021-06-18 02:04:46 -0400 (Fri, 18 Jun 2021)
EndedAt: 2021-06-18 02:05:36 -0400 (Fri, 18 Jun 2021)
EllapsedTime: 50.5 seconds
RetCode: 0
Status:   OK  
PackageFile: FoldGO_1.10.0.tgz
PackageFileSize: 1.267 MiB

Command output

##############################################################################
##############################################################################
###
### Running command:
###
###   rm -rf FoldGO.buildbin-libdir && mkdir FoldGO.buildbin-libdir && /Users/biocbuild/BBS/utils/build-universal.sh FoldGO_1.10.0.tar.gz /Library/Frameworks/R.framework/Versions/Current/Resources/bin/R FoldGO.buildbin-libdir
###
##############################################################################
##############################################################################


>>>>>>> 
>>>>>>> INSTALLATION WITH 'R CMD INSTALL --preclean --no-multiarch --library=FoldGO.buildbin-libdir FoldGO_1.10.0.tar.gz'
>>>>>>> 

* installing *source* package ‘FoldGO’ ...
** using staged installation
** R
** data
*** moving datasets to lazyload DB

** inst
** byte-compile and prepare package for lazy loading
in method for ‘getAnnotation’ with signature ‘"MgsaSets"’: no definition for class “MgsaSets”
** help
*** installing help indices
** building package indices
** installing vignettes
** testing if installed package can be loaded from temporary location
** testing if installed package can be loaded from final location
** testing if installed package keeps a record of temporary installation path
* DONE (FoldGO)