Back to Multiple platform build/check report for BioC 3.13
ABCD[E]FGHIJKLMNOPQRSTUVWXYZ

This page was generated on 2021-08-04 15:05:38 -0400 (Wed, 04 Aug 2021).

BUILD results for EnrichmentBrowser on tokay2

To the developers/maintainers of the EnrichmentBrowser package:
- Please allow up to 24 hours (and sometimes 48 hours) for your latest push to git@git.bioconductor.org:packages/EnrichmentBrowser.git to
reflect on this report. See How and When does the builder pull? When will my changes propagate? here for more information.
- Make sure to use the following settings in order to reproduce any error or warning you see on this page.

raw results

Package 573/2041HostnameOS / ArchINSTALLBUILDCHECKBUILD BIN
EnrichmentBrowser 2.22.2  (landing page)
Ludwig Geistlinger
Snapshot Date: 2021-08-03 04:50:12 -0400 (Tue, 03 Aug 2021)
URL: https://git.bioconductor.org/packages/EnrichmentBrowser
Branch: RELEASE_3_13
Last Commit: e3ba414
Last Changed Date: 2021-07-21 08:44:59 -0400 (Wed, 21 Jul 2021)
nebbiolo1Linux (Ubuntu 20.04.2 LTS) / x86_64  OK    OK    OK  UNNEEDED, same version is already published
tokay2Windows Server 2012 R2 Standard / x64  OK    OK    OK    OK  UNNEEDED, same version is already published
machv2macOS 10.14.6 Mojave / x86_64  OK    OK    OK    OK  UNNEEDED, same version is already published

Summary

Package: EnrichmentBrowser
Version: 2.22.2
Command: chmod a+r EnrichmentBrowser -R && C:\Users\biocbuild\bbs-3.13-bioc\R\bin\R.exe CMD build --keep-empty-dirs --no-resave-data EnrichmentBrowser
StartedAt: 2021-08-03 14:05:08 -0400 (Tue, 03 Aug 2021)
EndedAt: 2021-08-03 14:10:43 -0400 (Tue, 03 Aug 2021)
EllapsedTime: 335.7 seconds
RetCode: 0
Status:   OK  
PackageFile: EnrichmentBrowser_2.22.2.tar.gz
PackageFileSize: 1.914 MiB

Command output

##############################################################################
##############################################################################
###
### Running command:
###
###   chmod a+r EnrichmentBrowser -R && C:\Users\biocbuild\bbs-3.13-bioc\R\bin\R.exe CMD build --keep-empty-dirs --no-resave-data EnrichmentBrowser
###
##############################################################################
##############################################################################


* checking for file 'EnrichmentBrowser/DESCRIPTION' ... OK
* preparing 'EnrichmentBrowser':
* checking DESCRIPTION meta-information ... OK
* installing the package to build vignettes
* creating vignettes ... OK
* checking for LF line-endings in source and make files and shell scripts
* checking for empty or unneeded directories
* building 'EnrichmentBrowser_2.22.2.tar.gz'