Back to Multiple platform build/check report for BioC 3.13
ABCD[E]FGHIJKLMNOPQRSTUVWXYZ

This page was generated on 2021-08-04 15:05:38 -0400 (Wed, 04 Aug 2021).

BUILD BIN results for EnrichmentBrowser on tokay2

To the developers/maintainers of the EnrichmentBrowser package:
- Please allow up to 24 hours (and sometimes 48 hours) for your latest push to git@git.bioconductor.org:packages/EnrichmentBrowser.git to
reflect on this report. See How and When does the builder pull? When will my changes propagate? here for more information.
- Make sure to use the following settings in order to reproduce any error or warning you see on this page.

raw results

Package 573/2041HostnameOS / ArchINSTALLBUILDCHECKBUILD BIN
EnrichmentBrowser 2.22.2  (landing page)
Ludwig Geistlinger
Snapshot Date: 2021-08-03 04:50:12 -0400 (Tue, 03 Aug 2021)
URL: https://git.bioconductor.org/packages/EnrichmentBrowser
Branch: RELEASE_3_13
Last Commit: e3ba414
Last Changed Date: 2021-07-21 08:44:59 -0400 (Wed, 21 Jul 2021)
nebbiolo1Linux (Ubuntu 20.04.2 LTS) / x86_64  OK    OK    OK  UNNEEDED, same version is already published
tokay2Windows Server 2012 R2 Standard / x64  OK    OK    OK    OK  UNNEEDED, same version is already published
machv2macOS 10.14.6 Mojave / x86_64  OK    OK    OK    OK  UNNEEDED, same version is already published

Summary

Package: EnrichmentBrowser
Version: 2.22.2
Command: rm -rf EnrichmentBrowser.buildbin-libdir && mkdir EnrichmentBrowser.buildbin-libdir && C:\Users\biocbuild\bbs-3.13-bioc\R\bin\R.exe CMD INSTALL --merge-multiarch --build --library=EnrichmentBrowser.buildbin-libdir EnrichmentBrowser_2.22.2.tar.gz
StartedAt: 2021-08-04 09:24:18 -0400 (Wed, 04 Aug 2021)
EndedAt: 2021-08-04 09:25:23 -0400 (Wed, 04 Aug 2021)
EllapsedTime: 64.8 seconds
RetCode: 0
Status:   OK  
PackageFile: EnrichmentBrowser_2.22.2.zip
PackageFileSize: 2.181 MiB

Command output

##############################################################################
##############################################################################
###
### Running command:
###
###   rm -rf EnrichmentBrowser.buildbin-libdir && mkdir EnrichmentBrowser.buildbin-libdir && C:\Users\biocbuild\bbs-3.13-bioc\R\bin\R.exe CMD INSTALL --merge-multiarch --build --library=EnrichmentBrowser.buildbin-libdir EnrichmentBrowser_2.22.2.tar.gz
###
##############################################################################
##############################################################################



install for i386

* installing *source* package 'EnrichmentBrowser' ...
** using staged installation
** R
** inst
** byte-compile and prepare package for lazy loading
** help
*** installing help indices
  converting help for package 'EnrichmentBrowser'
    finding HTML links ... done
    combResults                             html  
    compileGRN                              html  
    finding level-2 HTML links ... done

    configEBrowser                          html  
    deAna                                   html  
    downloadPathways                        html  
    eaBrowse                                html  
    ebrowser                                html  
    export                                  html  
    getGenesets                             html  
    ggeaGraph                               html  
    idMap                                   html  
    import                                  html  
    isAvailable                             html  
    makeExampleData                         html  
    nbea                                    html  
    normalize                               html  
    plots                                   html  
    probe2gene                              html  
    readSE                                  html  
    sbea                                    html  
** building package indices
** installing vignettes
** testing if installed package can be loaded from temporary location
** testing if installed package can be loaded from final location
** testing if installed package keeps a record of temporary installation path

install for x64

* installing *source* package 'EnrichmentBrowser' ...
** testing if installed package can be loaded
* MD5 sums
packaged installation of 'EnrichmentBrowser' as EnrichmentBrowser_2.22.2.zip
* DONE (EnrichmentBrowser)