Back to Multiple platform build/check report for BioC 3.13
ABCD[E]FGHIJKLMNOPQRSTUVWXYZ

All results for package EnrichmentBrowser

This page was generated on 2021-06-14 14:04:24 -0400 (Mon, 14 Jun 2021).

Package 573/2041HostnameOS / ArchINSTALLBUILDCHECKBUILD BIN
EnrichmentBrowser 2.22.0  (landing page)
Ludwig Geistlinger
Snapshot Date: 2021-06-13 06:50:09 -0400 (Sun, 13 Jun 2021)
URL: https://git.bioconductor.org/packages/EnrichmentBrowser
Branch: RELEASE_3_13
Last Commit: bbf442e
Last Changed Date: 2021-05-19 12:07:36 -0400 (Wed, 19 May 2021)
nebbiolo1Linux (Ubuntu 20.04.2 LTS) / x86_64  OK    OK    OK  UNNEEDED, same version is already published
tokay2Windows Server 2012 R2 Standard / x64  OK    OK    OK    OK  UNNEEDED, same version is already published
machv2macOS 10.14.6 Mojave / x86_64  OK    OK    OK    OK  UNNEEDED, same version is already published

Results for Bioconductor software packages that depend directly on package EnrichmentBrowser

QUICK STATSOS / ArchINSTALLBUILDCHECKBUILD BIN
nebbiolo1Linux (Ubuntu 20.04.2 LTS) / x86_64
001
001
0001
tokay2Windows Server 2012 R2 Standard / x64
001
001
0100
001
machv2macOS 10.14.6 Mojave / x86_64
001
001
0100
001
Package 1/1HostnameOS / ArchINSTALLBUILDCHECKBUILD BIN
GSEABenchmarkeR 1.12.0  (landing page)
Ludwig Geistlinger
Last Commit: c2b5c21
Last Changed Date: 2021-05-19 12:34:22 -0400
nebbiolo1Linux (Ubuntu 20.04.2 LTS) / x86_64  OK    OK    OK  UNNEEDED, same version is already published
tokay2Windows Server 2012 R2 Standard / x64  OK    OK    ERROR    OK  
machv2macOS 10.14.6 Mojave / x86_64  OK    OK    ERROR    OK