Back to Multiple platform build/check report for BioC 3.13
ABC[D]EFGHIJKLMNOPQRSTUVWXYZ

This page was generated on 2021-07-30 15:05:51 -0400 (Fri, 30 Jul 2021).

BUILD BIN results for DOSE on tokay2

To the developers/maintainers of the DOSE package:
- Please allow up to 24 hours (and sometimes 48 hours) for your latest push to git@git.bioconductor.org:packages/DOSE.git to
reflect on this report. See How and When does the builder pull? When will my changes propagate? here for more information.
- Make sure to use the following settings in order to reproduce any error or warning you see on this page.

raw results

Package 528/2041HostnameOS / ArchINSTALLBUILDCHECKBUILD BIN
DOSE 3.18.1  (landing page)
Guangchuang Yu
Snapshot Date: 2021-07-29 04:50:02 -0400 (Thu, 29 Jul 2021)
URL: https://git.bioconductor.org/packages/DOSE
Branch: RELEASE_3_13
Last Commit: c971ee2
Last Changed Date: 2021-06-20 22:17:47 -0400 (Sun, 20 Jun 2021)
nebbiolo1Linux (Ubuntu 20.04.2 LTS) / x86_64  OK    OK    OK  UNNEEDED, same version is already published
tokay2Windows Server 2012 R2 Standard / x64  OK    OK    OK    OK  UNNEEDED, same version is already published
machv2macOS 10.14.6 Mojave / x86_64  OK    OK    OK    OK  UNNEEDED, same version is already published

Summary

Package: DOSE
Version: 3.18.1
Command: rm -rf DOSE.buildbin-libdir && mkdir DOSE.buildbin-libdir && C:\Users\biocbuild\bbs-3.13-bioc\R\bin\R.exe CMD INSTALL --merge-multiarch --build --library=DOSE.buildbin-libdir DOSE_3.18.1.tar.gz
StartedAt: 2021-07-30 09:15:02 -0400 (Fri, 30 Jul 2021)
EndedAt: 2021-07-30 09:15:46 -0400 (Fri, 30 Jul 2021)
EllapsedTime: 44.2 seconds
RetCode: 0
Status:   OK  
PackageFile: DOSE_3.18.1.zip
PackageFileSize: 6.425 MiB

Command output

##############################################################################
##############################################################################
###
### Running command:
###
###   rm -rf DOSE.buildbin-libdir && mkdir DOSE.buildbin-libdir && C:\Users\biocbuild\bbs-3.13-bioc\R\bin\R.exe CMD INSTALL --merge-multiarch --build --library=DOSE.buildbin-libdir DOSE_3.18.1.tar.gz
###
##############################################################################
##############################################################################



install for i386

* installing *source* package 'DOSE' ...
** using staged installation
** R
** data
** inst
** byte-compile and prepare package for lazy loading
** help
*** installing help indices
  converting help for package 'DOSE'
    finding HTML links ... done
    DOSE-package                            html  
    DataSet                                 html  
    EXTID2NAME                              html  
    GSEA_internal                           html  
    clusterSim                              html  
    compareClusterResult-class              html  
    computeIC                               html  
    doSim                                   html  
    enrichDGN                               html  
    enrichDGNv                              html  
    enrichDO                                html  
    enrichNCG                               html  
    enrichResult-class                      html  
    enricher_internal                       html  
    gene2DO                                 html  
    geneID                                  html  
    geneInCategory                          html  
    geneSim                                 html  
    gseDGN                                  html  
    gseDO                                   html  
    gseNCG                                  html  
    gseaResult-class                        html  
    gsfilter                                html  
    mclusterSim                             html  
    parse_ratio                             html  
    rebuildAnnoData                         html  
    reexports                               html  
    setReadable                             html  
    show-methods                            html  
    simplot                                 html  
    summary-methods                         html  
    theme_dose                              html  
** building package indices
** installing vignettes
** testing if installed package can be loaded from temporary location
** testing if installed package can be loaded from final location
** testing if installed package keeps a record of temporary installation path

install for x64

* installing *source* package 'DOSE' ...
** testing if installed package can be loaded
* MD5 sums
packaged installation of 'DOSE' as DOSE_3.18.1.zip
* DONE (DOSE)