Index of /checkResults/3.13/bioc-LATEST/DOSE/raw-results/tokay2

[ICO]NameLast modifiedSizeDescription

[DIR]Parent Directory  -  
[TXT]buildbin-out.txt23-Sep-2021 04:05 2.9K 
[   ]buildbin-summary.dcf23-Sep-2021 04:05 521  
[TXT]buildsrc-out.txt23-Sep-2021 04:05 890  
[   ]buildsrc-summary.dcf23-Sep-2021 04:05 445  
[TXT]checksrc-out.txt23-Sep-2021 04:05 3.9K 
[   ]checksrc-summary.dcf23-Sep-2021 04:05 450  
[TXT]install-out.txt23-Sep-2021 04:05 3.8K 
[   ]install-summary.dcf23-Sep-2021 04:05 614