Index of /checkResults/3.13/bioc-LATEST/DOSE/raw-results/nebbiolo1

[ICO]NameLast modifiedSizeDescription

[DIR]Parent Directory  -  
[TXT]buildsrc-out.txt23-Sep-2021 04:04 857  
[   ]buildsrc-summary.dcf23-Sep-2021 04:04 407  
[TXT]checksrc-out.txt23-Sep-2021 04:04 3.3K 
[   ]checksrc-summary.dcf23-Sep-2021 04:04 412  
[TXT]install-out.txt23-Sep-2021 04:04 946  
[   ]install-summary.dcf23-Sep-2021 04:04 253