Back to Multiple platform build/check report for BioC 3.13
ABC[D]EFGHIJKLMNOPQRSTUVWXYZ

This page was generated on 2021-06-17 02:39:07 -0400 (Thu, 17 Jun 2021).

BUILD results for DOSE on machv2

To the developers/maintainers of the DOSE package:
- Please allow up to 24 hours (and sometimes 48 hours) for your latest push to git@git.bioconductor.org:packages/DOSE.git to
reflect on this report. See How and When does the builder pull? When will my changes propagate? here for more information.
- Make sure to use the following settings in order to reproduce any error or warning you see on this page.

raw results

Package 528/2041HostnameOS / ArchINSTALLBUILDCHECKBUILD BIN
DOSE 3.18.0  (landing page)
Guangchuang Yu
Snapshot Date: 2021-06-15 06:50:12 -0400 (Tue, 15 Jun 2021)
URL: https://git.bioconductor.org/packages/DOSE
Branch: RELEASE_3_13
Last Commit: db0df15
Last Changed Date: 2021-05-19 11:48:52 -0400 (Wed, 19 May 2021)
nebbiolo1Linux (Ubuntu 20.04.2 LTS) / x86_64  OK    OK    OK  UNNEEDED, same version is already published
tokay2Windows Server 2012 R2 Standard / x64  OK    OK    OK    OK  UNNEEDED, same version is already published
machv2macOS 10.14.6 Mojave / x86_64  OK    OK    OK    OK  UNNEEDED, same version is already published

Summary

Package: DOSE
Version: 3.18.0
Command: /Library/Frameworks/R.framework/Versions/Current/Resources/bin/R CMD build --keep-empty-dirs --no-resave-data DOSE
StartedAt: 2021-06-15 11:37:01 -0400 (Tue, 15 Jun 2021)
EndedAt: 2021-06-15 11:37:52 -0400 (Tue, 15 Jun 2021)
EllapsedTime: 51.1 seconds
RetCode: 0
Status:   OK  
PackageFile: DOSE_3.18.0.tar.gz
PackageFileSize: 6.046 MiB

Command output

##############################################################################
##############################################################################
###
### Running command:
###
###   /Library/Frameworks/R.framework/Versions/Current/Resources/bin/R CMD build --keep-empty-dirs --no-resave-data DOSE
###
##############################################################################
##############################################################################


* checking for file ‘DOSE/DESCRIPTION’ ... OK
* preparing ‘DOSE’:
* checking DESCRIPTION meta-information ... OK
* installing the package to build vignettes
* creating vignettes ... OK
* checking for LF line-endings in source and make files and shell scripts
* checking for empty or unneeded directories
* looking to see if a ‘data/datalist’ file should be added
* building ‘DOSE_3.18.0.tar.gz’