Back to Multiple platform build/check report for BioC 3.13
ABC[D]EFGHIJKLMNOPQRSTUVWXYZ

INSTALL results for DEsubs on nebbiolo1

This page was generated on 2021-06-11 14:05:38 -0400 (Fri, 11 Jun 2021).

Package 488/2041HostnameOS / ArchINSTALLBUILDCHECKBUILD BIN
DEsubs 1.18.0  (landing page)
Aristidis G. Vrahatis , Panos Balomenos
Snapshot Date: 2021-06-10 06:50:12 -0400 (Thu, 10 Jun 2021)
URL: https://git.bioconductor.org/packages/DEsubs
Branch: RELEASE_3_13
Last Commit: 9c8fa85
Last Changed Date: 2021-05-19 12:23:24 -0400 (Wed, 19 May 2021)
nebbiolo1Linux (Ubuntu 20.04.2 LTS) / x86_64  OK    OK    OK  UNNEEDED, same version is already published
tokay2Windows Server 2012 R2 Standard / x64  OK    OK    OK    OK  UNNEEDED, same version is already published
machv2macOS 10.14.6 Mojave / x86_64  OK    OK    OK    OK  UNNEEDED, same version is already published
To the developers/maintainers of the DEsubs package:
- Please allow up to 24 hours (and sometimes 48 hours) for your latest push to git@git.bioconductor.org:packages/DEsubs.git to
reflect on this report. See How and When does the builder pull? When will my changes propagate? here for more information.
- Make sure to use the following settings in order to reproduce any error or warning you see on this page.

Summary

Package: DEsubs
Version: 1.18.0
Command: /home/biocbuild/bbs-3.13-bioc/R/bin/R CMD INSTALL DEsubs
StartedAt: 2021-06-10 08:28:37 -0400 (Thu, 10 Jun 2021)
EndedAt: 2021-06-10 08:29:04 -0400 (Thu, 10 Jun 2021)
EllapsedTime: 26.6 seconds
RetCode: 0
Status:   OK  

Command output

##############################################################################
##############################################################################
###
### Running command:
###
###   /home/biocbuild/bbs-3.13-bioc/R/bin/R CMD INSTALL DEsubs
###
##############################################################################
##############################################################################


* installing to library ‘/home/biocbuild/bbs-3.13-bioc/R/library’
* installing *source* package ‘DEsubs’ ...
** using staged installation
** R
** inst
** byte-compile and prepare package for lazy loading
** help
*** installing help indices
** building package indices
** installing vignettes
** testing if installed package can be loaded from temporary location
** testing if installed package can be loaded from final location
** testing if installed package keeps a record of temporary installation path
* DONE (DEsubs)