Back to Multiple platform build/check report for BioC 3.13
ABC[D]EFGHIJKLMNOPQRSTUVWXYZ

All results for package DEsubs

This page was generated on 2021-06-14 14:04:23 -0400 (Mon, 14 Jun 2021).

Package 488/2041HostnameOS / ArchINSTALLBUILDCHECKBUILD BIN
DEsubs 1.18.0  (landing page)
Aristidis G. Vrahatis , Panos Balomenos
Snapshot Date: 2021-06-13 06:50:09 -0400 (Sun, 13 Jun 2021)
URL: https://git.bioconductor.org/packages/DEsubs
Branch: RELEASE_3_13
Last Commit: 9c8fa85
Last Changed Date: 2021-05-19 12:23:24 -0400 (Wed, 19 May 2021)
nebbiolo1Linux (Ubuntu 20.04.2 LTS) / x86_64  OK    OK    OK  UNNEEDED, same version is already published
tokay2Windows Server 2012 R2 Standard / x64  OK    OK    OK    OK  UNNEEDED, same version is already published
machv2macOS 10.14.6 Mojave / x86_64  OK    OK    OK    OK  UNNEEDED, same version is already published