Back to Multiple platform build/check report for BioC 3.13
ABC[D]EFGHIJKLMNOPQRSTUVWXYZ

This page was generated on 2021-06-18 14:05:44 -0400 (Fri, 18 Jun 2021).

INSTALL results for DAPAR on nebbiolo1

To the developers/maintainers of the DAPAR package:
- Please allow up to 24 hours (and sometimes 48 hours) for your latest push to git@git.bioconductor.org:packages/DAPAR.git to
reflect on this report. See How and When does the builder pull? When will my changes propagate? here for more information.
- Make sure to use the following settings in order to reproduce any error or warning you see on this page.

raw results

Package 442/2041HostnameOS / ArchINSTALLBUILDCHECKBUILD BIN
DAPAR 1.24.4  (landing page)
Samuel Wieczorek
Snapshot Date: 2021-06-17 06:50:12 -0400 (Thu, 17 Jun 2021)
URL: https://git.bioconductor.org/packages/DAPAR
Branch: RELEASE_3_13
Last Commit: 12b8d14
Last Changed Date: 2021-06-08 22:14:55 -0400 (Tue, 08 Jun 2021)
nebbiolo1Linux (Ubuntu 20.04.2 LTS) / x86_64  OK    OK    OK  UNNEEDED, same version is already published
tokay2Windows Server 2012 R2 Standard / x64  OK    OK    OK    OK  UNNEEDED, same version is already published
machv2macOS 10.14.6 Mojave / x86_64  OK    OK    OK    OK  UNNEEDED, same version is already published

Summary

Package: DAPAR
Version: 1.24.4
Command: /home/biocbuild/bbs-3.13-bioc/R/bin/R CMD INSTALL DAPAR
StartedAt: 2021-06-17 08:37:05 -0400 (Thu, 17 Jun 2021)
EndedAt: 2021-06-17 08:37:32 -0400 (Thu, 17 Jun 2021)
EllapsedTime: 26.5 seconds
RetCode: 0
Status:   OK  

Command output

##############################################################################
##############################################################################
###
### Running command:
###
###   /home/biocbuild/bbs-3.13-bioc/R/bin/R CMD INSTALL DAPAR
###
##############################################################################
##############################################################################


* installing to library ‘/home/biocbuild/bbs-3.13-bioc/R/library’
* installing *source* package ‘DAPAR’ ...
** using staged installation
** R
** inst
** byte-compile and prepare package for lazy loading
** help
*** installing help indices
** building package indices
** installing vignettes
** testing if installed package can be loaded from temporary location
** testing if installed package can be loaded from final location
** testing if installed package keeps a record of temporary installation path
* DONE (DAPAR)