Back to Multiple platform build/check report for BioC 3.13
ABC[D]EFGHIJKLMNOPQRSTUVWXYZ

All results for package DAPAR

This page was generated on 2021-06-11 14:05:12 -0400 (Fri, 11 Jun 2021).

Package 442/2041HostnameOS / ArchINSTALLBUILDCHECKBUILD BIN
DAPAR 1.24.4  (landing page)
Samuel Wieczorek
Snapshot Date: 2021-06-10 06:50:12 -0400 (Thu, 10 Jun 2021)
URL: https://git.bioconductor.org/packages/DAPAR
Branch: RELEASE_3_13
Last Commit: 12b8d14
Last Changed Date: 2021-06-08 22:14:55 -0400 (Tue, 08 Jun 2021)
nebbiolo1Linux (Ubuntu 20.04.2 LTS) / x86_64  OK    OK    OK  YES
tokay2Windows Server 2012 R2 Standard / x64  OK    OK    OK    OK  YES
machv2macOS 10.14.6 Mojave / x86_64  OK    OK    OK    OK  YES

Results for Bioconductor software packages that depend directly on package DAPAR

QUICK STATSOS / ArchINSTALLBUILDCHECKBUILD BIN
nebbiolo1Linux (Ubuntu 20.04.2 LTS) / x86_64
001
001
0001
tokay2Windows Server 2012 R2 Standard / x64
001
001
0001
001
machv2macOS 10.14.6 Mojave / x86_64
001
001
0001
001
Package 1/1HostnameOS / ArchINSTALLBUILDCHECKBUILD BIN
Prostar 1.24.4  (landing page)
Samuel Wieczorek
Last Commit: d8cef73
Last Changed Date: 2021-06-09 22:19:55 -0400
nebbiolo1Linux (Ubuntu 20.04.2 LTS) / x86_64  OK    OK    OK  YES
tokay2Windows Server 2012 R2 Standard / x64  OK    OK    OK    OK  YES
machv2macOS 10.14.6 Mojave / x86_64  OK    OK    OK    OK  YES