Back to Multiple platform build/check report for BioC 3.13
AB[C]DEFGHIJKLMNOPQRSTUVWXYZ

This page was generated on 2021-06-18 14:06:40 -0400 (Fri, 18 Jun 2021).

BUILD results for CytoML on machv2

To the developers/maintainers of the CytoML package:
- Please allow up to 24 hours (and sometimes 48 hours) for your latest push to git@git.bioconductor.org:packages/CytoML.git to
reflect on this report. See How and When does the builder pull? When will my changes propagate? here for more information.
- Make sure to use the following settings in order to reproduce any error or warning you see on this page.

raw results

Package 435/2041HostnameOS / ArchINSTALLBUILDCHECKBUILD BIN
CytoML 2.4.0  (landing page)
Mike Jiang
Snapshot Date: 2021-06-17 06:50:12 -0400 (Thu, 17 Jun 2021)
URL: https://git.bioconductor.org/packages/CytoML
Branch: RELEASE_3_13
Last Commit: 6e64d69
Last Changed Date: 2021-05-19 12:21:29 -0400 (Wed, 19 May 2021)
nebbiolo1Linux (Ubuntu 20.04.2 LTS) / x86_64  OK    OK    WARNINGS  UNNEEDED, same version is already published
tokay2Windows Server 2012 R2 Standard / x64  OK    OK    WARNINGS    OK  UNNEEDED, same version is already published
machv2macOS 10.14.6 Mojave / x86_64  OK    OK    WARNINGS    OK  UNNEEDED, same version is already published

Summary

Package: CytoML
Version: 2.4.0
Command: /Library/Frameworks/R.framework/Versions/Current/Resources/bin/R CMD build --keep-empty-dirs --no-resave-data CytoML
StartedAt: 2021-06-17 11:16:26 -0400 (Thu, 17 Jun 2021)
EndedAt: 2021-06-17 11:18:40 -0400 (Thu, 17 Jun 2021)
EllapsedTime: 134.4 seconds
RetCode: 0
Status:   OK  
PackageFile: CytoML_2.4.0.tar.gz
PackageFileSize: 7.886 MiB

Command output

##############################################################################
##############################################################################
###
### Running command:
###
###   /Library/Frameworks/R.framework/Versions/Current/Resources/bin/R CMD build --keep-empty-dirs --no-resave-data CytoML
###
##############################################################################
##############################################################################


* checking for file ‘CytoML/DESCRIPTION’ ... OK
* preparing ‘CytoML’:
* checking DESCRIPTION meta-information ... OK
* cleaning src
* installing the package to build vignettes
* creating vignettes ... OK
* cleaning src
* checking for LF line-endings in source and make files and shell scripts
* checking for empty or unneeded directories
Omitted ‘LazyData’ from DESCRIPTION
  NB: this package now depends on R (>= 3.5.0)
  WARNING: Added dependency on R >= 3.5.0 because serialized objects in
  serialize/load version 3 cannot be read in older versions of R.
  File(s) containing such objects:
    ‘CytoML/tests/testthat/expect_result/flowJoWorkspace_expect.rds’
* building ‘CytoML_2.4.0.tar.gz’