Back to Multiple platform build/check report for BioC 3.13
AB[C]DEFGHIJKLMNOPQRSTUVWXYZ

Multiple platform build/check report for BioC 3.13

All results for package Chicago

This page was generated on 2021-05-15 12:13:58 -0400 (Sat, 15 May 2021).

Package 289/2042HostnameOS / ArchINSTALLBUILDCHECKBUILD BIN
Chicago 1.19.0  (landing page)
Mikhail Spivakov
Snapshot Date: 2021-05-14 14:50:09 -0400 (Fri, 14 May 2021)
URL: https://git.bioconductor.org/packages/Chicago
Branch: master
Last Commit: 23069f1
Last Changed Date: 2021-01-26 12:00:41 -0400 (Tue, 26 Jan 2021)
nebbiolo1Linux (Ubuntu 20.04.2 LTS) / x86_64  OK    OK    OK  UNNEEDED, same version exists in internal repository
riesling1Windows Server 2019 Standard / x64  OK    OK    OK    OK  UNNEEDED, same version exists in internal repository
machv2macOS 10.14.6 Mojave / x86_64  OK    OK    OK    OK  UNNEEDED, same version exists in internal repository