Back to Multiple platform build/check report for BioC 3.13
AB[C]DEFGHIJKLMNOPQRSTUVWXYZ

This page was generated on 2021-08-02 15:04:44 -0400 (Mon, 02 Aug 2021).

CHECK results for ChIPpeakAnno on nebbiolo1

To the developers/maintainers of the ChIPpeakAnno package:
- Please allow up to 24 hours (and sometimes 48 hours) for your latest push to git@git.bioconductor.org:packages/ChIPpeakAnno.git to
reflect on this report. See How and When does the builder pull? When will my changes propagate? here for more information.
- Make sure to use the following settings in order to reproduce any error or warning you see on this page.

raw results

Package 294/2041HostnameOS / ArchINSTALLBUILDCHECKBUILD BIN
ChIPpeakAnno 3.26.2  (landing page)
Jianhong Ou
Snapshot Date: 2021-08-01 04:50:10 -0400 (Sun, 01 Aug 2021)
URL: https://git.bioconductor.org/packages/ChIPpeakAnno
Branch: RELEASE_3_13
Last Commit: da90a6c
Last Changed Date: 2021-07-13 11:27:12 -0400 (Tue, 13 Jul 2021)
nebbiolo1Linux (Ubuntu 20.04.2 LTS) / x86_64  OK    OK    OK  UNNEEDED, same version is already published
tokay2Windows Server 2012 R2 Standard / x64  OK    OK    OK    OK  UNNEEDED, same version is already published
machv2macOS 10.14.6 Mojave / x86_64  OK    OK    OK    OK  UNNEEDED, same version is already published

Summary

Package: ChIPpeakAnno
Version: 3.26.2
Command: /home/biocbuild/bbs-3.13-bioc/R/bin/R CMD check --install=check:ChIPpeakAnno.install-out.txt --library=/home/biocbuild/bbs-3.13-bioc/R/library --no-vignettes --timings ChIPpeakAnno_3.26.2.tar.gz
StartedAt: 2021-08-01 09:10:29 -0400 (Sun, 01 Aug 2021)
EndedAt: 2021-08-01 09:19:03 -0400 (Sun, 01 Aug 2021)
EllapsedTime: 513.9 seconds
RetCode: 0
Status:   OK  
CheckDir: ChIPpeakAnno.Rcheck
Warnings: 0

Command output

##############################################################################
##############################################################################
###
### Running command:
###
###   /home/biocbuild/bbs-3.13-bioc/R/bin/R CMD check --install=check:ChIPpeakAnno.install-out.txt --library=/home/biocbuild/bbs-3.13-bioc/R/library --no-vignettes --timings ChIPpeakAnno_3.26.2.tar.gz
###
##############################################################################
##############################################################################


* using log directory ‘/home/biocbuild/bbs-3.13-bioc/meat/ChIPpeakAnno.Rcheck’
* using R version 4.1.0 (2021-05-18)
* using platform: x86_64-pc-linux-gnu (64-bit)
* using session charset: UTF-8
* using option ‘--no-vignettes’
* checking for file ‘ChIPpeakAnno/DESCRIPTION’ ... OK
* checking extension type ... Package
* this is package ‘ChIPpeakAnno’ version ‘3.26.2’
* package encoding: UTF-8
* checking package namespace information ... OK
* checking package dependencies ... OK
* checking if this is a source package ... OK
* checking if there is a namespace ... OK
* checking for hidden files and directories ... OK
* checking for portable file names ... OK
* checking for sufficient/correct file permissions ... OK
* checking whether package ‘ChIPpeakAnno’ can be installed ... OK
* checking installed package size ... NOTE
  installed size is 17.4Mb
  sub-directories of 1Mb or more:
    data     12.6Mb
    extdata   3.6Mb
* checking package directory ... OK
* checking ‘build’ directory ... OK
* checking DESCRIPTION meta-information ... OK
* checking top-level files ... OK
* checking for left-over files ... OK
* checking index information ... OK
* checking package subdirectories ... OK
* checking R files for non-ASCII characters ... OK
* checking R files for syntax errors ... OK
* checking whether the package can be loaded ... OK
* checking whether the package can be loaded with stated dependencies ... OK
* checking whether the package can be unloaded cleanly ... OK
* checking whether the namespace can be loaded with stated dependencies ... OK
* checking whether the namespace can be unloaded cleanly ... OK
* checking dependencies in R code ... OK
* checking S3 generic/method consistency ... OK
* checking replacement functions ... OK
* checking foreign function calls ... OK
* checking R code for possible problems ... OK
* checking Rd files ... OK
* checking Rd metadata ... OK
* checking Rd cross-references ... OK
* checking for missing documentation entries ... OK
* checking for code/documentation mismatches ... OK
* checking Rd \usage sections ... OK
* checking Rd contents ... OK
* checking for unstated dependencies in examples ... OK
* checking contents of ‘data’ directory ... OK
* checking data for non-ASCII characters ... OK
* checking LazyData ... OK
* checking data for ASCII and uncompressed saves ... OK
* checking files in ‘vignettes’ ... OK
* checking examples ... OK
Examples with CPU (user + system) or elapsed time > 5s
                           user system elapsed
findEnhancers            25.905  0.283  26.191
annotatePeakInBatch      13.883  0.392  14.275
findMotifsInPromoterSeqs 12.021  0.143  12.165
annoPeaks                 3.133  0.280   9.444
* checking for unstated dependencies in ‘tests’ ... OK
* checking tests ...
  Running ‘runTests.R’
 OK
* checking for unstated dependencies in vignettes ... OK
* checking package vignettes in ‘inst/doc’ ... OK
* checking running R code from vignettes ... SKIPPED
* checking re-building of vignette outputs ... SKIPPED
* checking PDF version of manual ... OK
* DONE

Status: 1 NOTE
See
  ‘/home/biocbuild/bbs-3.13-bioc/meat/ChIPpeakAnno.Rcheck/00check.log’
for details.



Installation output

ChIPpeakAnno.Rcheck/00install.out

##############################################################################
##############################################################################
###
### Running command:
###
###   /home/biocbuild/bbs-3.13-bioc/R/bin/R CMD INSTALL ChIPpeakAnno
###
##############################################################################
##############################################################################


* installing to library ‘/home/biocbuild/bbs-3.13-bioc/R/library’
* installing *source* package ‘ChIPpeakAnno’ ...
** using staged installation
** R
** data
*** moving datasets to lazyload DB
** inst
** byte-compile and prepare package for lazy loading
** help
*** installing help indices
** building package indices
** installing vignettes
** testing if installed package can be loaded from temporary location
** testing if installed package can be loaded from final location
** testing if installed package keeps a record of temporary installation path
* DONE (ChIPpeakAnno)

Tests output

ChIPpeakAnno.Rcheck/tests/runTests.Rout


R version 4.1.0 (2021-05-18) -- "Camp Pontanezen"
Copyright (C) 2021 The R Foundation for Statistical Computing
Platform: x86_64-pc-linux-gnu (64-bit)

R is free software and comes with ABSOLUTELY NO WARRANTY.
You are welcome to redistribute it under certain conditions.
Type 'license()' or 'licence()' for distribution details.

R is a collaborative project with many contributors.
Type 'contributors()' for more information and
'citation()' on how to cite R or R packages in publications.

Type 'demo()' for some demos, 'help()' for on-line help, or
'help.start()' for an HTML browser interface to help.
Type 'q()' to quit R.

> require("ChIPpeakAnno") || stop("unable to load Package:ChIPpeakAnno")
Loading required package: ChIPpeakAnno
Loading required package: IRanges
Loading required package: BiocGenerics
Loading required package: parallel

Attaching package: 'BiocGenerics'

The following objects are masked from 'package:parallel':

    clusterApply, clusterApplyLB, clusterCall, clusterEvalQ,
    clusterExport, clusterMap, parApply, parCapply, parLapply,
    parLapplyLB, parRapply, parSapply, parSapplyLB

The following objects are masked from 'package:stats':

    IQR, mad, sd, var, xtabs

The following objects are masked from 'package:base':

    Filter, Find, Map, Position, Reduce, anyDuplicated, append,
    as.data.frame, basename, cbind, colnames, dirname, do.call,
    duplicated, eval, evalq, get, grep, grepl, intersect, is.unsorted,
    lapply, mapply, match, mget, order, paste, pmax, pmax.int, pmin,
    pmin.int, rank, rbind, rownames, sapply, setdiff, sort, table,
    tapply, union, unique, unsplit, which.max, which.min

Loading required package: S4Vectors
Loading required package: stats4

Attaching package: 'S4Vectors'

The following objects are masked from 'package:base':

    I, expand.grid, unname

Loading required package: GenomicRanges
Loading required package: GenomeInfoDb
[1] TRUE
> require("BSgenome.Drerio.UCSC.danRer7") || stop("unable to load Package:BSgenome.Drerio.UCSC.danRer7")
Loading required package: BSgenome.Drerio.UCSC.danRer7
Loading required package: BSgenome
Loading required package: Biostrings
Loading required package: XVector

Attaching package: 'Biostrings'

The following object is masked from 'package:base':

    strsplit

Loading required package: rtracklayer
[1] TRUE
> require("org.Hs.eg.db") || stop("unable to load Package:org.Hs.eg.db")
Loading required package: org.Hs.eg.db
Loading required package: AnnotationDbi
Loading required package: Biobase
Welcome to Bioconductor

    Vignettes contain introductory material; view with
    'browseVignettes()'. To cite Bioconductor, see
    'citation("Biobase")', and for packages 'citation("pkgname")'.


[1] TRUE
> require("org.Ce.eg.db") || stop("unable to load Package:org.Ce.eg.db")
Loading required package: org.Ce.eg.db

[1] TRUE
> require("BSgenome.Celegans.UCSC.ce10") || stop("unable to load Package:BSgenome.Celegans.UCSC.ce10")
Loading required package: BSgenome.Celegans.UCSC.ce10
[1] TRUE
> require("EnsDb.Hsapiens.v79") || stop("unable to load Package:EnsDb.Hsapiens.v79")
Loading required package: EnsDb.Hsapiens.v79
Loading required package: ensembldb
Loading required package: GenomicFeatures
Loading required package: AnnotationFilter

Attaching package: 'ensembldb'

The following object is masked from 'package:stats':

    filter

[1] TRUE
> require("TxDb.Hsapiens.UCSC.hg38.knownGene") || stop("unable to load TxDb.Hsapiens.UCSC.hg38.knownGene")
Loading required package: TxDb.Hsapiens.UCSC.hg38.knownGene
[1] TRUE
> require("biomaRt") || stop("unable to load biomaRt")
Loading required package: biomaRt
[1] TRUE
> require("testthat") || stop("unable to load testthat")
Loading required package: testthat

Attaching package: 'testthat'

The following object is masked from 'package:AnnotationFilter':

    not

[1] TRUE
> test_check("ChIPpeakAnno")
══ Skipped tests ═══════════════════════════════════════════════════════════════
• empty test (5)

[ FAIL 0 | WARN 1 | SKIP 5 | PASS 214 ]
> 
> proc.time()
   user  system elapsed 
118.667   2.896 123.843 

Example timings

ChIPpeakAnno.Rcheck/ChIPpeakAnno-Ex.timings

nameusersystemelapsed
ChIPpeakAnno-package000
ExonPlusUtr.human.GRCh373.6460.1083.754
HOT.spots0.1330.0040.136
IDRfilter0.0010.0000.000
Peaks.Ste12.Replicate10.0520.0080.059
Peaks.Ste12.Replicate20.0210.0000.021
Peaks.Ste12.Replicate30.0180.0040.022
TSS.human.GRCh370.1890.0080.197
TSS.human.GRCh380.1400.0080.148
TSS.human.NCBI360.1020.0200.121
TSS.mouse.GRCm380.0960.0120.108
TSS.mouse.NCBIM370.0920.0040.096
TSS.rat.RGSC3.40.0720.0110.085
TSS.rat.Rnor_5.00.0690.0040.072
TSS.zebrafish.Zv80.0700.0120.082
TSS.zebrafish.Zv90.0810.0120.093
addAncestors1.1280.0521.180
addGeneIDs1.6770.1981.877
addMetadata1.9090.0441.952
annoGR0.0000.0000.001
annoPeaks3.1330.2809.444
annotatePeakInBatch13.883 0.39214.275
annotatedPeak0.0690.0040.073
assignChromosomeRegion0.0010.0000.001
bdp0.0000.0000.001
binOverFeature2.5270.0352.564
binOverGene0.0010.0000.001
binOverRegions000
condenseMatrixByColnames0.0110.0000.011
convert2EntrezID0.3480.0040.351
countPatternInSeqs0.1640.0020.166
cumulativePercentage000
downstreams0.0320.0020.033
egOrgMap000
enrichedGO0.0020.0000.002
enrichmentPlot0.3730.0000.373
estFragmentLength0.0000.0000.001
estLibSize0.0000.0000.001
featureAlignedDistribution0.2650.0030.268
featureAlignedExtendSignal0.0010.0000.001
featureAlignedHeatmap0.3950.0200.416
featureAlignedSignal0.2610.0950.356
findEnhancers25.905 0.28326.191
findMotifsInPromoterSeqs12.021 0.14312.165
findOverlappingPeaks0.0000.0010.001
findOverlapsOfPeaks2.7020.0062.708
genomicElementDistribution0.0010.0010.001
genomicElementUpSetR000
getAllPeakSequence0.6420.0080.650
getAnnotation0.0010.0000.001
getEnrichedGO0.0030.0070.011
getEnrichedPATH0.0010.0000.001
getGO000
getGeneSeq0.0000.0010.002
getUniqueGOidCount0.0000.0020.001
getVennCounts0.0010.0010.001
hyperGtest0.0010.0000.001
makeVennDiagram0.0020.0000.002
mergePlusMinusPeaks000
metagenePlot2.1630.0312.197
myPeakList0.0110.0040.015
oligoFrequency0.1510.0200.171
oligoSummary0.0000.0000.001
peakPermTest0.0010.0000.002
peaksNearBDP0.0000.0000.001
pie10.0010.0040.006
plotBinOverRegions0.0010.0000.001
preparePool0.0010.0000.000
reCenterPeaks0.0420.0000.041
summarizeOverlapsByBins3.1110.3023.098
summarizePatternInPeaks0.6390.0240.662
tileCount0.3040.2120.464
tileGRanges0.2620.1560.062
toGRanges0.1260.0160.142
translatePattern0.0000.0010.001
wgEncodeTfbsV30.2300.0060.238
write2FASTA0.0240.0000.024
xget0.0960.0040.100