Back to Multiple platform build/check report for BioC 3.13
AB[C]DEFGHIJKLMNOPQRSTUVWXYZ

All results for package ChAMP

This page was generated on 2021-06-11 14:05:12 -0400 (Fri, 11 Jun 2021).

Package 283/2041HostnameOS / ArchINSTALLBUILDCHECKBUILD BIN
ChAMP 2.22.0  (landing page)
Yuan Tian
Snapshot Date: 2021-06-10 06:50:12 -0400 (Thu, 10 Jun 2021)
URL: https://git.bioconductor.org/packages/ChAMP
Branch: RELEASE_3_13
Last Commit: 2350b07
Last Changed Date: 2021-05-19 12:01:34 -0400 (Wed, 19 May 2021)
nebbiolo1Linux (Ubuntu 20.04.2 LTS) / x86_64  OK    ERROR  skipped
tokay2Windows Server 2012 R2 Standard / x64  OK    OK    WARNINGS    OK  UNNEEDED, same version is already published
machv2macOS 10.14.6 Mojave / x86_64  OK    OK    WARNINGS    OK  UNNEEDED, same version is already published