Back to Multiple platform build/check report for BioC 3.13
AB[C]DEFGHIJKLMNOPQRSTUVWXYZ

INSTALL results for CellNOptR on machv2

This page was generated on 2021-06-11 14:06:28 -0400 (Fri, 11 Jun 2021).

Package 266/2041HostnameOS / ArchINSTALLBUILDCHECKBUILD BIN
CellNOptR 1.38.0  (landing page)
A.Gabor
Snapshot Date: 2021-06-10 06:50:12 -0400 (Thu, 10 Jun 2021)
URL: https://git.bioconductor.org/packages/CellNOptR
Branch: RELEASE_3_13
Last Commit: 8e211e0
Last Changed Date: 2021-05-19 11:50:40 -0400 (Wed, 19 May 2021)
nebbiolo1Linux (Ubuntu 20.04.2 LTS) / x86_64  OK    OK    WARNINGS  UNNEEDED, same version is already published
tokay2Windows Server 2012 R2 Standard / x64  OK    OK    WARNINGS    OK  UNNEEDED, same version is already published
machv2macOS 10.14.6 Mojave / x86_64  OK    OK    WARNINGS    OK  UNNEEDED, same version is already published
To the developers/maintainers of the CellNOptR package:
- Please allow up to 24 hours (and sometimes 48 hours) for your latest push to git@git.bioconductor.org:packages/CellNOptR.git to
reflect on this report. See How and When does the builder pull? When will my changes propagate? here for more information.
- Make sure to use the following settings in order to reproduce any error or warning you see on this page.

Summary

Package: CellNOptR
Version: 1.38.0
Command: /Library/Frameworks/R.framework/Versions/Current/Resources/bin/R CMD INSTALL CellNOptR
StartedAt: 2021-06-10 08:48:06 -0400 (Thu, 10 Jun 2021)
EndedAt: 2021-06-10 08:48:43 -0400 (Thu, 10 Jun 2021)
EllapsedTime: 37.4 seconds
RetCode: 0
Status:   OK  

Command output

##############################################################################
##############################################################################
###
### Running command:
###
###   /Library/Frameworks/R.framework/Versions/Current/Resources/bin/R CMD INSTALL CellNOptR
###
##############################################################################
##############################################################################


* installing to library ‘/Library/Frameworks/R.framework/Versions/4.1/Resources/library’
* installing *source* package ‘CellNOptR’ ...
** using staged installation
** libs
clang -mmacosx-version-min=10.13 -I"/Library/Frameworks/R.framework/Resources/include" -DNDEBUG   -I/usr/local/include  -I./include  -fPIC  -Wall -g -O2  -c getFit.c -o getFit.o
getFit.c:40:6: warning: unused variable 'or_max' [-Wunused-variable]
        int or_max = 0;
            ^
getFit.c:47:6: warning: unused variable 'nReacs' [-Wunused-variable]
        int nReacs = INTEGER(nReacs_in)[0];
            ^
getFit.c:39:6: warning: unused variable 'curr_max' [-Wunused-variable]
        int curr_max = 0;
            ^
getFit.c:42:6: warning: unused variable 'selCounter' [-Wunused-variable]
        int selCounter = 0;
            ^
getFit.c:41:6: warning: unused variable 'selection' [-Wunused-variable]
        int selection[40];
            ^
5 warnings generated.
clang -mmacosx-version-min=10.13 -I"/Library/Frameworks/R.framework/Resources/include" -DNDEBUG   -I/usr/local/include  -I./include  -fPIC  -Wall -g -O2  -c simulatorT1.c -o simulatorT1.o
clang -mmacosx-version-min=10.13 -I"/Library/Frameworks/R.framework/Resources/include" -DNDEBUG   -I/usr/local/include  -I./include  -fPIC  -Wall -g -O2  -c simulatorTN.c -o simulatorTN.o
simulatorTN.c:303:24: warning: equality comparison with extraneous parentheses [-Wparentheses-equality]
        if((track_cond == nCond)) {
            ~~~~~~~~~~~^~~~~~~~
simulatorTN.c:303:24: note: remove extraneous parentheses around the comparison to silence this warning
        if((track_cond == nCond)) {
           ~           ^       ~
simulatorTN.c:303:24: note: use '=' to turn this equality comparison into an assignment
        if((track_cond == nCond)) {
                       ^~
                       =
simulatorTN.c:501:28: warning: equality comparison with extraneous parentheses [-Wparentheses-equality]
            if((track_cond == nCond)) {
                ~~~~~~~~~~~^~~~~~~~
simulatorTN.c:501:28: note: remove extraneous parentheses around the comparison to silence this warning
            if((track_cond == nCond)) {
               ~           ^       ~
simulatorTN.c:501:28: note: use '=' to turn this equality comparison into an assignment
            if((track_cond == nCond)) {
                           ^~
                           =
2 warnings generated.
clang -mmacosx-version-min=10.13 -dynamiclib -Wl,-headerpad_max_install_names -undefined dynamic_lookup -single_module -multiply_defined suppress -L/Library/Frameworks/R.framework/Resources/lib -L/usr/local/lib -o CellNOptR.so getFit.o simulatorT1.o simulatorTN.o -F/Library/Frameworks/R.framework/.. -framework R -Wl,-framework -Wl,CoreFoundation
installing to /Library/Frameworks/R.framework/Versions/4.1/Resources/library/00LOCK-CellNOptR/00new/CellNOptR/libs
** R
** data
** inst
** byte-compile and prepare package for lazy loading
** help
*** installing help indices
** building package indices
** installing vignettes
** testing if installed package can be loaded from temporary location
** checking absolute paths in shared objects and dynamic libraries
** testing if installed package can be loaded from final location
** testing if installed package keeps a record of temporary installation path
* DONE (CellNOptR)