Back to Multiple platform build/check report for BioC 3.13
AB[C]DEFGHIJKLMNOPQRSTUVWXYZ

CHECK results for Category on nebbiolo1

This page was generated on 2021-06-11 14:05:36 -0400 (Fri, 11 Jun 2021).

Package 245/2041HostnameOS / ArchINSTALLBUILDCHECKBUILD BIN
Category 2.58.0  (landing page)
Bioconductor Package Maintainer
Snapshot Date: 2021-06-10 06:50:12 -0400 (Thu, 10 Jun 2021)
URL: https://git.bioconductor.org/packages/Category
Branch: RELEASE_3_13
Last Commit: 5a966e0
Last Changed Date: 2021-05-19 11:35:55 -0400 (Wed, 19 May 2021)
nebbiolo1Linux (Ubuntu 20.04.2 LTS) / x86_64  OK    OK    OK  UNNEEDED, same version is already published
tokay2Windows Server 2012 R2 Standard / x64  OK    OK    OK    OK  UNNEEDED, same version is already published
machv2macOS 10.14.6 Mojave / x86_64  OK    OK    OK    OK  UNNEEDED, same version is already published
To the developers/maintainers of the Category package:
- Please allow up to 24 hours (and sometimes 48 hours) for your latest push to git@git.bioconductor.org:packages/Category.git to
reflect on this report. See How and When does the builder pull? When will my changes propagate? here for more information.
- Make sure to use the following settings in order to reproduce any error or warning you see on this page.

Summary

Package: Category
Version: 2.58.0
Command: /home/biocbuild/bbs-3.13-bioc/R/bin/R CMD check --install=check:Category.install-out.txt --library=/home/biocbuild/bbs-3.13-bioc/R/library --no-vignettes --timings Category_2.58.0.tar.gz
StartedAt: 2021-06-10 11:19:49 -0400 (Thu, 10 Jun 2021)
EndedAt: 2021-06-10 11:23:14 -0400 (Thu, 10 Jun 2021)
EllapsedTime: 205.3 seconds
RetCode: 0
Status:   OK  
CheckDir: Category.Rcheck
Warnings: 0

Command output

##############################################################################
##############################################################################
###
### Running command:
###
###   /home/biocbuild/bbs-3.13-bioc/R/bin/R CMD check --install=check:Category.install-out.txt --library=/home/biocbuild/bbs-3.13-bioc/R/library --no-vignettes --timings Category_2.58.0.tar.gz
###
##############################################################################
##############################################################################


* using log directory ‘/home/biocbuild/bbs-3.13-bioc/meat/Category.Rcheck’
* using R version 4.1.0 (2021-05-18)
* using platform: x86_64-pc-linux-gnu (64-bit)
* using session charset: UTF-8
* using option ‘--no-vignettes’
* checking for file ‘Category/DESCRIPTION’ ... OK
* this is package ‘Category’ version ‘2.58.0’
* checking package namespace information ... OK
* checking package dependencies ... OK
* checking if this is a source package ... OK
* checking if there is a namespace ... OK
* checking for hidden files and directories ... OK
* checking for portable file names ... OK
* checking for sufficient/correct file permissions ... OK
* checking whether package ‘Category’ can be installed ... OK
* checking installed package size ... OK
* checking package directory ... OK
* checking ‘build’ directory ... OK
* checking DESCRIPTION meta-information ... OK
* checking top-level files ... OK
* checking for left-over files ... OK
* checking index information ... OK
* checking package subdirectories ... OK
* checking R files for non-ASCII characters ... OK
* checking R files for syntax errors ... OK
* checking whether the package can be loaded ... OK
* checking whether the package can be loaded with stated dependencies ... OK
* checking whether the package can be unloaded cleanly ... OK
* checking whether the namespace can be loaded with stated dependencies ... OK
* checking whether the namespace can be unloaded cleanly ... OK
* checking dependencies in R code ... OK
* checking S3 generic/method consistency ... OK
* checking replacement functions ... OK
* checking foreign function calls ... OK
* checking R code for possible problems ... OK
* checking Rd files ... OK
* checking Rd metadata ... OK
* checking Rd cross-references ... NOTE
Unknown package ‘KEGG.db’ in Rd xrefs
* checking for missing documentation entries ... OK
* checking for code/documentation mismatches ... OK
* checking Rd \usage sections ... OK
* checking Rd contents ... OK
* checking for unstated dependencies in examples ... OK
* checking files in ‘vignettes’ ... OK
* checking examples ... OK
* checking for unstated dependencies in ‘tests’ ... OK
* checking tests ...
  Running ‘runTests.R’
 OK
* checking for unstated dependencies in vignettes ... OK
* checking package vignettes in ‘inst/doc’ ... OK
* checking running R code from vignettes ... SKIPPED
* checking re-building of vignette outputs ... SKIPPED
* checking PDF version of manual ... OK
* DONE

Status: 1 NOTE
See
  ‘/home/biocbuild/bbs-3.13-bioc/meat/Category.Rcheck/00check.log’
for details.



Installation output

Category.Rcheck/00install.out

##############################################################################
##############################################################################
###
### Running command:
###
###   /home/biocbuild/bbs-3.13-bioc/R/bin/R CMD INSTALL Category
###
##############################################################################
##############################################################################


* installing to library ‘/home/biocbuild/bbs-3.13-bioc/R/library’
* installing *source* package ‘Category’ ...
** using staged installation
** R
** inst
** byte-compile and prepare package for lazy loading
** help
*** installing help indices
** building package indices
** installing vignettes
** testing if installed package can be loaded from temporary location
** testing if installed package can be loaded from final location
** testing if installed package keeps a record of temporary installation path
* DONE (Category)

Tests output

Category.Rcheck/tests/runTests.Rout


R version 4.1.0 (2021-05-18) -- "Camp Pontanezen"
Copyright (C) 2021 The R Foundation for Statistical Computing
Platform: x86_64-pc-linux-gnu (64-bit)

R is free software and comes with ABSOLUTELY NO WARRANTY.
You are welcome to redistribute it under certain conditions.
Type 'license()' or 'licence()' for distribution details.

R is a collaborative project with many contributors.
Type 'contributors()' for more information and
'citation()' on how to cite R or R packages in publications.

Type 'demo()' for some demos, 'help()' for on-line help, or
'help.start()' for an HTML browser interface to help.
Type 'q()' to quit R.

> require("Category") || stop("unable to load Category")
Loading required package: Category
Loading required package: stats4
Loading required package: BiocGenerics
Loading required package: parallel

Attaching package: 'BiocGenerics'

The following objects are masked from 'package:parallel':

    clusterApply, clusterApplyLB, clusterCall, clusterEvalQ,
    clusterExport, clusterMap, parApply, parCapply, parLapply,
    parLapplyLB, parRapply, parSapply, parSapplyLB

The following objects are masked from 'package:stats':

    IQR, mad, sd, var, xtabs

The following objects are masked from 'package:base':

    Filter, Find, Map, Position, Reduce, anyDuplicated, append,
    as.data.frame, basename, cbind, colnames, dirname, do.call,
    duplicated, eval, evalq, get, grep, grepl, intersect, is.unsorted,
    lapply, mapply, match, mget, order, paste, pmax, pmax.int, pmin,
    pmin.int, rank, rbind, rownames, sapply, setdiff, sort, table,
    tapply, union, unique, unsplit, which.max, which.min

Loading required package: AnnotationDbi
Loading required package: Biobase
Welcome to Bioconductor

    Vignettes contain introductory material; view with
    'browseVignettes()'. To cite Bioconductor, see
    'citation("Biobase")', and for packages 'citation("pkgname")'.

Loading required package: IRanges
Loading required package: S4Vectors

Attaching package: 'S4Vectors'

The following objects are masked from 'package:base':

    I, expand.grid, unname

Loading required package: Matrix

Attaching package: 'Matrix'

The following object is masked from 'package:S4Vectors':

    expand

[1] TRUE
> BiocGenerics:::testPackage("Category", "UnitTests", ".*_test\\.R$")
Loading required package: org.Hs.eg.db



'select()' returned 1:many mapping between keys and columns
'select()' returned 1:many mapping between keys and columns
'select()' returned 1:many mapping between keys and columns
Loading required package: graph


Attaching package: 'GOstats'

The following object is masked from 'package:AnnotationDbi':

    makeGOGraph



RUNIT TEST PROTOCOL -- Thu Jun 10 11:23:10 2021 
*********************************************** 
Number of test functions: 14 
Number of errors: 0 
Number of failures: 0 

 
1 Test Suite : 
Category RUnit Tests - 14 test functions, 0 errors, 0 failures
Number of test functions: 14 
Number of errors: 0 
Number of failures: 0 
Warning messages:
1: In makeValidParams(.Object) : removing duplicate IDs in geneIds
2: In makeValidParams(.Object) : removing duplicate IDs in universeGeneIds
3: In makeValidParams(.Object) : removing geneIds not in universeGeneIds
4: In makeValidParams(.Object) : removing duplicate IDs in geneIds
5: In makeValidParams(.Object) : removing duplicate IDs in universeGeneIds
6: In makeValidParams(.Object) : removing geneIds not in universeGeneIds
7: In makeValidParams(.Object) :
  converting geneIds from list to atomic vector via unlist
8: In makeValidParams(.Object) :
  converting univ from list to atomic vector via unlist
9: In makeValidParams(.Object) : removing duplicate IDs in universeGeneIds
> 
> proc.time()
   user  system elapsed 
 46.280  12.311  58.590 

Example timings

Category.Rcheck/Category-Ex.timings

nameusersystemelapsed
ChrBandTree-class4.2420.1804.422
ChrMapHyperGParams-class0.0000.0020.002
ChrMapHyperGResult-class0.0010.0000.001
ChrMapLinearMParams-class0.0010.0000.001
ChrMapLinearMResult-class0.0000.0010.001
DatPkg-class0.0360.0070.042
HyperGResult-accessors0.8490.0350.883
LinearMResult-class0.0010.0000.001
MAPAmat2.8220.0482.870
applyByCategory0.0040.0000.004
cateGOryMatrix0.2430.0320.275
cb_parse_band_Hs0.0010.0000.000
cb_parse_band_Mm0.0010.0000.000
findAMstats0.0000.0010.001
getPathNames0.0330.0021.409
gseattperm1.2390.0401.281
hyperg0.4950.0240.519
makeChrBandGraph1.7910.0801.871
makeEBcontr0.1770.0220.197
probes2MAP0.1310.0000.131
probes2Path0.0470.0000.048
ttperm0.0050.0080.013